BEGIN:VCALENDAR
VERSION:2.0
PRODID:-//CLRCS - ECPv6.15.20//NONSGML v1.0//EN
CALSCALE:GREGORIAN
METHOD:PUBLISH
X-WR-CALNAME:CLRCS
X-ORIGINAL-URL:https://www.clrcs.com
X-WR-CALDESC:Events for CLRCS
REFRESH-INTERVAL;VALUE=DURATION:PT1H
X-Robots-Tag:noindex
X-PUBLISHED-TTL:PT1H
BEGIN:VTIMEZONE
TZID:America/Toronto
BEGIN:DAYLIGHT
TZOFFSETFROM:-0500
TZOFFSETTO:-0400
TZNAME:EDT
DTSTART:20230312T070000
END:DAYLIGHT
BEGIN:STANDARD
TZOFFSETFROM:-0400
TZOFFSETTO:-0500
TZNAME:EST
DTSTART:20231105T060000
END:STANDARD
BEGIN:DAYLIGHT
TZOFFSETFROM:-0500
TZOFFSETTO:-0400
TZNAME:EDT
DTSTART:20240310T070000
END:DAYLIGHT
BEGIN:STANDARD
TZOFFSETFROM:-0400
TZOFFSETTO:-0500
TZNAME:EST
DTSTART:20241103T060000
END:STANDARD
BEGIN:DAYLIGHT
TZOFFSETFROM:-0500
TZOFFSETTO:-0400
TZNAME:EDT
DTSTART:20250309T070000
END:DAYLIGHT
BEGIN:STANDARD
TZOFFSETFROM:-0400
TZOFFSETTO:-0500
TZNAME:EST
DTSTART:20251102T060000
END:STANDARD
BEGIN:DAYLIGHT
TZOFFSETFROM:-0500
TZOFFSETTO:-0400
TZNAME:EDT
DTSTART:20260308T070000
END:DAYLIGHT
BEGIN:STANDARD
TZOFFSETFROM:-0400
TZOFFSETTO:-0500
TZNAME:EST
DTSTART:20261101T060000
END:STANDARD
END:VTIMEZONE
BEGIN:VEVENT
DTSTART;TZID=America/Toronto:20250623T180000
DTEND;TZID=America/Toronto:20250623T210000
DTSTAMP:20260423T182421
CREATED:20250515T153119Z
LAST-MODIFIED:20250515T153119Z
UID:10001591-1750701600-1750712400@www.clrcs.com
SUMMARY:Annual General Meeting
DESCRIPTION:Join us for our Annual General Meeting on June 23\, 2025 @ 6 pm.
URL:https://www.clrcs.com/event/annual-general-meeting/
LOCATION:Trinity-St. Andrew’s United Church\, 291 Plaunt Street South\, Renfrew\, Ontario\, K7V 1N2\, Canada
END:VEVENT
BEGIN:VEVENT
DTSTART;TZID=America/Toronto:20250616T180000
DTEND;TZID=America/Toronto:20250616T200000
DTSTAMP:20260423T182421
CREATED:20250514T163136Z
LAST-MODIFIED:20250514T174901Z
UID:10001586-1750096800-1750104000@www.clrcs.com
SUMMARY:AGM 2025
DESCRIPTION:MONDAY\, JUNE 23\, 2025 @ 6 PM \nSTEWART HALL\nTRINITY-ST. ANDREWS\n291 PLAUNT ST. S. RENFREW\, ON \nIf you plan on attending this event\, please RSVP to info@clrcs.com by June 16\, 2025. \nIf you have questions regarding our Strategic Priorities\, please submit your questions info@clrcs.com by June 16\, 2025. \nDownload Poster
URL:https://www.clrcs.com/event/agm-2025/
LOCATION:Trinity-St. Andrew’s United Church\, 291 Plaunt Street South\, Renfrew\, Ontario\, K7V 1N2\, Canada
ATTACH;FMTTYPE=image/jpeg:https://www.clrcs.com/wp2024/wp-content/uploads/2025/05/AGM_Banner_1.jpg
ORGANIZER;CN="Jen Tabar":MAILTO:jtabar@clrcs.com
END:VEVENT
BEGIN:VEVENT
DTSTART;TZID=America/Toronto:20250225T113000
DTEND;TZID=America/Toronto:20250225T123000
DTSTAMP:20260423T182421
CREATED:20250114T154807Z
LAST-MODIFIED:20250114T154807Z
UID:10001583-1740483000-1740486600@www.clrcs.com
SUMMARY:Community Friendship Meal
DESCRIPTION:Enjoy a free lunch – Heart Health Month – Chili with cornbread crust\, macaroni and cheese and red desserts.
URL:https://www.clrcs.com/event/community-friendship-meal-10/
LOCATION:Trinity-St. Andrew’s United Church\, 291 Plaunt Street South\, Renfrew\, Ontario\, K7V 1N2\, Canada
END:VEVENT
BEGIN:VEVENT
DTSTART;TZID=America/Toronto:20250225T113000
DTEND;TZID=America/Toronto:20250225T123000
DTSTAMP:20260423T182421
CREATED:20250113T160317Z
LAST-MODIFIED:20250113T160317Z
UID:10001576-1740483000-1740486600@www.clrcs.com
SUMMARY:
DESCRIPTION:Community Friendship Meal at Trinity St. Andrews \nChili today!
URL:https://www.clrcs.com/event/225344/
LOCATION:Trinity-St. Andrew’s United Church\, 291 Plaunt Street South\, Renfrew\, Ontario\, K7V 1N2\, Canada
END:VEVENT
BEGIN:VEVENT
DTSTART;TZID=America/Toronto:20250128T113000
DTEND;TZID=America/Toronto:20250128T123000
DTSTAMP:20260423T182421
CREATED:20250114T154346Z
LAST-MODIFIED:20250114T154346Z
UID:10001582-1738063800-1738067400@www.clrcs.com
SUMMARY:Community Friendship Meal
DESCRIPTION:Enjoy a free lunch – today will be: Ring in the Chinese New Year with Chinese Food!
URL:https://www.clrcs.com/event/community-friendship-meal-9/
LOCATION:Trinity-St. Andrew’s United Church\, 291 Plaunt Street South\, Renfrew\, Ontario\, K7V 1N2\, Canada
END:VEVENT
BEGIN:VEVENT
DTSTART;TZID=America/Toronto:20250128T113000
DTEND;TZID=America/Toronto:20250128T123000
DTSTAMP:20260423T182421
CREATED:20250113T160222Z
LAST-MODIFIED:20250113T160222Z
UID:10001575-1738063800-1738067400@www.clrcs.com
SUMMARY:
DESCRIPTION:Community Friendship Meal \nChinese Food today!
URL:https://www.clrcs.com/event/225342/
LOCATION:Trinity-St. Andrew’s United Church\, 291 Plaunt Street South\, Renfrew\, Ontario\, K7V 1N2\, Canada
END:VEVENT
BEGIN:VEVENT
DTSTART;TZID=America/Toronto:20241126T113000
DTEND;TZID=America/Toronto:20241126T123000
DTSTAMP:20260423T182421
CREATED:20241105T155507Z
LAST-MODIFIED:20241105T155507Z
UID:10001573-1732620600-1732624200@www.clrcs.com
SUMMARY:Community Friendship Meal
DESCRIPTION:Free lunch: Cheeseburger casserole\, coleslaw and pies!
URL:https://www.clrcs.com/event/community-friendship-meal-3/
LOCATION:Trinity-St. Andrew’s United Church\, 291 Plaunt Street South\, Renfrew\, Ontario\, K7V 1N2\, Canada
END:VEVENT
END:VCALENDAR