BEGIN:VCALENDAR
VERSION:2.0
PRODID:-//CLRCS - ECPv6.15.20//NONSGML v1.0//EN
CALSCALE:GREGORIAN
METHOD:PUBLISH
X-WR-CALNAME:CLRCS
X-ORIGINAL-URL:https://www.clrcs.com
X-WR-CALDESC:Events for CLRCS
REFRESH-INTERVAL;VALUE=DURATION:PT1H
X-Robots-Tag:noindex
X-PUBLISHED-TTL:PT1H
BEGIN:VTIMEZONE
TZID:America/Toronto
BEGIN:DAYLIGHT
TZOFFSETFROM:-0500
TZOFFSETTO:-0400
TZNAME:EDT
DTSTART:20240310T070000
END:DAYLIGHT
BEGIN:STANDARD
TZOFFSETFROM:-0400
TZOFFSETTO:-0500
TZNAME:EST
DTSTART:20241103T060000
END:STANDARD
BEGIN:DAYLIGHT
TZOFFSETFROM:-0500
TZOFFSETTO:-0400
TZNAME:EDT
DTSTART:20250309T070000
END:DAYLIGHT
BEGIN:STANDARD
TZOFFSETFROM:-0400
TZOFFSETTO:-0500
TZNAME:EST
DTSTART:20251102T060000
END:STANDARD
BEGIN:DAYLIGHT
TZOFFSETFROM:-0500
TZOFFSETTO:-0400
TZNAME:EDT
DTSTART:20260308T070000
END:DAYLIGHT
BEGIN:STANDARD
TZOFFSETFROM:-0400
TZOFFSETTO:-0500
TZNAME:EST
DTSTART:20261101T060000
END:STANDARD
END:VTIMEZONE
BEGIN:VEVENT
DTSTART;TZID=America/Toronto:20250922T130000
DTEND;TZID=America/Toronto:20250922T140000
DTSTAMP:20260423T063930
CREATED:20241104T204044Z
LAST-MODIFIED:20241104T204227Z
UID:10000051-1758546000-1758549600@www.clrcs.com
SUMMARY:Renfrew Legion Seniors Darts
DESCRIPTION:Come out for an afternoon of fun and friendship!
URL:https://www.clrcs.com/event/225234/2025-09-22/
LOCATION:Royal Canadian Legion Branch #148\, 30 Raglan St. S.\, Renfrew\, ON\, K7V1P7\, Canada
END:VEVENT
BEGIN:VEVENT
DTSTART;TZID=America/Toronto:20250924T103000
DTEND;TZID=America/Toronto:20250924T113000
DTSTAMP:20260423T063930
CREATED:20241104T204636Z
LAST-MODIFIED:20241104T204636Z
UID:10000312-1758709800-1758713400@www.clrcs.com
SUMMARY:Opeongo Bowldrome
DESCRIPTION:Join a game for only $4.25!!
URL:https://www.clrcs.com/event/opeongo-bowldrome/2025-09-24/
LOCATION:Opeongo Bowldrome\, 233 Raglan St. S.\, Renfrew\, ON\, K7V1R3\, Canada
END:VEVENT
BEGIN:VEVENT
DTSTART;TZID=America/Toronto:20250924T133000
DTEND;TZID=America/Toronto:20250924T143000
DTSTAMP:20260423T063930
CREATED:20250702T154446Z
LAST-MODIFIED:20250702T154447Z
UID:10000573-1758720600-1758724200@www.clrcs.com
SUMMARY:Free Bingo
DESCRIPTION:Free Bingo every Wednesday at Ma-Te-Way Park at the splash pad. (myFM Centre)
URL:https://www.clrcs.com/event/free-bingo-2/2025-09-24/
LOCATION:myFM Centre\, 1 Ma-te-way Park Drive\, Renfrew\, Ontario\, K7V 4J4\, Canada
END:VEVENT
BEGIN:VEVENT
DTSTART;TZID=America/Toronto:20250925T133000
DTEND;TZID=America/Toronto:20250925T143000
DTSTAMP:20260423T063930
CREATED:20241105T152548Z
LAST-MODIFIED:20241105T152548Z
UID:10001095-1758807000-1758810600@www.clrcs.com
SUMMARY:Billiards
DESCRIPTION:Free drop in Billiards every Thursday at the Royal Canadian Legion Renfrew.
URL:https://www.clrcs.com/event/billiards/2025-09-25/
LOCATION:Royal Canadian Legion Branch #148\, 30 Raglan St. S.\, Renfrew\, ON\, K7V1P7\, Canada
END:VEVENT
BEGIN:VEVENT
DTSTART;TZID=America/Toronto:20250926T131500
DTEND;TZID=America/Toronto:20250926T143000
DTSTAMP:20260423T063930
CREATED:20241105T152731Z
LAST-MODIFIED:20241105T152731Z
UID:10001356-1758892500-1758897000@www.clrcs.com
SUMMARY:Bowling
DESCRIPTION:Only $4.25 per game!
URL:https://www.clrcs.com/event/bowling/2025-09-26/
LOCATION:Opeongo Bowldrome\, 233 Raglan St. S.\, Renfrew\, ON\, K7V1R3\, Canada
END:VEVENT
BEGIN:VEVENT
DTSTART;VALUE=DATE:20250928
DTEND;VALUE=DATE:20250929
DTSTAMP:20260423T063930
CREATED:20250407T194554Z
LAST-MODIFIED:20250423T150636Z
UID:10001584-1759017600-1759103999@www.clrcs.com
SUMMARY:The Unity Run 2025
DESCRIPTION:Annual Unity Run hosted by Community Living Renfrew County South \nDate: September 28\, 2025 \nRegistration: 7:15 a.m to 8 a.m.\nStart Time: 8:30 am \nLocation: myFM Centre\n1 Ma-Te-Way Park Dr.\nRenfrew\, Ontario\nK7V 4J4 \nFees: 1k- $25 5k- $50 10K- $50 \nRegister Online @ https://raceroster.com/events/2025/103876/unity-run \nRegistration forms can also be picked up in person at our Main Offices: 326 Raglan St S. Renfrew and 106 McGonigal St. Arnprior \n*** All proceeds from this event will go directly to our Opportunities Fund ***
URL:https://www.clrcs.com/event/the-unity-run-2025/
LOCATION:myFM Centre\, 1 Ma-te-way Park Drive\, Renfrew\, Ontario\, K7V 4J4\, Canada
ATTACH;FMTTYPE=image/jpeg:https://www.clrcs.com/wp2024/wp-content/uploads/2025/04/2025_Unity_Run_Banner_1.jpg
END:VEVENT
END:VCALENDAR