BEGIN:VCALENDAR
VERSION:2.0
PRODID:-//CLRCS - ECPv6.15.20//NONSGML v1.0//EN
CALSCALE:GREGORIAN
METHOD:PUBLISH
X-ORIGINAL-URL:https://www.clrcs.com
X-WR-CALDESC:Events for CLRCS
REFRESH-INTERVAL;VALUE=DURATION:PT1H
X-Robots-Tag:noindex
X-PUBLISHED-TTL:PT1H
BEGIN:VTIMEZONE
TZID:America/Toronto
BEGIN:DAYLIGHT
TZOFFSETFROM:-0500
TZOFFSETTO:-0400
TZNAME:EDT
DTSTART:20240310T070000
END:DAYLIGHT
BEGIN:STANDARD
TZOFFSETFROM:-0400
TZOFFSETTO:-0500
TZNAME:EST
DTSTART:20241103T060000
END:STANDARD
BEGIN:DAYLIGHT
TZOFFSETFROM:-0500
TZOFFSETTO:-0400
TZNAME:EDT
DTSTART:20250309T070000
END:DAYLIGHT
BEGIN:STANDARD
TZOFFSETFROM:-0400
TZOFFSETTO:-0500
TZNAME:EST
DTSTART:20251102T060000
END:STANDARD
BEGIN:DAYLIGHT
TZOFFSETFROM:-0500
TZOFFSETTO:-0400
TZNAME:EDT
DTSTART:20260308T070000
END:DAYLIGHT
BEGIN:STANDARD
TZOFFSETFROM:-0400
TZOFFSETTO:-0500
TZNAME:EST
DTSTART:20261101T060000
END:STANDARD
END:VTIMEZONE
BEGIN:VEVENT
DTSTART;TZID=America/Toronto:20250519T130000
DTEND;TZID=America/Toronto:20250519T140000
DTSTAMP:20260423T210239
CREATED:20241104T204044Z
LAST-MODIFIED:20241104T204227Z
UID:10000033-1747659600-1747663200@www.clrcs.com
SUMMARY:Renfrew Legion Seniors Darts
DESCRIPTION:Come out for an afternoon of fun and friendship!
URL:https://www.clrcs.com/event/225234/2025-05-19/
LOCATION:Royal Canadian Legion Branch #148\, 30 Raglan St. S.\, Renfrew\, ON\, K7V1P7\, Canada
END:VEVENT
BEGIN:VEVENT
DTSTART;TZID=America/Toronto:20250521T103000
DTEND;TZID=America/Toronto:20250521T113000
DTSTAMP:20260423T210239
CREATED:20241104T204636Z
LAST-MODIFIED:20241104T204636Z
UID:10000294-1747823400-1747827000@www.clrcs.com
SUMMARY:Opeongo Bowldrome
DESCRIPTION:Join a game for only $4.25!!
URL:https://www.clrcs.com/event/opeongo-bowldrome/2025-05-21/
LOCATION:Opeongo Bowldrome\, 233 Raglan St. S.\, Renfrew\, ON\, K7V1R3\, Canada
END:VEVENT
BEGIN:VEVENT
DTSTART;TZID=America/Toronto:20250521T133000
DTEND;TZID=America/Toronto:20250521T143000
DTSTAMP:20260423T210239
CREATED:20241104T204942Z
LAST-MODIFIED:20250702T154348Z
UID:10000555-1747834200-1747837800@www.clrcs.com
SUMMARY:Free Bingo
DESCRIPTION:Free Bingo every Wednesday at Ma-Te-Way Park at the splash pad. (myFM Centre)
URL:https://www.clrcs.com/event/free-bingo/2025-05-21/
LOCATION:myFM Centre\, 1 Ma-te-way Park Drive\, Renfrew\, Ontario\, K7V 4J4\, Canada
END:VEVENT
BEGIN:VEVENT
DTSTART;TZID=America/Toronto:20250521T180000
DTEND;TZID=America/Toronto:20250521T200000
DTSTAMP:20260423T210239
CREATED:20250514T170117Z
LAST-MODIFIED:20250514T170117Z
UID:10001587-1747850400-1747857600@www.clrcs.com
SUMMARY:Community & Family Spring Forum
DESCRIPTION:Our agenda will include: \n\nCLRCS Update\nDS Sector Update\nGuest Speaker Marcel St. Jean\nMarcel brings over 50 years of experience in the DS sector\, both provincially and nationally.\nClosing institutions\, avoiding premature admittance to Long-Term Care facilities and aging in place are topp of his many advocacy efforts today\n\nMay 21\, 2025 at 6 p.m. \nmyFM Centre – Multi-purpose Room #1\n1 Ma-Te_way Park Drive\, Renfrew\, Ontario \nRSVP to info@clrcs.com or call 613-432-6763 by May 16th\, 2025 \n 
URL:https://www.clrcs.com/event/community-family-spring-forum/
LOCATION:myFM Centre\, 1 Ma-te-way Park Drive\, Renfrew\, Ontario\, K7V 4J4\, Canada
ATTACH;FMTTYPE=image/jpeg:https://www.clrcs.com/wp2024/wp-content/uploads/2025/05/Spring_Forum_1.jpg
ORGANIZER;CN="Jen Tabar":MAILTO:jtabar@clrcs.com
END:VEVENT
BEGIN:VEVENT
DTSTART;TZID=America/Toronto:20250522T113000
DTEND;TZID=America/Toronto:20250522T130000
DTSTAMP:20260423T210239
CREATED:20250514T174323Z
LAST-MODIFIED:20250514T174816Z
UID:10001589-1747913400-1747918800@www.clrcs.com
SUMMARY:Parking Lot BBQ
DESCRIPTION:PARKING LOT BBQ\nE V E R Y O N E  I S  W E L C O M E !\nHELP US CELEBRATE COMMUNITY LIVING MONTH\nCOME HUNGRY AND READY TO CELEBRATE\nFREE EVENT\nTHURSDAY\, MAY 22\, 2025 FROM 11:30 TO 1 PM\nCOMMUNITY LIVING RENFREW COUNTY SOUTH 326 RAGLAN ST. S RENFREW\, ON ** BACK PARKING LOT **\nRSVP to jtabar@clrcs.com by May 12th \nDownload Poster
URL:https://www.clrcs.com/event/parking-lot-bbq/
LOCATION:Community Living Renfrew County South\, 326 Raglan St. S\, Renfrew\, Ontario\, K7V 4E7\, Canada
END:VEVENT
BEGIN:VEVENT
DTSTART;TZID=America/Toronto:20250522T133000
DTEND;TZID=America/Toronto:20250522T143000
DTSTAMP:20260423T210239
CREATED:20241105T152548Z
LAST-MODIFIED:20241105T152548Z
UID:10001077-1747920600-1747924200@www.clrcs.com
SUMMARY:Billiards
DESCRIPTION:Free drop in Billiards every Thursday at the Royal Canadian Legion Renfrew.
URL:https://www.clrcs.com/event/billiards/2025-05-22/
LOCATION:Royal Canadian Legion Branch #148\, 30 Raglan St. S.\, Renfrew\, ON\, K7V1P7\, Canada
END:VEVENT
BEGIN:VEVENT
DTSTART;TZID=America/Toronto:20250523T131500
DTEND;TZID=America/Toronto:20250523T143000
DTSTAMP:20260423T210239
CREATED:20241105T152731Z
LAST-MODIFIED:20241105T152731Z
UID:10001338-1748006100-1748010600@www.clrcs.com
SUMMARY:Bowling
DESCRIPTION:Only $4.25 per game!
URL:https://www.clrcs.com/event/bowling/2025-05-23/
LOCATION:Opeongo Bowldrome\, 233 Raglan St. S.\, Renfrew\, ON\, K7V1R3\, Canada
END:VEVENT
END:VCALENDAR