BEGIN:VCALENDAR
VERSION:2.0
PRODID:-//CLRCS - ECPv6.15.20//NONSGML v1.0//EN
CALSCALE:GREGORIAN
METHOD:PUBLISH
X-WR-CALNAME:CLRCS
X-ORIGINAL-URL:https://www.clrcs.com
X-WR-CALDESC:Events for CLRCS
REFRESH-INTERVAL;VALUE=DURATION:PT1H
X-Robots-Tag:noindex
X-PUBLISHED-TTL:PT1H
BEGIN:VTIMEZONE
TZID:America/Toronto
BEGIN:DAYLIGHT
TZOFFSETFROM:-0500
TZOFFSETTO:-0400
TZNAME:EDT
DTSTART:20230312T070000
END:DAYLIGHT
BEGIN:STANDARD
TZOFFSETFROM:-0400
TZOFFSETTO:-0500
TZNAME:EST
DTSTART:20231105T060000
END:STANDARD
BEGIN:DAYLIGHT
TZOFFSETFROM:-0500
TZOFFSETTO:-0400
TZNAME:EDT
DTSTART:20240310T070000
END:DAYLIGHT
BEGIN:STANDARD
TZOFFSETFROM:-0400
TZOFFSETTO:-0500
TZNAME:EST
DTSTART:20241103T060000
END:STANDARD
BEGIN:DAYLIGHT
TZOFFSETFROM:-0500
TZOFFSETTO:-0400
TZNAME:EDT
DTSTART:20250309T070000
END:DAYLIGHT
BEGIN:STANDARD
TZOFFSETFROM:-0400
TZOFFSETTO:-0500
TZNAME:EST
DTSTART:20251102T060000
END:STANDARD
END:VTIMEZONE
BEGIN:VEVENT
DTSTART;TZID=America/Toronto:20241125T130000
DTEND;TZID=America/Toronto:20241125T140000
DTSTAMP:20260424T123941
CREATED:20241104T204044Z
LAST-MODIFIED:20241104T204227Z
UID:10000008-1732539600-1732543200@www.clrcs.com
SUMMARY:Renfrew Legion Seniors Darts
DESCRIPTION:Come out for an afternoon of fun and friendship!
URL:https://www.clrcs.com/event/225234/2024-11-25/
LOCATION:Royal Canadian Legion Branch #148\, 30 Raglan St. S.\, Renfrew\, ON\, K7V1P7\, Canada
END:VEVENT
BEGIN:VEVENT
DTSTART;TZID=America/Toronto:20241126T113000
DTEND;TZID=America/Toronto:20241126T123000
DTSTAMP:20260424T123941
CREATED:20241105T155507Z
LAST-MODIFIED:20241105T155507Z
UID:10001573-1732620600-1732624200@www.clrcs.com
SUMMARY:Community Friendship Meal
DESCRIPTION:Free lunch: Cheeseburger casserole\, coleslaw and pies!
URL:https://www.clrcs.com/event/community-friendship-meal-3/
LOCATION:Trinity-St. Andrew’s United Church\, 291 Plaunt Street South\, Renfrew\, Ontario\, K7V 1N2\, Canada
END:VEVENT
BEGIN:VEVENT
DTSTART;TZID=America/Toronto:20241127T103000
DTEND;TZID=America/Toronto:20241127T113000
DTSTAMP:20260424T123941
CREATED:20241104T204636Z
LAST-MODIFIED:20241104T204636Z
UID:10000269-1732703400-1732707000@www.clrcs.com
SUMMARY:Opeongo Bowldrome
DESCRIPTION:Join a game for only $4.25!!
URL:https://www.clrcs.com/event/opeongo-bowldrome/2024-11-27/
LOCATION:Opeongo Bowldrome\, 233 Raglan St. S.\, Renfrew\, ON\, K7V1R3\, Canada
END:VEVENT
BEGIN:VEVENT
DTSTART;TZID=America/Toronto:20241127T133000
DTEND;TZID=America/Toronto:20241127T143000
DTSTAMP:20260424T123941
CREATED:20241104T204942Z
LAST-MODIFIED:20250702T154348Z
UID:10000530-1732714200-1732717800@www.clrcs.com
SUMMARY:Free Bingo
DESCRIPTION:Free Bingo every Wednesday at Ma-Te-Way Park at the splash pad. (myFM Centre)
URL:https://www.clrcs.com/event/free-bingo/2024-11-27/
LOCATION:myFM Centre\, 1 Ma-te-way Park Drive\, Renfrew\, Ontario\, K7V 4J4\, Canada
END:VEVENT
BEGIN:VEVENT
DTSTART;TZID=America/Toronto:20241128T133000
DTEND;TZID=America/Toronto:20241128T143000
DTSTAMP:20260424T123941
CREATED:20241105T152548Z
LAST-MODIFIED:20241105T152548Z
UID:10001052-1732800600-1732804200@www.clrcs.com
SUMMARY:Billiards
DESCRIPTION:Free drop in Billiards every Thursday at the Royal Canadian Legion Renfrew.
URL:https://www.clrcs.com/event/billiards/2024-11-28/
LOCATION:Royal Canadian Legion Branch #148\, 30 Raglan St. S.\, Renfrew\, ON\, K7V1P7\, Canada
END:VEVENT
BEGIN:VEVENT
DTSTART;TZID=America/Toronto:20241129T131500
DTEND;TZID=America/Toronto:20241129T143000
DTSTAMP:20260424T123941
CREATED:20241105T152731Z
LAST-MODIFIED:20241105T152731Z
UID:10001313-1732886100-1732890600@www.clrcs.com
SUMMARY:Bowling
DESCRIPTION:Only $4.25 per game!
URL:https://www.clrcs.com/event/bowling/2024-11-29/
LOCATION:Opeongo Bowldrome\, 233 Raglan St. S.\, Renfrew\, ON\, K7V1R3\, Canada
END:VEVENT
END:VCALENDAR