BEGIN:VCALENDAR
VERSION:2.0
PRODID:-//CLRCS - ECPv6.15.20//NONSGML v1.0//EN
CALSCALE:GREGORIAN
METHOD:PUBLISH
X-WR-CALNAME:CLRCS
X-ORIGINAL-URL:https://www.clrcs.com
X-WR-CALDESC:Events for CLRCS
REFRESH-INTERVAL;VALUE=DURATION:PT1H
X-Robots-Tag:noindex
X-PUBLISHED-TTL:PT1H
BEGIN:VTIMEZONE
TZID:America/Toronto
BEGIN:DAYLIGHT
TZOFFSETFROM:-0500
TZOFFSETTO:-0400
TZNAME:EDT
DTSTART:20260308T070000
END:DAYLIGHT
BEGIN:STANDARD
TZOFFSETFROM:-0400
TZOFFSETTO:-0500
TZNAME:EST
DTSTART:20261101T060000
END:STANDARD
BEGIN:DAYLIGHT
TZOFFSETFROM:-0500
TZOFFSETTO:-0400
TZNAME:EDT
DTSTART:20270314T070000
END:DAYLIGHT
BEGIN:STANDARD
TZOFFSETFROM:-0400
TZOFFSETTO:-0500
TZNAME:EST
DTSTART:20271107T060000
END:STANDARD
BEGIN:DAYLIGHT
TZOFFSETFROM:-0500
TZOFFSETTO:-0400
TZNAME:EDT
DTSTART:20280312T070000
END:DAYLIGHT
BEGIN:STANDARD
TZOFFSETFROM:-0400
TZOFFSETTO:-0500
TZNAME:EST
DTSTART:20281105T060000
END:STANDARD
END:VTIMEZONE
BEGIN:VEVENT
DTSTART;TZID=America/Toronto:20270607T130000
DTEND;TZID=America/Toronto:20270607T140000
DTSTAMP:20260424T100710
CREATED:20241104T204044Z
LAST-MODIFIED:20241104T204227Z
UID:10000140-1812373200-1812376800@www.clrcs.com
SUMMARY:Renfrew Legion Seniors Darts
DESCRIPTION:Come out for an afternoon of fun and friendship!
URL:https://www.clrcs.com/event/225234/2027-06-07/
LOCATION:Royal Canadian Legion Branch #148\, 30 Raglan St. S.\, Renfrew\, ON\, K7V1P7\, Canada
END:VEVENT
BEGIN:VEVENT
DTSTART;TZID=America/Toronto:20270609T103000
DTEND;TZID=America/Toronto:20270609T113000
DTSTAMP:20260424T100710
CREATED:20241104T204636Z
LAST-MODIFIED:20241104T204636Z
UID:10000401-1812537000-1812540600@www.clrcs.com
SUMMARY:Opeongo Bowldrome
DESCRIPTION:Join a game for only $4.25!!
URL:https://www.clrcs.com/event/opeongo-bowldrome/2027-06-09/
LOCATION:Opeongo Bowldrome\, 233 Raglan St. S.\, Renfrew\, ON\, K7V1R3\, Canada
END:VEVENT
BEGIN:VEVENT
DTSTART;TZID=America/Toronto:20270609T133000
DTEND;TZID=America/Toronto:20270609T143000
DTSTAMP:20260424T100710
CREATED:20250702T154446Z
LAST-MODIFIED:20250702T154447Z
UID:10000662-1812547800-1812551400@www.clrcs.com
SUMMARY:Free Bingo
DESCRIPTION:Free Bingo every Wednesday at Ma-Te-Way Park at the splash pad. (myFM Centre)
URL:https://www.clrcs.com/event/free-bingo-2/2027-06-09/
LOCATION:myFM Centre\, 1 Ma-te-way Park Drive\, Renfrew\, Ontario\, K7V 4J4\, Canada
END:VEVENT
BEGIN:VEVENT
DTSTART;TZID=America/Toronto:20270610T133000
DTEND;TZID=America/Toronto:20270610T143000
DTSTAMP:20260424T100710
CREATED:20241105T152548Z
LAST-MODIFIED:20241105T152548Z
UID:10001184-1812634200-1812637800@www.clrcs.com
SUMMARY:Billiards
DESCRIPTION:Free drop in Billiards every Thursday at the Royal Canadian Legion Renfrew.
URL:https://www.clrcs.com/event/billiards/2027-06-10/
LOCATION:Royal Canadian Legion Branch #148\, 30 Raglan St. S.\, Renfrew\, ON\, K7V1P7\, Canada
END:VEVENT
BEGIN:VEVENT
DTSTART;TZID=America/Toronto:20270611T131500
DTEND;TZID=America/Toronto:20270611T143000
DTSTAMP:20260424T100710
CREATED:20241105T152731Z
LAST-MODIFIED:20241105T152731Z
UID:10001445-1812719700-1812724200@www.clrcs.com
SUMMARY:Bowling
DESCRIPTION:Only $4.25 per game!
URL:https://www.clrcs.com/event/bowling/2027-06-11/
LOCATION:Opeongo Bowldrome\, 233 Raglan St. S.\, Renfrew\, ON\, K7V1R3\, Canada
END:VEVENT
BEGIN:VEVENT
DTSTART;TZID=America/Toronto:20270614T130000
DTEND;TZID=America/Toronto:20270614T140000
DTSTAMP:20260424T100710
CREATED:20241104T204044Z
LAST-MODIFIED:20241104T204227Z
UID:10000141-1812978000-1812981600@www.clrcs.com
SUMMARY:Renfrew Legion Seniors Darts
DESCRIPTION:Come out for an afternoon of fun and friendship!
URL:https://www.clrcs.com/event/225234/2027-06-14/
LOCATION:Royal Canadian Legion Branch #148\, 30 Raglan St. S.\, Renfrew\, ON\, K7V1P7\, Canada
END:VEVENT
BEGIN:VEVENT
DTSTART;TZID=America/Toronto:20270616T103000
DTEND;TZID=America/Toronto:20270616T113000
DTSTAMP:20260424T100710
CREATED:20241104T204636Z
LAST-MODIFIED:20241104T204636Z
UID:10000402-1813141800-1813145400@www.clrcs.com
SUMMARY:Opeongo Bowldrome
DESCRIPTION:Join a game for only $4.25!!
URL:https://www.clrcs.com/event/opeongo-bowldrome/2027-06-16/
LOCATION:Opeongo Bowldrome\, 233 Raglan St. S.\, Renfrew\, ON\, K7V1R3\, Canada
END:VEVENT
BEGIN:VEVENT
DTSTART;TZID=America/Toronto:20270616T133000
DTEND;TZID=America/Toronto:20270616T143000
DTSTAMP:20260424T100710
CREATED:20250702T154446Z
LAST-MODIFIED:20250702T154447Z
UID:10000663-1813152600-1813156200@www.clrcs.com
SUMMARY:Free Bingo
DESCRIPTION:Free Bingo every Wednesday at Ma-Te-Way Park at the splash pad. (myFM Centre)
URL:https://www.clrcs.com/event/free-bingo-2/2027-06-16/
LOCATION:myFM Centre\, 1 Ma-te-way Park Drive\, Renfrew\, Ontario\, K7V 4J4\, Canada
END:VEVENT
BEGIN:VEVENT
DTSTART;TZID=America/Toronto:20270617T133000
DTEND;TZID=America/Toronto:20270617T143000
DTSTAMP:20260424T100710
CREATED:20241105T152548Z
LAST-MODIFIED:20241105T152548Z
UID:10001185-1813239000-1813242600@www.clrcs.com
SUMMARY:Billiards
DESCRIPTION:Free drop in Billiards every Thursday at the Royal Canadian Legion Renfrew.
URL:https://www.clrcs.com/event/billiards/2027-06-17/
LOCATION:Royal Canadian Legion Branch #148\, 30 Raglan St. S.\, Renfrew\, ON\, K7V1P7\, Canada
END:VEVENT
BEGIN:VEVENT
DTSTART;TZID=America/Toronto:20270618T131500
DTEND;TZID=America/Toronto:20270618T143000
DTSTAMP:20260424T100710
CREATED:20241105T152731Z
LAST-MODIFIED:20241105T152731Z
UID:10001446-1813324500-1813329000@www.clrcs.com
SUMMARY:Bowling
DESCRIPTION:Only $4.25 per game!
URL:https://www.clrcs.com/event/bowling/2027-06-18/
LOCATION:Opeongo Bowldrome\, 233 Raglan St. S.\, Renfrew\, ON\, K7V1R3\, Canada
END:VEVENT
BEGIN:VEVENT
DTSTART;TZID=America/Toronto:20270621T130000
DTEND;TZID=America/Toronto:20270621T140000
DTSTAMP:20260424T100710
CREATED:20241104T204044Z
LAST-MODIFIED:20241104T204227Z
UID:10000142-1813582800-1813586400@www.clrcs.com
SUMMARY:Renfrew Legion Seniors Darts
DESCRIPTION:Come out for an afternoon of fun and friendship!
URL:https://www.clrcs.com/event/225234/2027-06-21/
LOCATION:Royal Canadian Legion Branch #148\, 30 Raglan St. S.\, Renfrew\, ON\, K7V1P7\, Canada
END:VEVENT
BEGIN:VEVENT
DTSTART;TZID=America/Toronto:20270623T103000
DTEND;TZID=America/Toronto:20270623T113000
DTSTAMP:20260424T100710
CREATED:20241104T204636Z
LAST-MODIFIED:20241104T204636Z
UID:10000403-1813746600-1813750200@www.clrcs.com
SUMMARY:Opeongo Bowldrome
DESCRIPTION:Join a game for only $4.25!!
URL:https://www.clrcs.com/event/opeongo-bowldrome/2027-06-23/
LOCATION:Opeongo Bowldrome\, 233 Raglan St. S.\, Renfrew\, ON\, K7V1R3\, Canada
END:VEVENT
BEGIN:VEVENT
DTSTART;TZID=America/Toronto:20270623T133000
DTEND;TZID=America/Toronto:20270623T143000
DTSTAMP:20260424T100710
CREATED:20250702T154446Z
LAST-MODIFIED:20250702T154447Z
UID:10000664-1813757400-1813761000@www.clrcs.com
SUMMARY:Free Bingo
DESCRIPTION:Free Bingo every Wednesday at Ma-Te-Way Park at the splash pad. (myFM Centre)
URL:https://www.clrcs.com/event/free-bingo-2/2027-06-23/
LOCATION:myFM Centre\, 1 Ma-te-way Park Drive\, Renfrew\, Ontario\, K7V 4J4\, Canada
END:VEVENT
BEGIN:VEVENT
DTSTART;TZID=America/Toronto:20270624T133000
DTEND;TZID=America/Toronto:20270624T143000
DTSTAMP:20260424T100710
CREATED:20241105T152548Z
LAST-MODIFIED:20241105T152548Z
UID:10001186-1813843800-1813847400@www.clrcs.com
SUMMARY:Billiards
DESCRIPTION:Free drop in Billiards every Thursday at the Royal Canadian Legion Renfrew.
URL:https://www.clrcs.com/event/billiards/2027-06-24/
LOCATION:Royal Canadian Legion Branch #148\, 30 Raglan St. S.\, Renfrew\, ON\, K7V1P7\, Canada
END:VEVENT
BEGIN:VEVENT
DTSTART;TZID=America/Toronto:20270625T131500
DTEND;TZID=America/Toronto:20270625T143000
DTSTAMP:20260424T100710
CREATED:20241105T152731Z
LAST-MODIFIED:20241105T152731Z
UID:10001447-1813929300-1813933800@www.clrcs.com
SUMMARY:Bowling
DESCRIPTION:Only $4.25 per game!
URL:https://www.clrcs.com/event/bowling/2027-06-25/
LOCATION:Opeongo Bowldrome\, 233 Raglan St. S.\, Renfrew\, ON\, K7V1R3\, Canada
END:VEVENT
BEGIN:VEVENT
DTSTART;TZID=America/Toronto:20270628T130000
DTEND;TZID=America/Toronto:20270628T140000
DTSTAMP:20260424T100710
CREATED:20241104T204044Z
LAST-MODIFIED:20241104T204227Z
UID:10000143-1814187600-1814191200@www.clrcs.com
SUMMARY:Renfrew Legion Seniors Darts
DESCRIPTION:Come out for an afternoon of fun and friendship!
URL:https://www.clrcs.com/event/225234/2027-06-28/
LOCATION:Royal Canadian Legion Branch #148\, 30 Raglan St. S.\, Renfrew\, ON\, K7V1P7\, Canada
END:VEVENT
BEGIN:VEVENT
DTSTART;TZID=America/Toronto:20270630T103000
DTEND;TZID=America/Toronto:20270630T113000
DTSTAMP:20260424T100710
CREATED:20241104T204636Z
LAST-MODIFIED:20241104T204636Z
UID:10000404-1814351400-1814355000@www.clrcs.com
SUMMARY:Opeongo Bowldrome
DESCRIPTION:Join a game for only $4.25!!
URL:https://www.clrcs.com/event/opeongo-bowldrome/2027-06-30/
LOCATION:Opeongo Bowldrome\, 233 Raglan St. S.\, Renfrew\, ON\, K7V1R3\, Canada
END:VEVENT
BEGIN:VEVENT
DTSTART;TZID=America/Toronto:20270630T133000
DTEND;TZID=America/Toronto:20270630T143000
DTSTAMP:20260424T100710
CREATED:20250702T154446Z
LAST-MODIFIED:20250702T154447Z
UID:10000665-1814362200-1814365800@www.clrcs.com
SUMMARY:Free Bingo
DESCRIPTION:Free Bingo every Wednesday at Ma-Te-Way Park at the splash pad. (myFM Centre)
URL:https://www.clrcs.com/event/free-bingo-2/2027-06-30/
LOCATION:myFM Centre\, 1 Ma-te-way Park Drive\, Renfrew\, Ontario\, K7V 4J4\, Canada
END:VEVENT
BEGIN:VEVENT
DTSTART;TZID=America/Toronto:20270701T133000
DTEND;TZID=America/Toronto:20270701T143000
DTSTAMP:20260424T100710
CREATED:20241105T152548Z
LAST-MODIFIED:20241105T152548Z
UID:10001187-1814448600-1814452200@www.clrcs.com
SUMMARY:Billiards
DESCRIPTION:Free drop in Billiards every Thursday at the Royal Canadian Legion Renfrew.
URL:https://www.clrcs.com/event/billiards/2027-07-01/
LOCATION:Royal Canadian Legion Branch #148\, 30 Raglan St. S.\, Renfrew\, ON\, K7V1P7\, Canada
END:VEVENT
BEGIN:VEVENT
DTSTART;TZID=America/Toronto:20270702T131500
DTEND;TZID=America/Toronto:20270702T143000
DTSTAMP:20260424T100710
CREATED:20241105T152731Z
LAST-MODIFIED:20241105T152731Z
UID:10001448-1814534100-1814538600@www.clrcs.com
SUMMARY:Bowling
DESCRIPTION:Only $4.25 per game!
URL:https://www.clrcs.com/event/bowling/2027-07-02/
LOCATION:Opeongo Bowldrome\, 233 Raglan St. S.\, Renfrew\, ON\, K7V1R3\, Canada
END:VEVENT
BEGIN:VEVENT
DTSTART;TZID=America/Toronto:20270705T130000
DTEND;TZID=America/Toronto:20270705T140000
DTSTAMP:20260424T100710
CREATED:20241104T204044Z
LAST-MODIFIED:20241104T204227Z
UID:10000144-1814792400-1814796000@www.clrcs.com
SUMMARY:Renfrew Legion Seniors Darts
DESCRIPTION:Come out for an afternoon of fun and friendship!
URL:https://www.clrcs.com/event/225234/2027-07-05/
LOCATION:Royal Canadian Legion Branch #148\, 30 Raglan St. S.\, Renfrew\, ON\, K7V1P7\, Canada
END:VEVENT
BEGIN:VEVENT
DTSTART;TZID=America/Toronto:20270707T103000
DTEND;TZID=America/Toronto:20270707T113000
DTSTAMP:20260424T100710
CREATED:20241104T204636Z
LAST-MODIFIED:20241104T204636Z
UID:10000405-1814956200-1814959800@www.clrcs.com
SUMMARY:Opeongo Bowldrome
DESCRIPTION:Join a game for only $4.25!!
URL:https://www.clrcs.com/event/opeongo-bowldrome/2027-07-07/
LOCATION:Opeongo Bowldrome\, 233 Raglan St. S.\, Renfrew\, ON\, K7V1R3\, Canada
END:VEVENT
BEGIN:VEVENT
DTSTART;TZID=America/Toronto:20270707T133000
DTEND;TZID=America/Toronto:20270707T143000
DTSTAMP:20260424T100710
CREATED:20250702T154446Z
LAST-MODIFIED:20250702T154447Z
UID:10000666-1814967000-1814970600@www.clrcs.com
SUMMARY:Free Bingo
DESCRIPTION:Free Bingo every Wednesday at Ma-Te-Way Park at the splash pad. (myFM Centre)
URL:https://www.clrcs.com/event/free-bingo-2/2027-07-07/
LOCATION:myFM Centre\, 1 Ma-te-way Park Drive\, Renfrew\, Ontario\, K7V 4J4\, Canada
END:VEVENT
BEGIN:VEVENT
DTSTART;TZID=America/Toronto:20270708T133000
DTEND;TZID=America/Toronto:20270708T143000
DTSTAMP:20260424T100710
CREATED:20241105T152548Z
LAST-MODIFIED:20241105T152548Z
UID:10001188-1815053400-1815057000@www.clrcs.com
SUMMARY:Billiards
DESCRIPTION:Free drop in Billiards every Thursday at the Royal Canadian Legion Renfrew.
URL:https://www.clrcs.com/event/billiards/2027-07-08/
LOCATION:Royal Canadian Legion Branch #148\, 30 Raglan St. S.\, Renfrew\, ON\, K7V1P7\, Canada
END:VEVENT
BEGIN:VEVENT
DTSTART;TZID=America/Toronto:20270709T131500
DTEND;TZID=America/Toronto:20270709T143000
DTSTAMP:20260424T100710
CREATED:20241105T152731Z
LAST-MODIFIED:20241105T152731Z
UID:10001449-1815138900-1815143400@www.clrcs.com
SUMMARY:Bowling
DESCRIPTION:Only $4.25 per game!
URL:https://www.clrcs.com/event/bowling/2027-07-09/
LOCATION:Opeongo Bowldrome\, 233 Raglan St. S.\, Renfrew\, ON\, K7V1R3\, Canada
END:VEVENT
BEGIN:VEVENT
DTSTART;TZID=America/Toronto:20270712T130000
DTEND;TZID=America/Toronto:20270712T140000
DTSTAMP:20260424T100710
CREATED:20241104T204044Z
LAST-MODIFIED:20241104T204227Z
UID:10000145-1815397200-1815400800@www.clrcs.com
SUMMARY:Renfrew Legion Seniors Darts
DESCRIPTION:Come out for an afternoon of fun and friendship!
URL:https://www.clrcs.com/event/225234/2027-07-12/
LOCATION:Royal Canadian Legion Branch #148\, 30 Raglan St. S.\, Renfrew\, ON\, K7V1P7\, Canada
END:VEVENT
BEGIN:VEVENT
DTSTART;TZID=America/Toronto:20270714T103000
DTEND;TZID=America/Toronto:20270714T113000
DTSTAMP:20260424T100710
CREATED:20241104T204636Z
LAST-MODIFIED:20241104T204636Z
UID:10000406-1815561000-1815564600@www.clrcs.com
SUMMARY:Opeongo Bowldrome
DESCRIPTION:Join a game for only $4.25!!
URL:https://www.clrcs.com/event/opeongo-bowldrome/2027-07-14/
LOCATION:Opeongo Bowldrome\, 233 Raglan St. S.\, Renfrew\, ON\, K7V1R3\, Canada
END:VEVENT
BEGIN:VEVENT
DTSTART;TZID=America/Toronto:20270714T133000
DTEND;TZID=America/Toronto:20270714T143000
DTSTAMP:20260424T100710
CREATED:20250702T154446Z
LAST-MODIFIED:20250702T154447Z
UID:10000667-1815571800-1815575400@www.clrcs.com
SUMMARY:Free Bingo
DESCRIPTION:Free Bingo every Wednesday at Ma-Te-Way Park at the splash pad. (myFM Centre)
URL:https://www.clrcs.com/event/free-bingo-2/2027-07-14/
LOCATION:myFM Centre\, 1 Ma-te-way Park Drive\, Renfrew\, Ontario\, K7V 4J4\, Canada
END:VEVENT
BEGIN:VEVENT
DTSTART;TZID=America/Toronto:20270715T133000
DTEND;TZID=America/Toronto:20270715T143000
DTSTAMP:20260424T100710
CREATED:20241105T152548Z
LAST-MODIFIED:20241105T152548Z
UID:10001189-1815658200-1815661800@www.clrcs.com
SUMMARY:Billiards
DESCRIPTION:Free drop in Billiards every Thursday at the Royal Canadian Legion Renfrew.
URL:https://www.clrcs.com/event/billiards/2027-07-15/
LOCATION:Royal Canadian Legion Branch #148\, 30 Raglan St. S.\, Renfrew\, ON\, K7V1P7\, Canada
END:VEVENT
BEGIN:VEVENT
DTSTART;TZID=America/Toronto:20270716T131500
DTEND;TZID=America/Toronto:20270716T143000
DTSTAMP:20260424T100710
CREATED:20241105T152731Z
LAST-MODIFIED:20241105T152731Z
UID:10001450-1815743700-1815748200@www.clrcs.com
SUMMARY:Bowling
DESCRIPTION:Only $4.25 per game!
URL:https://www.clrcs.com/event/bowling/2027-07-16/
LOCATION:Opeongo Bowldrome\, 233 Raglan St. S.\, Renfrew\, ON\, K7V1R3\, Canada
END:VEVENT
END:VCALENDAR