BEGIN:VCALENDAR
VERSION:2.0
PRODID:-//CLRCS - ECPv6.15.20//NONSGML v1.0//EN
CALSCALE:GREGORIAN
METHOD:PUBLISH
X-ORIGINAL-URL:https://www.clrcs.com
X-WR-CALDESC:Events for CLRCS
REFRESH-INTERVAL;VALUE=DURATION:PT1H
X-Robots-Tag:noindex
X-PUBLISHED-TTL:PT1H
BEGIN:VTIMEZONE
TZID:America/Toronto
BEGIN:DAYLIGHT
TZOFFSETFROM:-0500
TZOFFSETTO:-0400
TZNAME:EDT
DTSTART:20250309T070000
END:DAYLIGHT
BEGIN:STANDARD
TZOFFSETFROM:-0400
TZOFFSETTO:-0500
TZNAME:EST
DTSTART:20251102T060000
END:STANDARD
BEGIN:DAYLIGHT
TZOFFSETFROM:-0500
TZOFFSETTO:-0400
TZNAME:EDT
DTSTART:20260308T070000
END:DAYLIGHT
BEGIN:STANDARD
TZOFFSETFROM:-0400
TZOFFSETTO:-0500
TZNAME:EST
DTSTART:20261101T060000
END:STANDARD
BEGIN:DAYLIGHT
TZOFFSETFROM:-0500
TZOFFSETTO:-0400
TZNAME:EDT
DTSTART:20270314T070000
END:DAYLIGHT
BEGIN:STANDARD
TZOFFSETFROM:-0400
TZOFFSETTO:-0500
TZNAME:EST
DTSTART:20271107T060000
END:STANDARD
END:VTIMEZONE
BEGIN:VEVENT
DTSTART;TZID=America/Toronto:20260319T133000
DTEND;TZID=America/Toronto:20260319T143000
DTSTAMP:20260422T182342
CREATED:20241105T152548Z
LAST-MODIFIED:20241105T152548Z
UID:10001120-1773927000-1773930600@www.clrcs.com
SUMMARY:Billiards
DESCRIPTION:Free drop in Billiards every Thursday at the Royal Canadian Legion Renfrew.
URL:https://www.clrcs.com/event/billiards/2026-03-19/
LOCATION:Royal Canadian Legion Branch #148\, 30 Raglan St. S.\, Renfrew\, ON\, K7V1P7\, Canada
END:VEVENT
BEGIN:VEVENT
DTSTART;TZID=America/Toronto:20260318T133000
DTEND;TZID=America/Toronto:20260318T143000
DTSTAMP:20260422T182342
CREATED:20250702T154446Z
LAST-MODIFIED:20250702T154447Z
UID:10000598-1773840600-1773844200@www.clrcs.com
SUMMARY:Free Bingo
DESCRIPTION:Free Bingo every Wednesday at Ma-Te-Way Park at the splash pad. (myFM Centre)
URL:https://www.clrcs.com/event/free-bingo-2/2026-03-18/
LOCATION:myFM Centre\, 1 Ma-te-way Park Drive\, Renfrew\, Ontario\, K7V 4J4\, Canada
END:VEVENT
BEGIN:VEVENT
DTSTART;TZID=America/Toronto:20260318T103000
DTEND;TZID=America/Toronto:20260318T113000
DTSTAMP:20260422T182342
CREATED:20241104T204636Z
LAST-MODIFIED:20241104T204636Z
UID:10000337-1773829800-1773833400@www.clrcs.com
SUMMARY:Opeongo Bowldrome
DESCRIPTION:Join a game for only $4.25!!
URL:https://www.clrcs.com/event/opeongo-bowldrome/2026-03-18/
LOCATION:Opeongo Bowldrome\, 233 Raglan St. S.\, Renfrew\, ON\, K7V1R3\, Canada
END:VEVENT
BEGIN:VEVENT
DTSTART;TZID=America/Toronto:20260316T130000
DTEND;TZID=America/Toronto:20260316T140000
DTSTAMP:20260422T182342
CREATED:20241104T204044Z
LAST-MODIFIED:20241104T204227Z
UID:10000076-1773666000-1773669600@www.clrcs.com
SUMMARY:Renfrew Legion Seniors Darts
DESCRIPTION:Come out for an afternoon of fun and friendship!
URL:https://www.clrcs.com/event/225234/2026-03-16/
LOCATION:Royal Canadian Legion Branch #148\, 30 Raglan St. S.\, Renfrew\, ON\, K7V1P7\, Canada
END:VEVENT
BEGIN:VEVENT
DTSTART;TZID=America/Toronto:20260313T131500
DTEND;TZID=America/Toronto:20260313T143000
DTSTAMP:20260422T182342
CREATED:20241105T152731Z
LAST-MODIFIED:20241105T152731Z
UID:10001380-1773407700-1773412200@www.clrcs.com
SUMMARY:Bowling
DESCRIPTION:Only $4.25 per game!
URL:https://www.clrcs.com/event/bowling/2026-03-13/
LOCATION:Opeongo Bowldrome\, 233 Raglan St. S.\, Renfrew\, ON\, K7V1R3\, Canada
END:VEVENT
BEGIN:VEVENT
DTSTART;TZID=America/Toronto:20260312T133000
DTEND;TZID=America/Toronto:20260312T143000
DTSTAMP:20260422T182342
CREATED:20241105T152548Z
LAST-MODIFIED:20241105T152548Z
UID:10001119-1773322200-1773325800@www.clrcs.com
SUMMARY:Billiards
DESCRIPTION:Free drop in Billiards every Thursday at the Royal Canadian Legion Renfrew.
URL:https://www.clrcs.com/event/billiards/2026-03-12/
LOCATION:Royal Canadian Legion Branch #148\, 30 Raglan St. S.\, Renfrew\, ON\, K7V1P7\, Canada
END:VEVENT
BEGIN:VEVENT
DTSTART;TZID=America/Toronto:20260311T133000
DTEND;TZID=America/Toronto:20260311T143000
DTSTAMP:20260422T182342
CREATED:20250702T154446Z
LAST-MODIFIED:20250702T154447Z
UID:10000597-1773235800-1773239400@www.clrcs.com
SUMMARY:Free Bingo
DESCRIPTION:Free Bingo every Wednesday at Ma-Te-Way Park at the splash pad. (myFM Centre)
URL:https://www.clrcs.com/event/free-bingo-2/2026-03-11/
LOCATION:myFM Centre\, 1 Ma-te-way Park Drive\, Renfrew\, Ontario\, K7V 4J4\, Canada
END:VEVENT
BEGIN:VEVENT
DTSTART;TZID=America/Toronto:20260311T103000
DTEND;TZID=America/Toronto:20260311T113000
DTSTAMP:20260422T182342
CREATED:20241104T204636Z
LAST-MODIFIED:20241104T204636Z
UID:10000336-1773225000-1773228600@www.clrcs.com
SUMMARY:Opeongo Bowldrome
DESCRIPTION:Join a game for only $4.25!!
URL:https://www.clrcs.com/event/opeongo-bowldrome/2026-03-11/
LOCATION:Opeongo Bowldrome\, 233 Raglan St. S.\, Renfrew\, ON\, K7V1R3\, Canada
END:VEVENT
BEGIN:VEVENT
DTSTART;TZID=America/Toronto:20260309T130000
DTEND;TZID=America/Toronto:20260309T140000
DTSTAMP:20260422T182342
CREATED:20241104T204044Z
LAST-MODIFIED:20241104T204227Z
UID:10000075-1773061200-1773064800@www.clrcs.com
SUMMARY:Renfrew Legion Seniors Darts
DESCRIPTION:Come out for an afternoon of fun and friendship!
URL:https://www.clrcs.com/event/225234/2026-03-09/
LOCATION:Royal Canadian Legion Branch #148\, 30 Raglan St. S.\, Renfrew\, ON\, K7V1P7\, Canada
END:VEVENT
BEGIN:VEVENT
DTSTART;TZID=America/Toronto:20260306T131500
DTEND;TZID=America/Toronto:20260306T143000
DTSTAMP:20260422T182342
CREATED:20241105T152731Z
LAST-MODIFIED:20241105T152731Z
UID:10001379-1772802900-1772807400@www.clrcs.com
SUMMARY:Bowling
DESCRIPTION:Only $4.25 per game!
URL:https://www.clrcs.com/event/bowling/2026-03-06/
LOCATION:Opeongo Bowldrome\, 233 Raglan St. S.\, Renfrew\, ON\, K7V1R3\, Canada
END:VEVENT
BEGIN:VEVENT
DTSTART;TZID=America/Toronto:20260305T133000
DTEND;TZID=America/Toronto:20260305T143000
DTSTAMP:20260422T182342
CREATED:20241105T152548Z
LAST-MODIFIED:20241105T152548Z
UID:10001118-1772717400-1772721000@www.clrcs.com
SUMMARY:Billiards
DESCRIPTION:Free drop in Billiards every Thursday at the Royal Canadian Legion Renfrew.
URL:https://www.clrcs.com/event/billiards/2026-03-05/
LOCATION:Royal Canadian Legion Branch #148\, 30 Raglan St. S.\, Renfrew\, ON\, K7V1P7\, Canada
END:VEVENT
BEGIN:VEVENT
DTSTART;TZID=America/Toronto:20260304T133000
DTEND;TZID=America/Toronto:20260304T143000
DTSTAMP:20260422T182342
CREATED:20250702T154446Z
LAST-MODIFIED:20250702T154447Z
UID:10000596-1772631000-1772634600@www.clrcs.com
SUMMARY:Free Bingo
DESCRIPTION:Free Bingo every Wednesday at Ma-Te-Way Park at the splash pad. (myFM Centre)
URL:https://www.clrcs.com/event/free-bingo-2/2026-03-04/
LOCATION:myFM Centre\, 1 Ma-te-way Park Drive\, Renfrew\, Ontario\, K7V 4J4\, Canada
END:VEVENT
BEGIN:VEVENT
DTSTART;TZID=America/Toronto:20260304T103000
DTEND;TZID=America/Toronto:20260304T113000
DTSTAMP:20260422T182342
CREATED:20241104T204636Z
LAST-MODIFIED:20241104T204636Z
UID:10000335-1772620200-1772623800@www.clrcs.com
SUMMARY:Opeongo Bowldrome
DESCRIPTION:Join a game for only $4.25!!
URL:https://www.clrcs.com/event/opeongo-bowldrome/2026-03-04/
LOCATION:Opeongo Bowldrome\, 233 Raglan St. S.\, Renfrew\, ON\, K7V1R3\, Canada
END:VEVENT
BEGIN:VEVENT
DTSTART;TZID=America/Toronto:20260302T130000
DTEND;TZID=America/Toronto:20260302T140000
DTSTAMP:20260422T182342
CREATED:20241104T204044Z
LAST-MODIFIED:20241104T204227Z
UID:10000074-1772456400-1772460000@www.clrcs.com
SUMMARY:Renfrew Legion Seniors Darts
DESCRIPTION:Come out for an afternoon of fun and friendship!
URL:https://www.clrcs.com/event/225234/2026-03-02/
LOCATION:Royal Canadian Legion Branch #148\, 30 Raglan St. S.\, Renfrew\, ON\, K7V1P7\, Canada
END:VEVENT
BEGIN:VEVENT
DTSTART;TZID=America/Toronto:20260227T131500
DTEND;TZID=America/Toronto:20260227T143000
DTSTAMP:20260422T182342
CREATED:20241105T152731Z
LAST-MODIFIED:20241105T152731Z
UID:10001378-1772198100-1772202600@www.clrcs.com
SUMMARY:Bowling
DESCRIPTION:Only $4.25 per game!
URL:https://www.clrcs.com/event/bowling/2026-02-27/
LOCATION:Opeongo Bowldrome\, 233 Raglan St. S.\, Renfrew\, ON\, K7V1R3\, Canada
END:VEVENT
BEGIN:VEVENT
DTSTART;TZID=America/Toronto:20260226T133000
DTEND;TZID=America/Toronto:20260226T143000
DTSTAMP:20260422T182342
CREATED:20241105T152548Z
LAST-MODIFIED:20241105T152548Z
UID:10001117-1772112600-1772116200@www.clrcs.com
SUMMARY:Billiards
DESCRIPTION:Free drop in Billiards every Thursday at the Royal Canadian Legion Renfrew.
URL:https://www.clrcs.com/event/billiards/2026-02-26/
LOCATION:Royal Canadian Legion Branch #148\, 30 Raglan St. S.\, Renfrew\, ON\, K7V1P7\, Canada
END:VEVENT
BEGIN:VEVENT
DTSTART;TZID=America/Toronto:20260225T133000
DTEND;TZID=America/Toronto:20260225T143000
DTSTAMP:20260422T182342
CREATED:20250702T154446Z
LAST-MODIFIED:20250702T154447Z
UID:10000595-1772026200-1772029800@www.clrcs.com
SUMMARY:Free Bingo
DESCRIPTION:Free Bingo every Wednesday at Ma-Te-Way Park at the splash pad. (myFM Centre)
URL:https://www.clrcs.com/event/free-bingo-2/2026-02-25/
LOCATION:myFM Centre\, 1 Ma-te-way Park Drive\, Renfrew\, Ontario\, K7V 4J4\, Canada
END:VEVENT
BEGIN:VEVENT
DTSTART;TZID=America/Toronto:20260225T103000
DTEND;TZID=America/Toronto:20260225T113000
DTSTAMP:20260422T182342
CREATED:20241104T204636Z
LAST-MODIFIED:20241104T204636Z
UID:10000334-1772015400-1772019000@www.clrcs.com
SUMMARY:Opeongo Bowldrome
DESCRIPTION:Join a game for only $4.25!!
URL:https://www.clrcs.com/event/opeongo-bowldrome/2026-02-25/
LOCATION:Opeongo Bowldrome\, 233 Raglan St. S.\, Renfrew\, ON\, K7V1R3\, Canada
END:VEVENT
BEGIN:VEVENT
DTSTART;TZID=America/Toronto:20260223T130000
DTEND;TZID=America/Toronto:20260223T140000
DTSTAMP:20260422T182342
CREATED:20241104T204044Z
LAST-MODIFIED:20241104T204227Z
UID:10000073-1771851600-1771855200@www.clrcs.com
SUMMARY:Renfrew Legion Seniors Darts
DESCRIPTION:Come out for an afternoon of fun and friendship!
URL:https://www.clrcs.com/event/225234/2026-02-23/
LOCATION:Royal Canadian Legion Branch #148\, 30 Raglan St. S.\, Renfrew\, ON\, K7V1P7\, Canada
END:VEVENT
BEGIN:VEVENT
DTSTART;TZID=America/Toronto:20260220T131500
DTEND;TZID=America/Toronto:20260220T143000
DTSTAMP:20260422T182342
CREATED:20241105T152731Z
LAST-MODIFIED:20241105T152731Z
UID:10001377-1771593300-1771597800@www.clrcs.com
SUMMARY:Bowling
DESCRIPTION:Only $4.25 per game!
URL:https://www.clrcs.com/event/bowling/2026-02-20/
LOCATION:Opeongo Bowldrome\, 233 Raglan St. S.\, Renfrew\, ON\, K7V1R3\, Canada
END:VEVENT
BEGIN:VEVENT
DTSTART;TZID=America/Toronto:20260219T133000
DTEND;TZID=America/Toronto:20260219T143000
DTSTAMP:20260422T182342
CREATED:20241105T152548Z
LAST-MODIFIED:20241105T152548Z
UID:10001116-1771507800-1771511400@www.clrcs.com
SUMMARY:Billiards
DESCRIPTION:Free drop in Billiards every Thursday at the Royal Canadian Legion Renfrew.
URL:https://www.clrcs.com/event/billiards/2026-02-19/
LOCATION:Royal Canadian Legion Branch #148\, 30 Raglan St. S.\, Renfrew\, ON\, K7V1P7\, Canada
END:VEVENT
BEGIN:VEVENT
DTSTART;TZID=America/Toronto:20260218T133000
DTEND;TZID=America/Toronto:20260218T143000
DTSTAMP:20260422T182342
CREATED:20250702T154446Z
LAST-MODIFIED:20250702T154447Z
UID:10000594-1771421400-1771425000@www.clrcs.com
SUMMARY:Free Bingo
DESCRIPTION:Free Bingo every Wednesday at Ma-Te-Way Park at the splash pad. (myFM Centre)
URL:https://www.clrcs.com/event/free-bingo-2/2026-02-18/
LOCATION:myFM Centre\, 1 Ma-te-way Park Drive\, Renfrew\, Ontario\, K7V 4J4\, Canada
END:VEVENT
BEGIN:VEVENT
DTSTART;TZID=America/Toronto:20260218T103000
DTEND;TZID=America/Toronto:20260218T113000
DTSTAMP:20260422T182342
CREATED:20241104T204636Z
LAST-MODIFIED:20241104T204636Z
UID:10000333-1771410600-1771414200@www.clrcs.com
SUMMARY:Opeongo Bowldrome
DESCRIPTION:Join a game for only $4.25!!
URL:https://www.clrcs.com/event/opeongo-bowldrome/2026-02-18/
LOCATION:Opeongo Bowldrome\, 233 Raglan St. S.\, Renfrew\, ON\, K7V1R3\, Canada
END:VEVENT
BEGIN:VEVENT
DTSTART;TZID=America/Toronto:20260216T130000
DTEND;TZID=America/Toronto:20260216T140000
DTSTAMP:20260422T182342
CREATED:20241104T204044Z
LAST-MODIFIED:20241104T204227Z
UID:10000072-1771246800-1771250400@www.clrcs.com
SUMMARY:Renfrew Legion Seniors Darts
DESCRIPTION:Come out for an afternoon of fun and friendship!
URL:https://www.clrcs.com/event/225234/2026-02-16/
LOCATION:Royal Canadian Legion Branch #148\, 30 Raglan St. S.\, Renfrew\, ON\, K7V1P7\, Canada
END:VEVENT
BEGIN:VEVENT
DTSTART;TZID=America/Toronto:20260213T131500
DTEND;TZID=America/Toronto:20260213T143000
DTSTAMP:20260422T182342
CREATED:20241105T152731Z
LAST-MODIFIED:20241105T152731Z
UID:10001376-1770988500-1770993000@www.clrcs.com
SUMMARY:Bowling
DESCRIPTION:Only $4.25 per game!
URL:https://www.clrcs.com/event/bowling/2026-02-13/
LOCATION:Opeongo Bowldrome\, 233 Raglan St. S.\, Renfrew\, ON\, K7V1R3\, Canada
END:VEVENT
BEGIN:VEVENT
DTSTART;TZID=America/Toronto:20260212T133000
DTEND;TZID=America/Toronto:20260212T143000
DTSTAMP:20260422T182342
CREATED:20241105T152548Z
LAST-MODIFIED:20241105T152548Z
UID:10001115-1770903000-1770906600@www.clrcs.com
SUMMARY:Billiards
DESCRIPTION:Free drop in Billiards every Thursday at the Royal Canadian Legion Renfrew.
URL:https://www.clrcs.com/event/billiards/2026-02-12/
LOCATION:Royal Canadian Legion Branch #148\, 30 Raglan St. S.\, Renfrew\, ON\, K7V1P7\, Canada
END:VEVENT
BEGIN:VEVENT
DTSTART;TZID=America/Toronto:20260211T133000
DTEND;TZID=America/Toronto:20260211T143000
DTSTAMP:20260422T182342
CREATED:20250702T154446Z
LAST-MODIFIED:20250702T154447Z
UID:10000593-1770816600-1770820200@www.clrcs.com
SUMMARY:Free Bingo
DESCRIPTION:Free Bingo every Wednesday at Ma-Te-Way Park at the splash pad. (myFM Centre)
URL:https://www.clrcs.com/event/free-bingo-2/2026-02-11/
LOCATION:myFM Centre\, 1 Ma-te-way Park Drive\, Renfrew\, Ontario\, K7V 4J4\, Canada
END:VEVENT
BEGIN:VEVENT
DTSTART;TZID=America/Toronto:20260211T103000
DTEND;TZID=America/Toronto:20260211T113000
DTSTAMP:20260422T182342
CREATED:20241104T204636Z
LAST-MODIFIED:20241104T204636Z
UID:10000332-1770805800-1770809400@www.clrcs.com
SUMMARY:Opeongo Bowldrome
DESCRIPTION:Join a game for only $4.25!!
URL:https://www.clrcs.com/event/opeongo-bowldrome/2026-02-11/
LOCATION:Opeongo Bowldrome\, 233 Raglan St. S.\, Renfrew\, ON\, K7V1R3\, Canada
END:VEVENT
BEGIN:VEVENT
DTSTART;TZID=America/Toronto:20260209T130000
DTEND;TZID=America/Toronto:20260209T140000
DTSTAMP:20260422T182342
CREATED:20241104T204044Z
LAST-MODIFIED:20241104T204227Z
UID:10000071-1770642000-1770645600@www.clrcs.com
SUMMARY:Renfrew Legion Seniors Darts
DESCRIPTION:Come out for an afternoon of fun and friendship!
URL:https://www.clrcs.com/event/225234/2026-02-09/
LOCATION:Royal Canadian Legion Branch #148\, 30 Raglan St. S.\, Renfrew\, ON\, K7V1P7\, Canada
END:VEVENT
BEGIN:VEVENT
DTSTART;TZID=America/Toronto:20260206T131500
DTEND;TZID=America/Toronto:20260206T143000
DTSTAMP:20260422T182342
CREATED:20241105T152731Z
LAST-MODIFIED:20241105T152731Z
UID:10001375-1770383700-1770388200@www.clrcs.com
SUMMARY:Bowling
DESCRIPTION:Only $4.25 per game!
URL:https://www.clrcs.com/event/bowling/2026-02-06/
LOCATION:Opeongo Bowldrome\, 233 Raglan St. S.\, Renfrew\, ON\, K7V1R3\, Canada
END:VEVENT
END:VCALENDAR