BEGIN:VCALENDAR
VERSION:2.0
PRODID:-//CLRCS - ECPv6.15.20//NONSGML v1.0//EN
CALSCALE:GREGORIAN
METHOD:PUBLISH
X-WR-CALNAME:CLRCS
X-ORIGINAL-URL:https://www.clrcs.com
X-WR-CALDESC:Events for CLRCS
REFRESH-INTERVAL;VALUE=DURATION:PT1H
X-Robots-Tag:noindex
X-PUBLISHED-TTL:PT1H
BEGIN:VTIMEZONE
TZID:America/Toronto
BEGIN:DAYLIGHT
TZOFFSETFROM:-0500
TZOFFSETTO:-0400
TZNAME:EDT
DTSTART:20240310T070000
END:DAYLIGHT
BEGIN:STANDARD
TZOFFSETFROM:-0400
TZOFFSETTO:-0500
TZNAME:EST
DTSTART:20241103T060000
END:STANDARD
BEGIN:DAYLIGHT
TZOFFSETFROM:-0500
TZOFFSETTO:-0400
TZNAME:EDT
DTSTART:20250309T070000
END:DAYLIGHT
BEGIN:STANDARD
TZOFFSETFROM:-0400
TZOFFSETTO:-0500
TZNAME:EST
DTSTART:20251102T060000
END:STANDARD
BEGIN:DAYLIGHT
TZOFFSETFROM:-0500
TZOFFSETTO:-0400
TZNAME:EDT
DTSTART:20260308T070000
END:DAYLIGHT
BEGIN:STANDARD
TZOFFSETFROM:-0400
TZOFFSETTO:-0500
TZNAME:EST
DTSTART:20261101T060000
END:STANDARD
BEGIN:DAYLIGHT
TZOFFSETFROM:-0500
TZOFFSETTO:-0400
TZNAME:EDT
DTSTART:20270314T070000
END:DAYLIGHT
BEGIN:STANDARD
TZOFFSETFROM:-0400
TZOFFSETTO:-0500
TZNAME:EST
DTSTART:20271107T060000
END:STANDARD
END:VTIMEZONE
BEGIN:VEVENT
DTSTART;TZID=America/Toronto:20251204T133000
DTEND;TZID=America/Toronto:20251204T143000
DTSTAMP:20260423T005814
CREATED:20241105T152548Z
LAST-MODIFIED:20241105T152548Z
UID:10001105-1764855000-1764858600@www.clrcs.com
SUMMARY:Billiards
DESCRIPTION:Free drop in Billiards every Thursday at the Royal Canadian Legion Renfrew.
URL:https://www.clrcs.com/event/billiards/2025-12-04/
LOCATION:Royal Canadian Legion Branch #148\, 30 Raglan St. S.\, Renfrew\, ON\, K7V1P7\, Canada
END:VEVENT
BEGIN:VEVENT
DTSTART;TZID=America/Toronto:20251205T131500
DTEND;TZID=America/Toronto:20251205T143000
DTSTAMP:20260423T005814
CREATED:20241105T152731Z
LAST-MODIFIED:20241105T152731Z
UID:10001366-1764940500-1764945000@www.clrcs.com
SUMMARY:Bowling
DESCRIPTION:Only $4.25 per game!
URL:https://www.clrcs.com/event/bowling/2025-12-05/
LOCATION:Opeongo Bowldrome\, 233 Raglan St. S.\, Renfrew\, ON\, K7V1R3\, Canada
END:VEVENT
BEGIN:VEVENT
DTSTART;TZID=America/Toronto:20251208T130000
DTEND;TZID=America/Toronto:20251208T140000
DTSTAMP:20260423T005814
CREATED:20241104T204044Z
LAST-MODIFIED:20241104T204227Z
UID:10000062-1765198800-1765202400@www.clrcs.com
SUMMARY:Renfrew Legion Seniors Darts
DESCRIPTION:Come out for an afternoon of fun and friendship!
URL:https://www.clrcs.com/event/225234/2025-12-08/
LOCATION:Royal Canadian Legion Branch #148\, 30 Raglan St. S.\, Renfrew\, ON\, K7V1P7\, Canada
END:VEVENT
BEGIN:VEVENT
DTSTART;TZID=America/Toronto:20251210T103000
DTEND;TZID=America/Toronto:20251210T113000
DTSTAMP:20260423T005814
CREATED:20241104T204636Z
LAST-MODIFIED:20241104T204636Z
UID:10000323-1765362600-1765366200@www.clrcs.com
SUMMARY:Opeongo Bowldrome
DESCRIPTION:Join a game for only $4.25!!
URL:https://www.clrcs.com/event/opeongo-bowldrome/2025-12-10/
LOCATION:Opeongo Bowldrome\, 233 Raglan St. S.\, Renfrew\, ON\, K7V1R3\, Canada
END:VEVENT
BEGIN:VEVENT
DTSTART;TZID=America/Toronto:20251210T133000
DTEND;TZID=America/Toronto:20251210T143000
DTSTAMP:20260423T005814
CREATED:20250702T154446Z
LAST-MODIFIED:20250702T154447Z
UID:10000584-1765373400-1765377000@www.clrcs.com
SUMMARY:Free Bingo
DESCRIPTION:Free Bingo every Wednesday at Ma-Te-Way Park at the splash pad. (myFM Centre)
URL:https://www.clrcs.com/event/free-bingo-2/2025-12-10/
LOCATION:myFM Centre\, 1 Ma-te-way Park Drive\, Renfrew\, Ontario\, K7V 4J4\, Canada
END:VEVENT
BEGIN:VEVENT
DTSTART;TZID=America/Toronto:20251211T133000
DTEND;TZID=America/Toronto:20251211T143000
DTSTAMP:20260423T005814
CREATED:20241105T152548Z
LAST-MODIFIED:20241105T152548Z
UID:10001106-1765459800-1765463400@www.clrcs.com
SUMMARY:Billiards
DESCRIPTION:Free drop in Billiards every Thursday at the Royal Canadian Legion Renfrew.
URL:https://www.clrcs.com/event/billiards/2025-12-11/
LOCATION:Royal Canadian Legion Branch #148\, 30 Raglan St. S.\, Renfrew\, ON\, K7V1P7\, Canada
END:VEVENT
BEGIN:VEVENT
DTSTART;TZID=America/Toronto:20251212T131500
DTEND;TZID=America/Toronto:20251212T143000
DTSTAMP:20260423T005814
CREATED:20241105T152731Z
LAST-MODIFIED:20241105T152731Z
UID:10001367-1765545300-1765549800@www.clrcs.com
SUMMARY:Bowling
DESCRIPTION:Only $4.25 per game!
URL:https://www.clrcs.com/event/bowling/2025-12-12/
LOCATION:Opeongo Bowldrome\, 233 Raglan St. S.\, Renfrew\, ON\, K7V1R3\, Canada
END:VEVENT
BEGIN:VEVENT
DTSTART;TZID=America/Toronto:20251215T130000
DTEND;TZID=America/Toronto:20251215T140000
DTSTAMP:20260423T005814
CREATED:20241104T204044Z
LAST-MODIFIED:20241104T204227Z
UID:10000063-1765803600-1765807200@www.clrcs.com
SUMMARY:Renfrew Legion Seniors Darts
DESCRIPTION:Come out for an afternoon of fun and friendship!
URL:https://www.clrcs.com/event/225234/2025-12-15/
LOCATION:Royal Canadian Legion Branch #148\, 30 Raglan St. S.\, Renfrew\, ON\, K7V1P7\, Canada
END:VEVENT
BEGIN:VEVENT
DTSTART;TZID=America/Toronto:20251217T103000
DTEND;TZID=America/Toronto:20251217T113000
DTSTAMP:20260423T005814
CREATED:20241104T204636Z
LAST-MODIFIED:20241104T204636Z
UID:10000324-1765967400-1765971000@www.clrcs.com
SUMMARY:Opeongo Bowldrome
DESCRIPTION:Join a game for only $4.25!!
URL:https://www.clrcs.com/event/opeongo-bowldrome/2025-12-17/
LOCATION:Opeongo Bowldrome\, 233 Raglan St. S.\, Renfrew\, ON\, K7V1R3\, Canada
END:VEVENT
BEGIN:VEVENT
DTSTART;TZID=America/Toronto:20251217T133000
DTEND;TZID=America/Toronto:20251217T143000
DTSTAMP:20260423T005814
CREATED:20250702T154446Z
LAST-MODIFIED:20250702T154447Z
UID:10000585-1765978200-1765981800@www.clrcs.com
SUMMARY:Free Bingo
DESCRIPTION:Free Bingo every Wednesday at Ma-Te-Way Park at the splash pad. (myFM Centre)
URL:https://www.clrcs.com/event/free-bingo-2/2025-12-17/
LOCATION:myFM Centre\, 1 Ma-te-way Park Drive\, Renfrew\, Ontario\, K7V 4J4\, Canada
END:VEVENT
BEGIN:VEVENT
DTSTART;TZID=America/Toronto:20251218T133000
DTEND;TZID=America/Toronto:20251218T143000
DTSTAMP:20260423T005814
CREATED:20241105T152548Z
LAST-MODIFIED:20241105T152548Z
UID:10001107-1766064600-1766068200@www.clrcs.com
SUMMARY:Billiards
DESCRIPTION:Free drop in Billiards every Thursday at the Royal Canadian Legion Renfrew.
URL:https://www.clrcs.com/event/billiards/2025-12-18/
LOCATION:Royal Canadian Legion Branch #148\, 30 Raglan St. S.\, Renfrew\, ON\, K7V1P7\, Canada
END:VEVENT
BEGIN:VEVENT
DTSTART;TZID=America/Toronto:20251219T131500
DTEND;TZID=America/Toronto:20251219T143000
DTSTAMP:20260423T005814
CREATED:20241105T152731Z
LAST-MODIFIED:20241105T152731Z
UID:10001368-1766150100-1766154600@www.clrcs.com
SUMMARY:Bowling
DESCRIPTION:Only $4.25 per game!
URL:https://www.clrcs.com/event/bowling/2025-12-19/
LOCATION:Opeongo Bowldrome\, 233 Raglan St. S.\, Renfrew\, ON\, K7V1R3\, Canada
END:VEVENT
BEGIN:VEVENT
DTSTART;TZID=America/Toronto:20251222T130000
DTEND;TZID=America/Toronto:20251222T140000
DTSTAMP:20260423T005814
CREATED:20241104T204044Z
LAST-MODIFIED:20241104T204227Z
UID:10000064-1766408400-1766412000@www.clrcs.com
SUMMARY:Renfrew Legion Seniors Darts
DESCRIPTION:Come out for an afternoon of fun and friendship!
URL:https://www.clrcs.com/event/225234/2025-12-22/
LOCATION:Royal Canadian Legion Branch #148\, 30 Raglan St. S.\, Renfrew\, ON\, K7V1P7\, Canada
END:VEVENT
BEGIN:VEVENT
DTSTART;TZID=America/Toronto:20251224T103000
DTEND;TZID=America/Toronto:20251224T113000
DTSTAMP:20260423T005814
CREATED:20241104T204636Z
LAST-MODIFIED:20241104T204636Z
UID:10000325-1766572200-1766575800@www.clrcs.com
SUMMARY:Opeongo Bowldrome
DESCRIPTION:Join a game for only $4.25!!
URL:https://www.clrcs.com/event/opeongo-bowldrome/2025-12-24/
LOCATION:Opeongo Bowldrome\, 233 Raglan St. S.\, Renfrew\, ON\, K7V1R3\, Canada
END:VEVENT
BEGIN:VEVENT
DTSTART;TZID=America/Toronto:20251224T133000
DTEND;TZID=America/Toronto:20251224T143000
DTSTAMP:20260423T005814
CREATED:20250702T154446Z
LAST-MODIFIED:20250702T154447Z
UID:10000586-1766583000-1766586600@www.clrcs.com
SUMMARY:Free Bingo
DESCRIPTION:Free Bingo every Wednesday at Ma-Te-Way Park at the splash pad. (myFM Centre)
URL:https://www.clrcs.com/event/free-bingo-2/2025-12-24/
LOCATION:myFM Centre\, 1 Ma-te-way Park Drive\, Renfrew\, Ontario\, K7V 4J4\, Canada
END:VEVENT
BEGIN:VEVENT
DTSTART;TZID=America/Toronto:20251225T133000
DTEND;TZID=America/Toronto:20251225T143000
DTSTAMP:20260423T005814
CREATED:20241105T152548Z
LAST-MODIFIED:20241105T152548Z
UID:10001108-1766669400-1766673000@www.clrcs.com
SUMMARY:Billiards
DESCRIPTION:Free drop in Billiards every Thursday at the Royal Canadian Legion Renfrew.
URL:https://www.clrcs.com/event/billiards/2025-12-25/
LOCATION:Royal Canadian Legion Branch #148\, 30 Raglan St. S.\, Renfrew\, ON\, K7V1P7\, Canada
END:VEVENT
BEGIN:VEVENT
DTSTART;TZID=America/Toronto:20251226T131500
DTEND;TZID=America/Toronto:20251226T143000
DTSTAMP:20260423T005814
CREATED:20241105T152731Z
LAST-MODIFIED:20241105T152731Z
UID:10001369-1766754900-1766759400@www.clrcs.com
SUMMARY:Bowling
DESCRIPTION:Only $4.25 per game!
URL:https://www.clrcs.com/event/bowling/2025-12-26/
LOCATION:Opeongo Bowldrome\, 233 Raglan St. S.\, Renfrew\, ON\, K7V1R3\, Canada
END:VEVENT
BEGIN:VEVENT
DTSTART;TZID=America/Toronto:20251229T130000
DTEND;TZID=America/Toronto:20251229T140000
DTSTAMP:20260423T005814
CREATED:20241104T204044Z
LAST-MODIFIED:20241104T204227Z
UID:10000065-1767013200-1767016800@www.clrcs.com
SUMMARY:Renfrew Legion Seniors Darts
DESCRIPTION:Come out for an afternoon of fun and friendship!
URL:https://www.clrcs.com/event/225234/2025-12-29/
LOCATION:Royal Canadian Legion Branch #148\, 30 Raglan St. S.\, Renfrew\, ON\, K7V1P7\, Canada
END:VEVENT
BEGIN:VEVENT
DTSTART;TZID=America/Toronto:20251231T103000
DTEND;TZID=America/Toronto:20251231T113000
DTSTAMP:20260423T005814
CREATED:20241104T204636Z
LAST-MODIFIED:20241104T204636Z
UID:10000326-1767177000-1767180600@www.clrcs.com
SUMMARY:Opeongo Bowldrome
DESCRIPTION:Join a game for only $4.25!!
URL:https://www.clrcs.com/event/opeongo-bowldrome/2025-12-31/
LOCATION:Opeongo Bowldrome\, 233 Raglan St. S.\, Renfrew\, ON\, K7V1R3\, Canada
END:VEVENT
BEGIN:VEVENT
DTSTART;TZID=America/Toronto:20251231T133000
DTEND;TZID=America/Toronto:20251231T143000
DTSTAMP:20260423T005814
CREATED:20250702T154446Z
LAST-MODIFIED:20250702T154447Z
UID:10000587-1767187800-1767191400@www.clrcs.com
SUMMARY:Free Bingo
DESCRIPTION:Free Bingo every Wednesday at Ma-Te-Way Park at the splash pad. (myFM Centre)
URL:https://www.clrcs.com/event/free-bingo-2/2025-12-31/
LOCATION:myFM Centre\, 1 Ma-te-way Park Drive\, Renfrew\, Ontario\, K7V 4J4\, Canada
END:VEVENT
BEGIN:VEVENT
DTSTART;TZID=America/Toronto:20260101T133000
DTEND;TZID=America/Toronto:20260101T143000
DTSTAMP:20260423T005814
CREATED:20241105T152548Z
LAST-MODIFIED:20241105T152548Z
UID:10001109-1767274200-1767277800@www.clrcs.com
SUMMARY:Billiards
DESCRIPTION:Free drop in Billiards every Thursday at the Royal Canadian Legion Renfrew.
URL:https://www.clrcs.com/event/billiards/2026-01-01/
LOCATION:Royal Canadian Legion Branch #148\, 30 Raglan St. S.\, Renfrew\, ON\, K7V1P7\, Canada
END:VEVENT
BEGIN:VEVENT
DTSTART;TZID=America/Toronto:20260102T131500
DTEND;TZID=America/Toronto:20260102T143000
DTSTAMP:20260423T005814
CREATED:20241105T152731Z
LAST-MODIFIED:20241105T152731Z
UID:10001370-1767359700-1767364200@www.clrcs.com
SUMMARY:Bowling
DESCRIPTION:Only $4.25 per game!
URL:https://www.clrcs.com/event/bowling/2026-01-02/
LOCATION:Opeongo Bowldrome\, 233 Raglan St. S.\, Renfrew\, ON\, K7V1R3\, Canada
END:VEVENT
BEGIN:VEVENT
DTSTART;TZID=America/Toronto:20260105T130000
DTEND;TZID=America/Toronto:20260105T140000
DTSTAMP:20260423T005814
CREATED:20241104T204044Z
LAST-MODIFIED:20241104T204227Z
UID:10000066-1767618000-1767621600@www.clrcs.com
SUMMARY:Renfrew Legion Seniors Darts
DESCRIPTION:Come out for an afternoon of fun and friendship!
URL:https://www.clrcs.com/event/225234/2026-01-05/
LOCATION:Royal Canadian Legion Branch #148\, 30 Raglan St. S.\, Renfrew\, ON\, K7V1P7\, Canada
END:VEVENT
BEGIN:VEVENT
DTSTART;TZID=America/Toronto:20260107T103000
DTEND;TZID=America/Toronto:20260107T113000
DTSTAMP:20260423T005814
CREATED:20241104T204636Z
LAST-MODIFIED:20241104T204636Z
UID:10000327-1767781800-1767785400@www.clrcs.com
SUMMARY:Opeongo Bowldrome
DESCRIPTION:Join a game for only $4.25!!
URL:https://www.clrcs.com/event/opeongo-bowldrome/2026-01-07/
LOCATION:Opeongo Bowldrome\, 233 Raglan St. S.\, Renfrew\, ON\, K7V1R3\, Canada
END:VEVENT
BEGIN:VEVENT
DTSTART;TZID=America/Toronto:20260107T133000
DTEND;TZID=America/Toronto:20260107T143000
DTSTAMP:20260423T005814
CREATED:20250702T154446Z
LAST-MODIFIED:20250702T154447Z
UID:10000588-1767792600-1767796200@www.clrcs.com
SUMMARY:Free Bingo
DESCRIPTION:Free Bingo every Wednesday at Ma-Te-Way Park at the splash pad. (myFM Centre)
URL:https://www.clrcs.com/event/free-bingo-2/2026-01-07/
LOCATION:myFM Centre\, 1 Ma-te-way Park Drive\, Renfrew\, Ontario\, K7V 4J4\, Canada
END:VEVENT
BEGIN:VEVENT
DTSTART;TZID=America/Toronto:20260108T133000
DTEND;TZID=America/Toronto:20260108T143000
DTSTAMP:20260423T005814
CREATED:20241105T152548Z
LAST-MODIFIED:20241105T152548Z
UID:10001110-1767879000-1767882600@www.clrcs.com
SUMMARY:Billiards
DESCRIPTION:Free drop in Billiards every Thursday at the Royal Canadian Legion Renfrew.
URL:https://www.clrcs.com/event/billiards/2026-01-08/
LOCATION:Royal Canadian Legion Branch #148\, 30 Raglan St. S.\, Renfrew\, ON\, K7V1P7\, Canada
END:VEVENT
BEGIN:VEVENT
DTSTART;TZID=America/Toronto:20260109T131500
DTEND;TZID=America/Toronto:20260109T143000
DTSTAMP:20260423T005814
CREATED:20241105T152731Z
LAST-MODIFIED:20241105T152731Z
UID:10001371-1767964500-1767969000@www.clrcs.com
SUMMARY:Bowling
DESCRIPTION:Only $4.25 per game!
URL:https://www.clrcs.com/event/bowling/2026-01-09/
LOCATION:Opeongo Bowldrome\, 233 Raglan St. S.\, Renfrew\, ON\, K7V1R3\, Canada
END:VEVENT
BEGIN:VEVENT
DTSTART;TZID=America/Toronto:20260112T130000
DTEND;TZID=America/Toronto:20260112T140000
DTSTAMP:20260423T005814
CREATED:20241104T204044Z
LAST-MODIFIED:20241104T204227Z
UID:10000067-1768222800-1768226400@www.clrcs.com
SUMMARY:Renfrew Legion Seniors Darts
DESCRIPTION:Come out for an afternoon of fun and friendship!
URL:https://www.clrcs.com/event/225234/2026-01-12/
LOCATION:Royal Canadian Legion Branch #148\, 30 Raglan St. S.\, Renfrew\, ON\, K7V1P7\, Canada
END:VEVENT
BEGIN:VEVENT
DTSTART;TZID=America/Toronto:20260114T103000
DTEND;TZID=America/Toronto:20260114T113000
DTSTAMP:20260423T005814
CREATED:20241104T204636Z
LAST-MODIFIED:20241104T204636Z
UID:10000328-1768386600-1768390200@www.clrcs.com
SUMMARY:Opeongo Bowldrome
DESCRIPTION:Join a game for only $4.25!!
URL:https://www.clrcs.com/event/opeongo-bowldrome/2026-01-14/
LOCATION:Opeongo Bowldrome\, 233 Raglan St. S.\, Renfrew\, ON\, K7V1R3\, Canada
END:VEVENT
BEGIN:VEVENT
DTSTART;TZID=America/Toronto:20260114T133000
DTEND;TZID=America/Toronto:20260114T143000
DTSTAMP:20260423T005814
CREATED:20250702T154446Z
LAST-MODIFIED:20250702T154447Z
UID:10000589-1768397400-1768401000@www.clrcs.com
SUMMARY:Free Bingo
DESCRIPTION:Free Bingo every Wednesday at Ma-Te-Way Park at the splash pad. (myFM Centre)
URL:https://www.clrcs.com/event/free-bingo-2/2026-01-14/
LOCATION:myFM Centre\, 1 Ma-te-way Park Drive\, Renfrew\, Ontario\, K7V 4J4\, Canada
END:VEVENT
END:VCALENDAR