BEGIN:VCALENDAR
VERSION:2.0
PRODID:-//CLRCS - ECPv6.15.20//NONSGML v1.0//EN
CALSCALE:GREGORIAN
METHOD:PUBLISH
X-ORIGINAL-URL:https://www.clrcs.com
X-WR-CALDESC:Events for CLRCS
REFRESH-INTERVAL;VALUE=DURATION:PT1H
X-Robots-Tag:noindex
X-PUBLISHED-TTL:PT1H
BEGIN:VTIMEZONE
TZID:America/Toronto
BEGIN:DAYLIGHT
TZOFFSETFROM:-0500
TZOFFSETTO:-0400
TZNAME:EDT
DTSTART:20240310T070000
END:DAYLIGHT
BEGIN:STANDARD
TZOFFSETFROM:-0400
TZOFFSETTO:-0500
TZNAME:EST
DTSTART:20241103T060000
END:STANDARD
BEGIN:DAYLIGHT
TZOFFSETFROM:-0500
TZOFFSETTO:-0400
TZNAME:EDT
DTSTART:20250309T070000
END:DAYLIGHT
BEGIN:STANDARD
TZOFFSETFROM:-0400
TZOFFSETTO:-0500
TZNAME:EST
DTSTART:20251102T060000
END:STANDARD
BEGIN:DAYLIGHT
TZOFFSETFROM:-0500
TZOFFSETTO:-0400
TZNAME:EDT
DTSTART:20260308T070000
END:DAYLIGHT
BEGIN:STANDARD
TZOFFSETFROM:-0400
TZOFFSETTO:-0500
TZNAME:EST
DTSTART:20261101T060000
END:STANDARD
END:VTIMEZONE
BEGIN:VEVENT
DTSTART;TZID=America/Toronto:20250711T131500
DTEND;TZID=America/Toronto:20250711T143000
DTSTAMP:20260423T172259
CREATED:20241105T152731Z
LAST-MODIFIED:20241105T152731Z
UID:10001345-1752239700-1752244200@www.clrcs.com
SUMMARY:Bowling
DESCRIPTION:Only $4.25 per game!
URL:https://www.clrcs.com/event/bowling/2025-07-11/
LOCATION:Opeongo Bowldrome\, 233 Raglan St. S.\, Renfrew\, ON\, K7V1R3\, Canada
END:VEVENT
BEGIN:VEVENT
DTSTART;TZID=America/Toronto:20250710T133000
DTEND;TZID=America/Toronto:20250710T143000
DTSTAMP:20260423T172259
CREATED:20241105T152548Z
LAST-MODIFIED:20241105T152548Z
UID:10001084-1752154200-1752157800@www.clrcs.com
SUMMARY:Billiards
DESCRIPTION:Free drop in Billiards every Thursday at the Royal Canadian Legion Renfrew.
URL:https://www.clrcs.com/event/billiards/2025-07-10/
LOCATION:Royal Canadian Legion Branch #148\, 30 Raglan St. S.\, Renfrew\, ON\, K7V1P7\, Canada
END:VEVENT
BEGIN:VEVENT
DTSTART;TZID=America/Toronto:20250709T133000
DTEND;TZID=America/Toronto:20250709T143000
DTSTAMP:20260423T172259
CREATED:20250702T154446Z
LAST-MODIFIED:20250702T154447Z
UID:10000562-1752067800-1752071400@www.clrcs.com
SUMMARY:Free Bingo
DESCRIPTION:Free Bingo every Wednesday at Ma-Te-Way Park at the splash pad. (myFM Centre)
URL:https://www.clrcs.com/event/free-bingo-2/2025-07-09/
LOCATION:myFM Centre\, 1 Ma-te-way Park Drive\, Renfrew\, Ontario\, K7V 4J4\, Canada
END:VEVENT
BEGIN:VEVENT
DTSTART;TZID=America/Toronto:20250709T103000
DTEND;TZID=America/Toronto:20250709T113000
DTSTAMP:20260423T172259
CREATED:20241104T204636Z
LAST-MODIFIED:20241104T204636Z
UID:10000301-1752057000-1752060600@www.clrcs.com
SUMMARY:Opeongo Bowldrome
DESCRIPTION:Join a game for only $4.25!!
URL:https://www.clrcs.com/event/opeongo-bowldrome/2025-07-09/
LOCATION:Opeongo Bowldrome\, 233 Raglan St. S.\, Renfrew\, ON\, K7V1R3\, Canada
END:VEVENT
BEGIN:VEVENT
DTSTART;TZID=America/Toronto:20250707T130000
DTEND;TZID=America/Toronto:20250707T140000
DTSTAMP:20260423T172259
CREATED:20241104T204044Z
LAST-MODIFIED:20241104T204227Z
UID:10000040-1751893200-1751896800@www.clrcs.com
SUMMARY:Renfrew Legion Seniors Darts
DESCRIPTION:Come out for an afternoon of fun and friendship!
URL:https://www.clrcs.com/event/225234/2025-07-07/
LOCATION:Royal Canadian Legion Branch #148\, 30 Raglan St. S.\, Renfrew\, ON\, K7V1P7\, Canada
END:VEVENT
BEGIN:VEVENT
DTSTART;TZID=America/Toronto:20250704T131500
DTEND;TZID=America/Toronto:20250704T143000
DTSTAMP:20260423T172259
CREATED:20241105T152731Z
LAST-MODIFIED:20241105T152731Z
UID:10001344-1751634900-1751639400@www.clrcs.com
SUMMARY:Bowling
DESCRIPTION:Only $4.25 per game!
URL:https://www.clrcs.com/event/bowling/2025-07-04/
LOCATION:Opeongo Bowldrome\, 233 Raglan St. S.\, Renfrew\, ON\, K7V1R3\, Canada
END:VEVENT
BEGIN:VEVENT
DTSTART;TZID=America/Toronto:20250703T133000
DTEND;TZID=America/Toronto:20250703T143000
DTSTAMP:20260423T172259
CREATED:20241105T152548Z
LAST-MODIFIED:20241105T152548Z
UID:10001083-1751549400-1751553000@www.clrcs.com
SUMMARY:Billiards
DESCRIPTION:Free drop in Billiards every Thursday at the Royal Canadian Legion Renfrew.
URL:https://www.clrcs.com/event/billiards/2025-07-03/
LOCATION:Royal Canadian Legion Branch #148\, 30 Raglan St. S.\, Renfrew\, ON\, K7V1P7\, Canada
END:VEVENT
BEGIN:VEVENT
DTSTART;TZID=America/Toronto:20250702T133000
DTEND;TZID=America/Toronto:20250702T143000
DTSTAMP:20260423T172259
CREATED:20250702T154446Z
LAST-MODIFIED:20250702T154447Z
UID:10000561-1751463000-1751466600@www.clrcs.com
SUMMARY:Free Bingo
DESCRIPTION:Free Bingo every Wednesday at Ma-Te-Way Park at the splash pad. (myFM Centre)
URL:https://www.clrcs.com/event/free-bingo-2/2025-07-02/
LOCATION:myFM Centre\, 1 Ma-te-way Park Drive\, Renfrew\, Ontario\, K7V 4J4\, Canada
END:VEVENT
BEGIN:VEVENT
DTSTART;TZID=America/Toronto:20250702T103000
DTEND;TZID=America/Toronto:20250702T113000
DTSTAMP:20260423T172259
CREATED:20241104T204636Z
LAST-MODIFIED:20241104T204636Z
UID:10000300-1751452200-1751455800@www.clrcs.com
SUMMARY:Opeongo Bowldrome
DESCRIPTION:Join a game for only $4.25!!
URL:https://www.clrcs.com/event/opeongo-bowldrome/2025-07-02/
LOCATION:Opeongo Bowldrome\, 233 Raglan St. S.\, Renfrew\, ON\, K7V1R3\, Canada
END:VEVENT
BEGIN:VEVENT
DTSTART;TZID=America/Toronto:20250630T130000
DTEND;TZID=America/Toronto:20250630T140000
DTSTAMP:20260423T172259
CREATED:20241104T204044Z
LAST-MODIFIED:20241104T204227Z
UID:10000039-1751288400-1751292000@www.clrcs.com
SUMMARY:Renfrew Legion Seniors Darts
DESCRIPTION:Come out for an afternoon of fun and friendship!
URL:https://www.clrcs.com/event/225234/2025-06-30/
LOCATION:Royal Canadian Legion Branch #148\, 30 Raglan St. S.\, Renfrew\, ON\, K7V1P7\, Canada
END:VEVENT
BEGIN:VEVENT
DTSTART;TZID=America/Toronto:20250627T131500
DTEND;TZID=America/Toronto:20250627T143000
DTSTAMP:20260423T172259
CREATED:20241105T152731Z
LAST-MODIFIED:20241105T152731Z
UID:10001343-1751030100-1751034600@www.clrcs.com
SUMMARY:Bowling
DESCRIPTION:Only $4.25 per game!
URL:https://www.clrcs.com/event/bowling/2025-06-27/
LOCATION:Opeongo Bowldrome\, 233 Raglan St. S.\, Renfrew\, ON\, K7V1R3\, Canada
END:VEVENT
BEGIN:VEVENT
DTSTART;TZID=America/Toronto:20250626T133000
DTEND;TZID=America/Toronto:20250626T143000
DTSTAMP:20260423T172259
CREATED:20241105T152548Z
LAST-MODIFIED:20241105T152548Z
UID:10001082-1750944600-1750948200@www.clrcs.com
SUMMARY:Billiards
DESCRIPTION:Free drop in Billiards every Thursday at the Royal Canadian Legion Renfrew.
URL:https://www.clrcs.com/event/billiards/2025-06-26/
LOCATION:Royal Canadian Legion Branch #148\, 30 Raglan St. S.\, Renfrew\, ON\, K7V1P7\, Canada
END:VEVENT
BEGIN:VEVENT
DTSTART;TZID=America/Toronto:20250625T133000
DTEND;TZID=America/Toronto:20250625T143000
DTSTAMP:20260423T172259
CREATED:20241104T204942Z
LAST-MODIFIED:20250702T154348Z
UID:10000560-1750858200-1750861800@www.clrcs.com
SUMMARY:Free Bingo
DESCRIPTION:Free Bingo every Wednesday at Ma-Te-Way Park at the splash pad. (myFM Centre)
URL:https://www.clrcs.com/event/free-bingo/2025-06-25/
LOCATION:myFM Centre\, 1 Ma-te-way Park Drive\, Renfrew\, Ontario\, K7V 4J4\, Canada
END:VEVENT
BEGIN:VEVENT
DTSTART;TZID=America/Toronto:20250625T103000
DTEND;TZID=America/Toronto:20250625T113000
DTSTAMP:20260423T172259
CREATED:20241104T204636Z
LAST-MODIFIED:20241104T204636Z
UID:10000299-1750847400-1750851000@www.clrcs.com
SUMMARY:Opeongo Bowldrome
DESCRIPTION:Join a game for only $4.25!!
URL:https://www.clrcs.com/event/opeongo-bowldrome/2025-06-25/
LOCATION:Opeongo Bowldrome\, 233 Raglan St. S.\, Renfrew\, ON\, K7V1R3\, Canada
END:VEVENT
BEGIN:VEVENT
DTSTART;TZID=America/Toronto:20250623T180000
DTEND;TZID=America/Toronto:20250623T210000
DTSTAMP:20260423T172259
CREATED:20250515T153119Z
LAST-MODIFIED:20250515T153119Z
UID:10001591-1750701600-1750712400@www.clrcs.com
SUMMARY:Annual General Meeting
DESCRIPTION:Join us for our Annual General Meeting on June 23\, 2025 @ 6 pm.
URL:https://www.clrcs.com/event/annual-general-meeting/
LOCATION:Trinity-St. Andrew’s United Church\, 291 Plaunt Street South\, Renfrew\, Ontario\, K7V 1N2\, Canada
END:VEVENT
BEGIN:VEVENT
DTSTART;TZID=America/Toronto:20250623T130000
DTEND;TZID=America/Toronto:20250623T140000
DTSTAMP:20260423T172259
CREATED:20241104T204044Z
LAST-MODIFIED:20241104T204227Z
UID:10000038-1750683600-1750687200@www.clrcs.com
SUMMARY:Renfrew Legion Seniors Darts
DESCRIPTION:Come out for an afternoon of fun and friendship!
URL:https://www.clrcs.com/event/225234/2025-06-23/
LOCATION:Royal Canadian Legion Branch #148\, 30 Raglan St. S.\, Renfrew\, ON\, K7V1P7\, Canada
END:VEVENT
BEGIN:VEVENT
DTSTART;TZID=America/Toronto:20250620T131500
DTEND;TZID=America/Toronto:20250620T143000
DTSTAMP:20260423T172259
CREATED:20241105T152731Z
LAST-MODIFIED:20241105T152731Z
UID:10001342-1750425300-1750429800@www.clrcs.com
SUMMARY:Bowling
DESCRIPTION:Only $4.25 per game!
URL:https://www.clrcs.com/event/bowling/2025-06-20/
LOCATION:Opeongo Bowldrome\, 233 Raglan St. S.\, Renfrew\, ON\, K7V1R3\, Canada
END:VEVENT
BEGIN:VEVENT
DTSTART;TZID=America/Toronto:20250619T133000
DTEND;TZID=America/Toronto:20250619T143000
DTSTAMP:20260423T172259
CREATED:20241105T152548Z
LAST-MODIFIED:20241105T152548Z
UID:10001081-1750339800-1750343400@www.clrcs.com
SUMMARY:Billiards
DESCRIPTION:Free drop in Billiards every Thursday at the Royal Canadian Legion Renfrew.
URL:https://www.clrcs.com/event/billiards/2025-06-19/
LOCATION:Royal Canadian Legion Branch #148\, 30 Raglan St. S.\, Renfrew\, ON\, K7V1P7\, Canada
END:VEVENT
BEGIN:VEVENT
DTSTART;TZID=America/Toronto:20250618T133000
DTEND;TZID=America/Toronto:20250618T143000
DTSTAMP:20260423T172259
CREATED:20241104T204942Z
LAST-MODIFIED:20250702T154348Z
UID:10000559-1750253400-1750257000@www.clrcs.com
SUMMARY:Free Bingo
DESCRIPTION:Free Bingo every Wednesday at Ma-Te-Way Park at the splash pad. (myFM Centre)
URL:https://www.clrcs.com/event/free-bingo/2025-06-18/
LOCATION:myFM Centre\, 1 Ma-te-way Park Drive\, Renfrew\, Ontario\, K7V 4J4\, Canada
END:VEVENT
BEGIN:VEVENT
DTSTART;TZID=America/Toronto:20250618T103000
DTEND;TZID=America/Toronto:20250618T113000
DTSTAMP:20260423T172259
CREATED:20241104T204636Z
LAST-MODIFIED:20241104T204636Z
UID:10000298-1750242600-1750246200@www.clrcs.com
SUMMARY:Opeongo Bowldrome
DESCRIPTION:Join a game for only $4.25!!
URL:https://www.clrcs.com/event/opeongo-bowldrome/2025-06-18/
LOCATION:Opeongo Bowldrome\, 233 Raglan St. S.\, Renfrew\, ON\, K7V1R3\, Canada
END:VEVENT
BEGIN:VEVENT
DTSTART;TZID=America/Toronto:20250616T180000
DTEND;TZID=America/Toronto:20250616T200000
DTSTAMP:20260423T172259
CREATED:20250514T163136Z
LAST-MODIFIED:20250514T174901Z
UID:10001586-1750096800-1750104000@www.clrcs.com
SUMMARY:AGM 2025
DESCRIPTION:MONDAY\, JUNE 23\, 2025 @ 6 PM \nSTEWART HALL\nTRINITY-ST. ANDREWS\n291 PLAUNT ST. S. RENFREW\, ON \nIf you plan on attending this event\, please RSVP to info@clrcs.com by June 16\, 2025. \nIf you have questions regarding our Strategic Priorities\, please submit your questions info@clrcs.com by June 16\, 2025. \nDownload Poster
URL:https://www.clrcs.com/event/agm-2025/
LOCATION:Trinity-St. Andrew’s United Church\, 291 Plaunt Street South\, Renfrew\, Ontario\, K7V 1N2\, Canada
ATTACH;FMTTYPE=image/jpeg:https://www.clrcs.com/wp2024/wp-content/uploads/2025/05/AGM_Banner_1.jpg
ORGANIZER;CN="Jen Tabar":MAILTO:jtabar@clrcs.com
END:VEVENT
BEGIN:VEVENT
DTSTART;TZID=America/Toronto:20250616T130000
DTEND;TZID=America/Toronto:20250616T140000
DTSTAMP:20260423T172259
CREATED:20241104T204044Z
LAST-MODIFIED:20241104T204227Z
UID:10000037-1750078800-1750082400@www.clrcs.com
SUMMARY:Renfrew Legion Seniors Darts
DESCRIPTION:Come out for an afternoon of fun and friendship!
URL:https://www.clrcs.com/event/225234/2025-06-16/
LOCATION:Royal Canadian Legion Branch #148\, 30 Raglan St. S.\, Renfrew\, ON\, K7V1P7\, Canada
END:VEVENT
BEGIN:VEVENT
DTSTART;TZID=America/Toronto:20250613T131500
DTEND;TZID=America/Toronto:20250613T143000
DTSTAMP:20260423T172259
CREATED:20241105T152731Z
LAST-MODIFIED:20241105T152731Z
UID:10001341-1749820500-1749825000@www.clrcs.com
SUMMARY:Bowling
DESCRIPTION:Only $4.25 per game!
URL:https://www.clrcs.com/event/bowling/2025-06-13/
LOCATION:Opeongo Bowldrome\, 233 Raglan St. S.\, Renfrew\, ON\, K7V1R3\, Canada
END:VEVENT
BEGIN:VEVENT
DTSTART;TZID=America/Toronto:20250612T133000
DTEND;TZID=America/Toronto:20250612T143000
DTSTAMP:20260423T172259
CREATED:20241105T152548Z
LAST-MODIFIED:20241105T152548Z
UID:10001080-1749735000-1749738600@www.clrcs.com
SUMMARY:Billiards
DESCRIPTION:Free drop in Billiards every Thursday at the Royal Canadian Legion Renfrew.
URL:https://www.clrcs.com/event/billiards/2025-06-12/
LOCATION:Royal Canadian Legion Branch #148\, 30 Raglan St. S.\, Renfrew\, ON\, K7V1P7\, Canada
END:VEVENT
BEGIN:VEVENT
DTSTART;TZID=America/Toronto:20250611T133000
DTEND;TZID=America/Toronto:20250611T143000
DTSTAMP:20260423T172259
CREATED:20241104T204942Z
LAST-MODIFIED:20250702T154348Z
UID:10000558-1749648600-1749652200@www.clrcs.com
SUMMARY:Free Bingo
DESCRIPTION:Free Bingo every Wednesday at Ma-Te-Way Park at the splash pad. (myFM Centre)
URL:https://www.clrcs.com/event/free-bingo/2025-06-11/
LOCATION:myFM Centre\, 1 Ma-te-way Park Drive\, Renfrew\, Ontario\, K7V 4J4\, Canada
END:VEVENT
BEGIN:VEVENT
DTSTART;TZID=America/Toronto:20250611T113000
DTEND;TZID=America/Toronto:20250611T123000
DTSTAMP:20260423T172259
CREATED:20250114T153926Z
LAST-MODIFIED:20250114T153926Z
UID:10001581-1749641400-1749645000@www.clrcs.com
SUMMARY:Community Friendship Meal
DESCRIPTION:Enjoy a free lunch prepared by students of St. Joseph’s Catholic High School.
URL:https://www.clrcs.com/event/community-friendship-meal-8/
LOCATION:Our Lady of Fatima Catholic Church\, 100 Lisgar Ave.\, Renfrew\, ON\, K7V 4A6\, Canada
END:VEVENT
BEGIN:VEVENT
DTSTART;TZID=America/Toronto:20250611T103000
DTEND;TZID=America/Toronto:20250611T113000
DTSTAMP:20260423T172259
CREATED:20241104T204636Z
LAST-MODIFIED:20241104T204636Z
UID:10000297-1749637800-1749641400@www.clrcs.com
SUMMARY:Opeongo Bowldrome
DESCRIPTION:Join a game for only $4.25!!
URL:https://www.clrcs.com/event/opeongo-bowldrome/2025-06-11/
LOCATION:Opeongo Bowldrome\, 233 Raglan St. S.\, Renfrew\, ON\, K7V1R3\, Canada
END:VEVENT
BEGIN:VEVENT
DTSTART;TZID=America/Toronto:20250609T130000
DTEND;TZID=America/Toronto:20250609T140000
DTSTAMP:20260423T172259
CREATED:20241104T204044Z
LAST-MODIFIED:20241104T204227Z
UID:10000036-1749474000-1749477600@www.clrcs.com
SUMMARY:Renfrew Legion Seniors Darts
DESCRIPTION:Come out for an afternoon of fun and friendship!
URL:https://www.clrcs.com/event/225234/2025-06-09/
LOCATION:Royal Canadian Legion Branch #148\, 30 Raglan St. S.\, Renfrew\, ON\, K7V1P7\, Canada
END:VEVENT
BEGIN:VEVENT
DTSTART;TZID=America/Toronto:20250606T131500
DTEND;TZID=America/Toronto:20250606T143000
DTSTAMP:20260423T172259
CREATED:20241105T152731Z
LAST-MODIFIED:20241105T152731Z
UID:10001340-1749215700-1749220200@www.clrcs.com
SUMMARY:Bowling
DESCRIPTION:Only $4.25 per game!
URL:https://www.clrcs.com/event/bowling/2025-06-06/
LOCATION:Opeongo Bowldrome\, 233 Raglan St. S.\, Renfrew\, ON\, K7V1R3\, Canada
END:VEVENT
BEGIN:VEVENT
DTSTART;TZID=America/Toronto:20250605T133000
DTEND;TZID=America/Toronto:20250605T143000
DTSTAMP:20260423T172259
CREATED:20241105T152548Z
LAST-MODIFIED:20241105T152548Z
UID:10001079-1749130200-1749133800@www.clrcs.com
SUMMARY:Billiards
DESCRIPTION:Free drop in Billiards every Thursday at the Royal Canadian Legion Renfrew.
URL:https://www.clrcs.com/event/billiards/2025-06-05/
LOCATION:Royal Canadian Legion Branch #148\, 30 Raglan St. S.\, Renfrew\, ON\, K7V1P7\, Canada
END:VEVENT
END:VCALENDAR