BEGIN:VCALENDAR
VERSION:2.0
PRODID:-//CLRCS - ECPv6.15.20//NONSGML v1.0//EN
CALSCALE:GREGORIAN
METHOD:PUBLISH
X-WR-CALNAME:CLRCS
X-ORIGINAL-URL:https://www.clrcs.com
X-WR-CALDESC:Events for CLRCS
REFRESH-INTERVAL;VALUE=DURATION:PT1H
X-Robots-Tag:noindex
X-PUBLISHED-TTL:PT1H
BEGIN:VTIMEZONE
TZID:America/Toronto
BEGIN:DAYLIGHT
TZOFFSETFROM:-0500
TZOFFSETTO:-0400
TZNAME:EDT
DTSTART:20230312T070000
END:DAYLIGHT
BEGIN:STANDARD
TZOFFSETFROM:-0400
TZOFFSETTO:-0500
TZNAME:EST
DTSTART:20231105T060000
END:STANDARD
BEGIN:DAYLIGHT
TZOFFSETFROM:-0500
TZOFFSETTO:-0400
TZNAME:EDT
DTSTART:20240310T070000
END:DAYLIGHT
BEGIN:STANDARD
TZOFFSETFROM:-0400
TZOFFSETTO:-0500
TZNAME:EST
DTSTART:20241103T060000
END:STANDARD
BEGIN:DAYLIGHT
TZOFFSETFROM:-0500
TZOFFSETTO:-0400
TZNAME:EDT
DTSTART:20250309T070000
END:DAYLIGHT
BEGIN:STANDARD
TZOFFSETFROM:-0400
TZOFFSETTO:-0500
TZNAME:EST
DTSTART:20251102T060000
END:STANDARD
END:VTIMEZONE
BEGIN:VTIMEZONE
TZID:UTC
BEGIN:STANDARD
TZOFFSETFROM:+0000
TZOFFSETTO:+0000
TZNAME:UTC
DTSTART:20230101T000000
END:STANDARD
END:VTIMEZONE
BEGIN:VEVENT
DTSTART;TZID=America/Toronto:20241106T133000
DTEND;TZID=America/Toronto:20241106T143000
DTSTAMP:20260424T223912
CREATED:20241104T204942Z
LAST-MODIFIED:20250702T154348Z
UID:10000527-1730899800-1730903400@www.clrcs.com
SUMMARY:Free Bingo
DESCRIPTION:Free Bingo every Wednesday at Ma-Te-Way Park at the splash pad. (myFM Centre)
URL:https://www.clrcs.com/event/free-bingo/2024-11-06/
LOCATION:myFM Centre\, 1 Ma-te-way Park Drive\, Renfrew\, Ontario\, K7V 4J4\, Canada
END:VEVENT
BEGIN:VEVENT
DTSTART;TZID=America/Toronto:20241106T103000
DTEND;TZID=America/Toronto:20241106T113000
DTSTAMP:20260424T223912
CREATED:20241104T204636Z
LAST-MODIFIED:20241104T204636Z
UID:10000266-1730889000-1730892600@www.clrcs.com
SUMMARY:Opeongo Bowldrome
DESCRIPTION:Join a game for only $4.25!!
URL:https://www.clrcs.com/event/opeongo-bowldrome/2024-11-06/
LOCATION:Opeongo Bowldrome\, 233 Raglan St. S.\, Renfrew\, ON\, K7V1R3\, Canada
END:VEVENT
BEGIN:VEVENT
DTSTART;TZID=America/Toronto:20241104T130000
DTEND;TZID=America/Toronto:20241104T140000
DTSTAMP:20260424T223912
CREATED:20241104T204044Z
LAST-MODIFIED:20241104T204227Z
UID:10000005-1730725200-1730728800@www.clrcs.com
SUMMARY:Renfrew Legion Seniors Darts
DESCRIPTION:Come out for an afternoon of fun and friendship!
URL:https://www.clrcs.com/event/225234/2024-11-04/
LOCATION:Royal Canadian Legion Branch #148\, 30 Raglan St. S.\, Renfrew\, ON\, K7V1P7\, Canada
END:VEVENT
BEGIN:VEVENT
DTSTART;TZID=UTC:20241006T070000
DTEND;TZID=UTC:20241006T130000
DTSTAMP:20260424T223912
CREATED:20240821T220050Z
LAST-MODIFIED:20240910T210551Z
UID:10000004-1728198000-1728219600@www.clrcs.com
SUMMARY:The Unity Run 2024
DESCRIPTION:Community Living Renfrew County South is proud to announce the return of our Unity Run! \nDate: October 6th\, 2024 \nRegistration: 7:15-8am \nStart Time: 8:30am \nLocation: Renfrew Armouries\n115 Veterans Memorial Blvd\nRenfrew\, Ontario \nFees: 1k – $25\, 5k – $50\, 10K – $50 \nRegister Online @ https://raceroster.com/events/2024/92183/unity-run \nRegistration forms can also be picked up in person at our Main Offices:\n326 Raglan St S.\, Renfrew or 106 McGonigal St.\, Arnprior. \nAll proceeds from this event will go directly to our Opportunities Fund.
URL:https://www.clrcs.com/event/unity-run-2024/
LOCATION:Renfrew Armouries\, 115 Veterans Memorial Blvd.\, Renfrew\, Ontario\, K7V 2R5\, Canada
END:VEVENT
BEGIN:VEVENT
DTSTART;TZID=UTC:20240926T133000
DTEND;TZID=UTC:20240926T153000
DTSTAMP:20260424T223912
CREATED:20240821T164322Z
LAST-MODIFIED:20240828T195221Z
UID:10000002-1727357400-1727364600@www.clrcs.com
SUMMARY:Family & Community Fall Forum
DESCRIPTION:Join us on September 26\, 2024 from 1:30 to 3:30 at the myFM Centre\, Multi Purpose Room #1 to discuss Journey to Belonging: Choice & Inclusion\, the new CLRCS’ Stragetic Plan and to discuss Developmental Services.
URL:https://www.clrcs.com/event/family-community-fall-forum/
LOCATION:myFM Centre\, 1 Ma-te-way Park Drive\, Renfrew\, Ontario\, K7V 4J4\, Canada
ATTACH;FMTTYPE=image/jpeg:https://www.clrcs.com/wp2024/wp-content/uploads/2024/08/a_1.jpg
END:VEVENT
END:VCALENDAR