BEGIN:VCALENDAR
VERSION:2.0
PRODID:-//CLRCS - ECPv6.15.20//NONSGML v1.0//EN
CALSCALE:GREGORIAN
METHOD:PUBLISH
X-WR-CALNAME:CLRCS
X-ORIGINAL-URL:https://www.clrcs.com
X-WR-CALDESC:Events for CLRCS
REFRESH-INTERVAL;VALUE=DURATION:PT1H
X-Robots-Tag:noindex
X-PUBLISHED-TTL:PT1H
BEGIN:VTIMEZONE
TZID:America/Toronto
BEGIN:DAYLIGHT
TZOFFSETFROM:-0500
TZOFFSETTO:-0400
TZNAME:EDT
DTSTART:20240310T070000
END:DAYLIGHT
BEGIN:STANDARD
TZOFFSETFROM:-0400
TZOFFSETTO:-0500
TZNAME:EST
DTSTART:20241103T060000
END:STANDARD
BEGIN:DAYLIGHT
TZOFFSETFROM:-0500
TZOFFSETTO:-0400
TZNAME:EDT
DTSTART:20250309T070000
END:DAYLIGHT
BEGIN:STANDARD
TZOFFSETFROM:-0400
TZOFFSETTO:-0500
TZNAME:EST
DTSTART:20251102T060000
END:STANDARD
BEGIN:DAYLIGHT
TZOFFSETFROM:-0500
TZOFFSETTO:-0400
TZNAME:EDT
DTSTART:20260308T070000
END:DAYLIGHT
BEGIN:STANDARD
TZOFFSETFROM:-0400
TZOFFSETTO:-0500
TZNAME:EST
DTSTART:20261101T060000
END:STANDARD
END:VTIMEZONE
BEGIN:VEVENT
DTSTART;TZID=America/Toronto:20251103T130000
DTEND;TZID=America/Toronto:20251103T140000
DTSTAMP:20260422T185555
CREATED:20241104T204044Z
LAST-MODIFIED:20241104T204227Z
UID:10000057-1762174800-1762178400@www.clrcs.com
SUMMARY:Renfrew Legion Seniors Darts
DESCRIPTION:Come out for an afternoon of fun and friendship!
URL:https://www.clrcs.com/event/225234/2025-11-03/
LOCATION:Royal Canadian Legion Branch #148\, 30 Raglan St. S.\, Renfrew\, ON\, K7V1P7\, Canada
END:VEVENT
BEGIN:VEVENT
DTSTART;TZID=America/Toronto:20251105T103000
DTEND;TZID=America/Toronto:20251105T113000
DTSTAMP:20260422T185555
CREATED:20241104T204636Z
LAST-MODIFIED:20241104T204636Z
UID:10000318-1762338600-1762342200@www.clrcs.com
SUMMARY:Opeongo Bowldrome
DESCRIPTION:Join a game for only $4.25!!
URL:https://www.clrcs.com/event/opeongo-bowldrome/2025-11-05/
LOCATION:Opeongo Bowldrome\, 233 Raglan St. S.\, Renfrew\, ON\, K7V1R3\, Canada
END:VEVENT
BEGIN:VEVENT
DTSTART;TZID=America/Toronto:20251105T133000
DTEND;TZID=America/Toronto:20251105T143000
DTSTAMP:20260422T185555
CREATED:20250702T154446Z
LAST-MODIFIED:20250702T154447Z
UID:10000579-1762349400-1762353000@www.clrcs.com
SUMMARY:Free Bingo
DESCRIPTION:Free Bingo every Wednesday at Ma-Te-Way Park at the splash pad. (myFM Centre)
URL:https://www.clrcs.com/event/free-bingo-2/2025-11-05/
LOCATION:myFM Centre\, 1 Ma-te-way Park Drive\, Renfrew\, Ontario\, K7V 4J4\, Canada
END:VEVENT
BEGIN:VEVENT
DTSTART;TZID=America/Toronto:20251106T133000
DTEND;TZID=America/Toronto:20251106T143000
DTSTAMP:20260422T185555
CREATED:20241105T152548Z
LAST-MODIFIED:20241105T152548Z
UID:10001101-1762435800-1762439400@www.clrcs.com
SUMMARY:Billiards
DESCRIPTION:Free drop in Billiards every Thursday at the Royal Canadian Legion Renfrew.
URL:https://www.clrcs.com/event/billiards/2025-11-06/
LOCATION:Royal Canadian Legion Branch #148\, 30 Raglan St. S.\, Renfrew\, ON\, K7V1P7\, Canada
END:VEVENT
BEGIN:VEVENT
DTSTART;TZID=America/Toronto:20251107T131500
DTEND;TZID=America/Toronto:20251107T143000
DTSTAMP:20260422T185555
CREATED:20241105T152731Z
LAST-MODIFIED:20241105T152731Z
UID:10001362-1762521300-1762525800@www.clrcs.com
SUMMARY:Bowling
DESCRIPTION:Only $4.25 per game!
URL:https://www.clrcs.com/event/bowling/2025-11-07/
LOCATION:Opeongo Bowldrome\, 233 Raglan St. S.\, Renfrew\, ON\, K7V1R3\, Canada
END:VEVENT
BEGIN:VEVENT
DTSTART;TZID=America/Toronto:20251110T130000
DTEND;TZID=America/Toronto:20251110T140000
DTSTAMP:20260422T185555
CREATED:20241104T204044Z
LAST-MODIFIED:20241104T204227Z
UID:10000058-1762779600-1762783200@www.clrcs.com
SUMMARY:Renfrew Legion Seniors Darts
DESCRIPTION:Come out for an afternoon of fun and friendship!
URL:https://www.clrcs.com/event/225234/2025-11-10/
LOCATION:Royal Canadian Legion Branch #148\, 30 Raglan St. S.\, Renfrew\, ON\, K7V1P7\, Canada
END:VEVENT
BEGIN:VEVENT
DTSTART;TZID=America/Toronto:20251112T103000
DTEND;TZID=America/Toronto:20251112T113000
DTSTAMP:20260422T185555
CREATED:20241104T204636Z
LAST-MODIFIED:20241104T204636Z
UID:10000319-1762943400-1762947000@www.clrcs.com
SUMMARY:Opeongo Bowldrome
DESCRIPTION:Join a game for only $4.25!!
URL:https://www.clrcs.com/event/opeongo-bowldrome/2025-11-12/
LOCATION:Opeongo Bowldrome\, 233 Raglan St. S.\, Renfrew\, ON\, K7V1R3\, Canada
END:VEVENT
BEGIN:VEVENT
DTSTART;TZID=America/Toronto:20251112T133000
DTEND;TZID=America/Toronto:20251112T143000
DTSTAMP:20260422T185555
CREATED:20250702T154446Z
LAST-MODIFIED:20250702T154447Z
UID:10000580-1762954200-1762957800@www.clrcs.com
SUMMARY:Free Bingo
DESCRIPTION:Free Bingo every Wednesday at Ma-Te-Way Park at the splash pad. (myFM Centre)
URL:https://www.clrcs.com/event/free-bingo-2/2025-11-12/
LOCATION:myFM Centre\, 1 Ma-te-way Park Drive\, Renfrew\, Ontario\, K7V 4J4\, Canada
END:VEVENT
BEGIN:VEVENT
DTSTART;TZID=America/Toronto:20251113T133000
DTEND;TZID=America/Toronto:20251113T143000
DTSTAMP:20260422T185555
CREATED:20241105T152548Z
LAST-MODIFIED:20241105T152548Z
UID:10001102-1763040600-1763044200@www.clrcs.com
SUMMARY:Billiards
DESCRIPTION:Free drop in Billiards every Thursday at the Royal Canadian Legion Renfrew.
URL:https://www.clrcs.com/event/billiards/2025-11-13/
LOCATION:Royal Canadian Legion Branch #148\, 30 Raglan St. S.\, Renfrew\, ON\, K7V1P7\, Canada
END:VEVENT
BEGIN:VEVENT
DTSTART;TZID=America/Toronto:20251114T131500
DTEND;TZID=America/Toronto:20251114T143000
DTSTAMP:20260422T185555
CREATED:20241105T152731Z
LAST-MODIFIED:20241105T152731Z
UID:10001363-1763126100-1763130600@www.clrcs.com
SUMMARY:Bowling
DESCRIPTION:Only $4.25 per game!
URL:https://www.clrcs.com/event/bowling/2025-11-14/
LOCATION:Opeongo Bowldrome\, 233 Raglan St. S.\, Renfrew\, ON\, K7V1R3\, Canada
END:VEVENT
BEGIN:VEVENT
DTSTART;TZID=America/Toronto:20251117T130000
DTEND;TZID=America/Toronto:20251117T140000
DTSTAMP:20260422T185555
CREATED:20241104T204044Z
LAST-MODIFIED:20241104T204227Z
UID:10000059-1763384400-1763388000@www.clrcs.com
SUMMARY:Renfrew Legion Seniors Darts
DESCRIPTION:Come out for an afternoon of fun and friendship!
URL:https://www.clrcs.com/event/225234/2025-11-17/
LOCATION:Royal Canadian Legion Branch #148\, 30 Raglan St. S.\, Renfrew\, ON\, K7V1P7\, Canada
END:VEVENT
BEGIN:VEVENT
DTSTART;TZID=America/Toronto:20251119T103000
DTEND;TZID=America/Toronto:20251119T113000
DTSTAMP:20260422T185555
CREATED:20241104T204636Z
LAST-MODIFIED:20241104T204636Z
UID:10000320-1763548200-1763551800@www.clrcs.com
SUMMARY:Opeongo Bowldrome
DESCRIPTION:Join a game for only $4.25!!
URL:https://www.clrcs.com/event/opeongo-bowldrome/2025-11-19/
LOCATION:Opeongo Bowldrome\, 233 Raglan St. S.\, Renfrew\, ON\, K7V1R3\, Canada
END:VEVENT
BEGIN:VEVENT
DTSTART;TZID=America/Toronto:20251119T133000
DTEND;TZID=America/Toronto:20251119T143000
DTSTAMP:20260422T185555
CREATED:20250702T154446Z
LAST-MODIFIED:20250702T154447Z
UID:10000581-1763559000-1763562600@www.clrcs.com
SUMMARY:Free Bingo
DESCRIPTION:Free Bingo every Wednesday at Ma-Te-Way Park at the splash pad. (myFM Centre)
URL:https://www.clrcs.com/event/free-bingo-2/2025-11-19/
LOCATION:myFM Centre\, 1 Ma-te-way Park Drive\, Renfrew\, Ontario\, K7V 4J4\, Canada
END:VEVENT
BEGIN:VEVENT
DTSTART;TZID=America/Toronto:20251120T133000
DTEND;TZID=America/Toronto:20251120T143000
DTSTAMP:20260422T185555
CREATED:20241105T152548Z
LAST-MODIFIED:20241105T152548Z
UID:10001103-1763645400-1763649000@www.clrcs.com
SUMMARY:Billiards
DESCRIPTION:Free drop in Billiards every Thursday at the Royal Canadian Legion Renfrew.
URL:https://www.clrcs.com/event/billiards/2025-11-20/
LOCATION:Royal Canadian Legion Branch #148\, 30 Raglan St. S.\, Renfrew\, ON\, K7V1P7\, Canada
END:VEVENT
BEGIN:VEVENT
DTSTART;TZID=America/Toronto:20251121T131500
DTEND;TZID=America/Toronto:20251121T143000
DTSTAMP:20260422T185555
CREATED:20241105T152731Z
LAST-MODIFIED:20241105T152731Z
UID:10001364-1763730900-1763735400@www.clrcs.com
SUMMARY:Bowling
DESCRIPTION:Only $4.25 per game!
URL:https://www.clrcs.com/event/bowling/2025-11-21/
LOCATION:Opeongo Bowldrome\, 233 Raglan St. S.\, Renfrew\, ON\, K7V1R3\, Canada
END:VEVENT
BEGIN:VEVENT
DTSTART;TZID=America/Toronto:20251124T130000
DTEND;TZID=America/Toronto:20251124T140000
DTSTAMP:20260422T185555
CREATED:20241104T204044Z
LAST-MODIFIED:20241104T204227Z
UID:10000060-1763989200-1763992800@www.clrcs.com
SUMMARY:Renfrew Legion Seniors Darts
DESCRIPTION:Come out for an afternoon of fun and friendship!
URL:https://www.clrcs.com/event/225234/2025-11-24/
LOCATION:Royal Canadian Legion Branch #148\, 30 Raglan St. S.\, Renfrew\, ON\, K7V1P7\, Canada
END:VEVENT
BEGIN:VEVENT
DTSTART;TZID=America/Toronto:20251126T103000
DTEND;TZID=America/Toronto:20251126T113000
DTSTAMP:20260422T185555
CREATED:20241104T204636Z
LAST-MODIFIED:20241104T204636Z
UID:10000321-1764153000-1764156600@www.clrcs.com
SUMMARY:Opeongo Bowldrome
DESCRIPTION:Join a game for only $4.25!!
URL:https://www.clrcs.com/event/opeongo-bowldrome/2025-11-26/
LOCATION:Opeongo Bowldrome\, 233 Raglan St. S.\, Renfrew\, ON\, K7V1R3\, Canada
END:VEVENT
BEGIN:VEVENT
DTSTART;TZID=America/Toronto:20251126T133000
DTEND;TZID=America/Toronto:20251126T143000
DTSTAMP:20260422T185555
CREATED:20250702T154446Z
LAST-MODIFIED:20250702T154447Z
UID:10000582-1764163800-1764167400@www.clrcs.com
SUMMARY:Free Bingo
DESCRIPTION:Free Bingo every Wednesday at Ma-Te-Way Park at the splash pad. (myFM Centre)
URL:https://www.clrcs.com/event/free-bingo-2/2025-11-26/
LOCATION:myFM Centre\, 1 Ma-te-way Park Drive\, Renfrew\, Ontario\, K7V 4J4\, Canada
END:VEVENT
BEGIN:VEVENT
DTSTART;TZID=America/Toronto:20251127T133000
DTEND;TZID=America/Toronto:20251127T143000
DTSTAMP:20260422T185555
CREATED:20241105T152548Z
LAST-MODIFIED:20241105T152548Z
UID:10001104-1764250200-1764253800@www.clrcs.com
SUMMARY:Billiards
DESCRIPTION:Free drop in Billiards every Thursday at the Royal Canadian Legion Renfrew.
URL:https://www.clrcs.com/event/billiards/2025-11-27/
LOCATION:Royal Canadian Legion Branch #148\, 30 Raglan St. S.\, Renfrew\, ON\, K7V1P7\, Canada
END:VEVENT
BEGIN:VEVENT
DTSTART;TZID=America/Toronto:20251128T131500
DTEND;TZID=America/Toronto:20251128T143000
DTSTAMP:20260422T185555
CREATED:20241105T152731Z
LAST-MODIFIED:20241105T152731Z
UID:10001365-1764335700-1764340200@www.clrcs.com
SUMMARY:Bowling
DESCRIPTION:Only $4.25 per game!
URL:https://www.clrcs.com/event/bowling/2025-11-28/
LOCATION:Opeongo Bowldrome\, 233 Raglan St. S.\, Renfrew\, ON\, K7V1R3\, Canada
END:VEVENT
END:VCALENDAR