BEGIN:VCALENDAR
VERSION:2.0
PRODID:-//CLRCS - ECPv6.15.20//NONSGML v1.0//EN
CALSCALE:GREGORIAN
METHOD:PUBLISH
X-WR-CALNAME:CLRCS
X-ORIGINAL-URL:https://www.clrcs.com
X-WR-CALDESC:Events for CLRCS
REFRESH-INTERVAL;VALUE=DURATION:PT1H
X-Robots-Tag:noindex
X-PUBLISHED-TTL:PT1H
BEGIN:VTIMEZONE
TZID:America/Toronto
BEGIN:DAYLIGHT
TZOFFSETFROM:-0500
TZOFFSETTO:-0400
TZNAME:EDT
DTSTART:20240310T070000
END:DAYLIGHT
BEGIN:STANDARD
TZOFFSETFROM:-0400
TZOFFSETTO:-0500
TZNAME:EST
DTSTART:20241103T060000
END:STANDARD
BEGIN:DAYLIGHT
TZOFFSETFROM:-0500
TZOFFSETTO:-0400
TZNAME:EDT
DTSTART:20250309T070000
END:DAYLIGHT
BEGIN:STANDARD
TZOFFSETFROM:-0400
TZOFFSETTO:-0500
TZNAME:EST
DTSTART:20251102T060000
END:STANDARD
BEGIN:DAYLIGHT
TZOFFSETFROM:-0500
TZOFFSETTO:-0400
TZNAME:EDT
DTSTART:20260308T070000
END:DAYLIGHT
BEGIN:STANDARD
TZOFFSETFROM:-0400
TZOFFSETTO:-0500
TZNAME:EST
DTSTART:20261101T060000
END:STANDARD
END:VTIMEZONE
BEGIN:VEVENT
DTSTART;TZID=America/Toronto:20250213T133000
DTEND;TZID=America/Toronto:20250213T143000
DTSTAMP:20260423T045957
CREATED:20241105T152548Z
LAST-MODIFIED:20241105T152548Z
UID:10001063-1739453400-1739457000@www.clrcs.com
SUMMARY:Billiards
DESCRIPTION:Free drop in Billiards every Thursday at the Royal Canadian Legion Renfrew.
URL:https://www.clrcs.com/event/billiards/2025-02-13/
LOCATION:Royal Canadian Legion Branch #148\, 30 Raglan St. S.\, Renfrew\, ON\, K7V1P7\, Canada
END:VEVENT
BEGIN:VEVENT
DTSTART;TZID=America/Toronto:20250214T131500
DTEND;TZID=America/Toronto:20250214T143000
DTSTAMP:20260423T045957
CREATED:20241105T152731Z
LAST-MODIFIED:20241105T152731Z
UID:10001324-1739538900-1739543400@www.clrcs.com
SUMMARY:Bowling
DESCRIPTION:Only $4.25 per game!
URL:https://www.clrcs.com/event/bowling/2025-02-14/
LOCATION:Opeongo Bowldrome\, 233 Raglan St. S.\, Renfrew\, ON\, K7V1R3\, Canada
END:VEVENT
BEGIN:VEVENT
DTSTART;TZID=America/Toronto:20250217T130000
DTEND;TZID=America/Toronto:20250217T140000
DTSTAMP:20260423T045957
CREATED:20241104T204044Z
LAST-MODIFIED:20241104T204227Z
UID:10000020-1739797200-1739800800@www.clrcs.com
SUMMARY:Renfrew Legion Seniors Darts
DESCRIPTION:Come out for an afternoon of fun and friendship!
URL:https://www.clrcs.com/event/225234/2025-02-17/
LOCATION:Royal Canadian Legion Branch #148\, 30 Raglan St. S.\, Renfrew\, ON\, K7V1P7\, Canada
END:VEVENT
BEGIN:VEVENT
DTSTART;TZID=America/Toronto:20250219T103000
DTEND;TZID=America/Toronto:20250219T113000
DTSTAMP:20260423T045957
CREATED:20241104T204636Z
LAST-MODIFIED:20241104T204636Z
UID:10000281-1739961000-1739964600@www.clrcs.com
SUMMARY:Opeongo Bowldrome
DESCRIPTION:Join a game for only $4.25!!
URL:https://www.clrcs.com/event/opeongo-bowldrome/2025-02-19/
LOCATION:Opeongo Bowldrome\, 233 Raglan St. S.\, Renfrew\, ON\, K7V1R3\, Canada
END:VEVENT
BEGIN:VEVENT
DTSTART;TZID=America/Toronto:20250219T133000
DTEND;TZID=America/Toronto:20250219T143000
DTSTAMP:20260423T045957
CREATED:20241104T204942Z
LAST-MODIFIED:20250702T154348Z
UID:10000542-1739971800-1739975400@www.clrcs.com
SUMMARY:Free Bingo
DESCRIPTION:Free Bingo every Wednesday at Ma-Te-Way Park at the splash pad. (myFM Centre)
URL:https://www.clrcs.com/event/free-bingo/2025-02-19/
LOCATION:myFM Centre\, 1 Ma-te-way Park Drive\, Renfrew\, Ontario\, K7V 4J4\, Canada
END:VEVENT
BEGIN:VEVENT
DTSTART;TZID=America/Toronto:20250220T133000
DTEND;TZID=America/Toronto:20250220T143000
DTSTAMP:20260423T045957
CREATED:20241105T152548Z
LAST-MODIFIED:20241105T152548Z
UID:10001064-1740058200-1740061800@www.clrcs.com
SUMMARY:Billiards
DESCRIPTION:Free drop in Billiards every Thursday at the Royal Canadian Legion Renfrew.
URL:https://www.clrcs.com/event/billiards/2025-02-20/
LOCATION:Royal Canadian Legion Branch #148\, 30 Raglan St. S.\, Renfrew\, ON\, K7V1P7\, Canada
END:VEVENT
BEGIN:VEVENT
DTSTART;TZID=America/Toronto:20250221T131500
DTEND;TZID=America/Toronto:20250221T143000
DTSTAMP:20260423T045957
CREATED:20241105T152731Z
LAST-MODIFIED:20241105T152731Z
UID:10001325-1740143700-1740148200@www.clrcs.com
SUMMARY:Bowling
DESCRIPTION:Only $4.25 per game!
URL:https://www.clrcs.com/event/bowling/2025-02-21/
LOCATION:Opeongo Bowldrome\, 233 Raglan St. S.\, Renfrew\, ON\, K7V1R3\, Canada
END:VEVENT
BEGIN:VEVENT
DTSTART;TZID=America/Toronto:20250224T130000
DTEND;TZID=America/Toronto:20250224T140000
DTSTAMP:20260423T045957
CREATED:20241104T204044Z
LAST-MODIFIED:20241104T204227Z
UID:10000021-1740402000-1740405600@www.clrcs.com
SUMMARY:Renfrew Legion Seniors Darts
DESCRIPTION:Come out for an afternoon of fun and friendship!
URL:https://www.clrcs.com/event/225234/2025-02-24/
LOCATION:Royal Canadian Legion Branch #148\, 30 Raglan St. S.\, Renfrew\, ON\, K7V1P7\, Canada
END:VEVENT
BEGIN:VEVENT
DTSTART;TZID=America/Toronto:20250225T113000
DTEND;TZID=America/Toronto:20250225T123000
DTSTAMP:20260423T045957
CREATED:20250114T154807Z
LAST-MODIFIED:20250114T154807Z
UID:10001583-1740483000-1740486600@www.clrcs.com
SUMMARY:Community Friendship Meal
DESCRIPTION:Enjoy a free lunch – Heart Health Month – Chili with cornbread crust\, macaroni and cheese and red desserts.
URL:https://www.clrcs.com/event/community-friendship-meal-10/
LOCATION:Trinity-St. Andrew’s United Church\, 291 Plaunt Street South\, Renfrew\, Ontario\, K7V 1N2\, Canada
END:VEVENT
BEGIN:VEVENT
DTSTART;TZID=America/Toronto:20250225T113000
DTEND;TZID=America/Toronto:20250225T123000
DTSTAMP:20260423T045957
CREATED:20250113T160317Z
LAST-MODIFIED:20250113T160317Z
UID:10001576-1740483000-1740486600@www.clrcs.com
SUMMARY:
DESCRIPTION:Community Friendship Meal at Trinity St. Andrews \nChili today!
URL:https://www.clrcs.com/event/225344/
LOCATION:Trinity-St. Andrew’s United Church\, 291 Plaunt Street South\, Renfrew\, Ontario\, K7V 1N2\, Canada
END:VEVENT
BEGIN:VEVENT
DTSTART;TZID=America/Toronto:20250226T103000
DTEND;TZID=America/Toronto:20250226T113000
DTSTAMP:20260423T045957
CREATED:20241104T204636Z
LAST-MODIFIED:20241104T204636Z
UID:10000282-1740565800-1740569400@www.clrcs.com
SUMMARY:Opeongo Bowldrome
DESCRIPTION:Join a game for only $4.25!!
URL:https://www.clrcs.com/event/opeongo-bowldrome/2025-02-26/
LOCATION:Opeongo Bowldrome\, 233 Raglan St. S.\, Renfrew\, ON\, K7V1R3\, Canada
END:VEVENT
BEGIN:VEVENT
DTSTART;TZID=America/Toronto:20250226T133000
DTEND;TZID=America/Toronto:20250226T143000
DTSTAMP:20260423T045957
CREATED:20241104T204942Z
LAST-MODIFIED:20250702T154348Z
UID:10000543-1740576600-1740580200@www.clrcs.com
SUMMARY:Free Bingo
DESCRIPTION:Free Bingo every Wednesday at Ma-Te-Way Park at the splash pad. (myFM Centre)
URL:https://www.clrcs.com/event/free-bingo/2025-02-26/
LOCATION:myFM Centre\, 1 Ma-te-way Park Drive\, Renfrew\, Ontario\, K7V 4J4\, Canada
END:VEVENT
BEGIN:VEVENT
DTSTART;TZID=America/Toronto:20250227T133000
DTEND;TZID=America/Toronto:20250227T143000
DTSTAMP:20260423T045957
CREATED:20241105T152548Z
LAST-MODIFIED:20241105T152548Z
UID:10001065-1740663000-1740666600@www.clrcs.com
SUMMARY:Billiards
DESCRIPTION:Free drop in Billiards every Thursday at the Royal Canadian Legion Renfrew.
URL:https://www.clrcs.com/event/billiards/2025-02-27/
LOCATION:Royal Canadian Legion Branch #148\, 30 Raglan St. S.\, Renfrew\, ON\, K7V1P7\, Canada
END:VEVENT
BEGIN:VEVENT
DTSTART;TZID=America/Toronto:20250228T131500
DTEND;TZID=America/Toronto:20250228T143000
DTSTAMP:20260423T045957
CREATED:20241105T152731Z
LAST-MODIFIED:20241105T152731Z
UID:10001326-1740748500-1740753000@www.clrcs.com
SUMMARY:Bowling
DESCRIPTION:Only $4.25 per game!
URL:https://www.clrcs.com/event/bowling/2025-02-28/
LOCATION:Opeongo Bowldrome\, 233 Raglan St. S.\, Renfrew\, ON\, K7V1R3\, Canada
END:VEVENT
BEGIN:VEVENT
DTSTART;TZID=America/Toronto:20250303T130000
DTEND;TZID=America/Toronto:20250303T140000
DTSTAMP:20260423T045957
CREATED:20241104T204044Z
LAST-MODIFIED:20241104T204227Z
UID:10000022-1741006800-1741010400@www.clrcs.com
SUMMARY:Renfrew Legion Seniors Darts
DESCRIPTION:Come out for an afternoon of fun and friendship!
URL:https://www.clrcs.com/event/225234/2025-03-03/
LOCATION:Royal Canadian Legion Branch #148\, 30 Raglan St. S.\, Renfrew\, ON\, K7V1P7\, Canada
END:VEVENT
BEGIN:VEVENT
DTSTART;TZID=America/Toronto:20250305T103000
DTEND;TZID=America/Toronto:20250305T113000
DTSTAMP:20260423T045957
CREATED:20241104T204636Z
LAST-MODIFIED:20241104T204636Z
UID:10000283-1741170600-1741174200@www.clrcs.com
SUMMARY:Opeongo Bowldrome
DESCRIPTION:Join a game for only $4.25!!
URL:https://www.clrcs.com/event/opeongo-bowldrome/2025-03-05/
LOCATION:Opeongo Bowldrome\, 233 Raglan St. S.\, Renfrew\, ON\, K7V1R3\, Canada
END:VEVENT
BEGIN:VEVENT
DTSTART;TZID=America/Toronto:20250305T133000
DTEND;TZID=America/Toronto:20250305T143000
DTSTAMP:20260423T045957
CREATED:20241104T204942Z
LAST-MODIFIED:20250702T154348Z
UID:10000544-1741181400-1741185000@www.clrcs.com
SUMMARY:Free Bingo
DESCRIPTION:Free Bingo every Wednesday at Ma-Te-Way Park at the splash pad. (myFM Centre)
URL:https://www.clrcs.com/event/free-bingo/2025-03-05/
LOCATION:myFM Centre\, 1 Ma-te-way Park Drive\, Renfrew\, Ontario\, K7V 4J4\, Canada
END:VEVENT
BEGIN:VEVENT
DTSTART;TZID=America/Toronto:20250306T133000
DTEND;TZID=America/Toronto:20250306T143000
DTSTAMP:20260423T045957
CREATED:20241105T152548Z
LAST-MODIFIED:20241105T152548Z
UID:10001066-1741267800-1741271400@www.clrcs.com
SUMMARY:Billiards
DESCRIPTION:Free drop in Billiards every Thursday at the Royal Canadian Legion Renfrew.
URL:https://www.clrcs.com/event/billiards/2025-03-06/
LOCATION:Royal Canadian Legion Branch #148\, 30 Raglan St. S.\, Renfrew\, ON\, K7V1P7\, Canada
END:VEVENT
BEGIN:VEVENT
DTSTART;TZID=America/Toronto:20250307T131500
DTEND;TZID=America/Toronto:20250307T143000
DTSTAMP:20260423T045957
CREATED:20241105T152731Z
LAST-MODIFIED:20241105T152731Z
UID:10001327-1741353300-1741357800@www.clrcs.com
SUMMARY:Bowling
DESCRIPTION:Only $4.25 per game!
URL:https://www.clrcs.com/event/bowling/2025-03-07/
LOCATION:Opeongo Bowldrome\, 233 Raglan St. S.\, Renfrew\, ON\, K7V1R3\, Canada
END:VEVENT
BEGIN:VEVENT
DTSTART;TZID=America/Toronto:20250310T130000
DTEND;TZID=America/Toronto:20250310T140000
DTSTAMP:20260423T045957
CREATED:20241104T204044Z
LAST-MODIFIED:20241104T204227Z
UID:10000023-1741611600-1741615200@www.clrcs.com
SUMMARY:Renfrew Legion Seniors Darts
DESCRIPTION:Come out for an afternoon of fun and friendship!
URL:https://www.clrcs.com/event/225234/2025-03-10/
LOCATION:Royal Canadian Legion Branch #148\, 30 Raglan St. S.\, Renfrew\, ON\, K7V1P7\, Canada
END:VEVENT
BEGIN:VEVENT
DTSTART;TZID=America/Toronto:20250312T103000
DTEND;TZID=America/Toronto:20250312T113000
DTSTAMP:20260423T045957
CREATED:20241104T204636Z
LAST-MODIFIED:20241104T204636Z
UID:10000284-1741775400-1741779000@www.clrcs.com
SUMMARY:Opeongo Bowldrome
DESCRIPTION:Join a game for only $4.25!!
URL:https://www.clrcs.com/event/opeongo-bowldrome/2025-03-12/
LOCATION:Opeongo Bowldrome\, 233 Raglan St. S.\, Renfrew\, ON\, K7V1R3\, Canada
END:VEVENT
BEGIN:VEVENT
DTSTART;TZID=America/Toronto:20250312T113000
DTEND;TZID=America/Toronto:20250312T123000
DTSTAMP:20260423T045957
CREATED:20250114T153709Z
LAST-MODIFIED:20250114T153709Z
UID:10001578-1741779000-1741782600@www.clrcs.com
SUMMARY:Community Friendship Meal
DESCRIPTION:Enjoy a free lunch prepared by students of St. Joseph’s Catholic High School.
URL:https://www.clrcs.com/event/community-friendship-meal-5/
LOCATION:Our Lady of Fatima Catholic Church\, 100 Lisgar Ave.\, Renfrew\, ON\, K7V 4A6\, Canada
END:VEVENT
BEGIN:VEVENT
DTSTART;TZID=America/Toronto:20250312T133000
DTEND;TZID=America/Toronto:20250312T143000
DTSTAMP:20260423T045957
CREATED:20241104T204942Z
LAST-MODIFIED:20250702T154348Z
UID:10000545-1741786200-1741789800@www.clrcs.com
SUMMARY:Free Bingo
DESCRIPTION:Free Bingo every Wednesday at Ma-Te-Way Park at the splash pad. (myFM Centre)
URL:https://www.clrcs.com/event/free-bingo/2025-03-12/
LOCATION:myFM Centre\, 1 Ma-te-way Park Drive\, Renfrew\, Ontario\, K7V 4J4\, Canada
END:VEVENT
BEGIN:VEVENT
DTSTART;TZID=America/Toronto:20250313T133000
DTEND;TZID=America/Toronto:20250313T143000
DTSTAMP:20260423T045957
CREATED:20241105T152548Z
LAST-MODIFIED:20241105T152548Z
UID:10001067-1741872600-1741876200@www.clrcs.com
SUMMARY:Billiards
DESCRIPTION:Free drop in Billiards every Thursday at the Royal Canadian Legion Renfrew.
URL:https://www.clrcs.com/event/billiards/2025-03-13/
LOCATION:Royal Canadian Legion Branch #148\, 30 Raglan St. S.\, Renfrew\, ON\, K7V1P7\, Canada
END:VEVENT
BEGIN:VEVENT
DTSTART;TZID=America/Toronto:20250314T131500
DTEND;TZID=America/Toronto:20250314T143000
DTSTAMP:20260423T045957
CREATED:20241105T152731Z
LAST-MODIFIED:20241105T152731Z
UID:10001328-1741958100-1741962600@www.clrcs.com
SUMMARY:Bowling
DESCRIPTION:Only $4.25 per game!
URL:https://www.clrcs.com/event/bowling/2025-03-14/
LOCATION:Opeongo Bowldrome\, 233 Raglan St. S.\, Renfrew\, ON\, K7V1R3\, Canada
END:VEVENT
BEGIN:VEVENT
DTSTART;TZID=America/Toronto:20250317T130000
DTEND;TZID=America/Toronto:20250317T140000
DTSTAMP:20260423T045957
CREATED:20241104T204044Z
LAST-MODIFIED:20241104T204227Z
UID:10000024-1742216400-1742220000@www.clrcs.com
SUMMARY:Renfrew Legion Seniors Darts
DESCRIPTION:Come out for an afternoon of fun and friendship!
URL:https://www.clrcs.com/event/225234/2025-03-17/
LOCATION:Royal Canadian Legion Branch #148\, 30 Raglan St. S.\, Renfrew\, ON\, K7V1P7\, Canada
END:VEVENT
BEGIN:VEVENT
DTSTART;TZID=America/Toronto:20250319T103000
DTEND;TZID=America/Toronto:20250319T113000
DTSTAMP:20260423T045957
CREATED:20241104T204636Z
LAST-MODIFIED:20241104T204636Z
UID:10000285-1742380200-1742383800@www.clrcs.com
SUMMARY:Opeongo Bowldrome
DESCRIPTION:Join a game for only $4.25!!
URL:https://www.clrcs.com/event/opeongo-bowldrome/2025-03-19/
LOCATION:Opeongo Bowldrome\, 233 Raglan St. S.\, Renfrew\, ON\, K7V1R3\, Canada
END:VEVENT
BEGIN:VEVENT
DTSTART;TZID=America/Toronto:20250319T133000
DTEND;TZID=America/Toronto:20250319T143000
DTSTAMP:20260423T045957
CREATED:20241104T204942Z
LAST-MODIFIED:20250702T154348Z
UID:10000546-1742391000-1742394600@www.clrcs.com
SUMMARY:Free Bingo
DESCRIPTION:Free Bingo every Wednesday at Ma-Te-Way Park at the splash pad. (myFM Centre)
URL:https://www.clrcs.com/event/free-bingo/2025-03-19/
LOCATION:myFM Centre\, 1 Ma-te-way Park Drive\, Renfrew\, Ontario\, K7V 4J4\, Canada
END:VEVENT
BEGIN:VEVENT
DTSTART;TZID=America/Toronto:20250320T133000
DTEND;TZID=America/Toronto:20250320T143000
DTSTAMP:20260423T045957
CREATED:20241105T152548Z
LAST-MODIFIED:20241105T152548Z
UID:10001068-1742477400-1742481000@www.clrcs.com
SUMMARY:Billiards
DESCRIPTION:Free drop in Billiards every Thursday at the Royal Canadian Legion Renfrew.
URL:https://www.clrcs.com/event/billiards/2025-03-20/
LOCATION:Royal Canadian Legion Branch #148\, 30 Raglan St. S.\, Renfrew\, ON\, K7V1P7\, Canada
END:VEVENT
BEGIN:VEVENT
DTSTART;TZID=America/Toronto:20250321T131500
DTEND;TZID=America/Toronto:20250321T143000
DTSTAMP:20260423T045957
CREATED:20241105T152731Z
LAST-MODIFIED:20241105T152731Z
UID:10001329-1742562900-1742567400@www.clrcs.com
SUMMARY:Bowling
DESCRIPTION:Only $4.25 per game!
URL:https://www.clrcs.com/event/bowling/2025-03-21/
LOCATION:Opeongo Bowldrome\, 233 Raglan St. S.\, Renfrew\, ON\, K7V1R3\, Canada
END:VEVENT
END:VCALENDAR