BEGIN:VCALENDAR
VERSION:2.0
PRODID:-//CLRCS - ECPv6.15.20//NONSGML v1.0//EN
CALSCALE:GREGORIAN
METHOD:PUBLISH
X-ORIGINAL-URL:https://www.clrcs.com
X-WR-CALDESC:Events for CLRCS
REFRESH-INTERVAL;VALUE=DURATION:PT1H
X-Robots-Tag:noindex
X-PUBLISHED-TTL:PT1H
BEGIN:VTIMEZONE
TZID:America/Toronto
BEGIN:DAYLIGHT
TZOFFSETFROM:-0500
TZOFFSETTO:-0400
TZNAME:EDT
DTSTART:20250309T070000
END:DAYLIGHT
BEGIN:STANDARD
TZOFFSETFROM:-0400
TZOFFSETTO:-0500
TZNAME:EST
DTSTART:20251102T060000
END:STANDARD
BEGIN:DAYLIGHT
TZOFFSETFROM:-0500
TZOFFSETTO:-0400
TZNAME:EDT
DTSTART:20260308T070000
END:DAYLIGHT
BEGIN:STANDARD
TZOFFSETFROM:-0400
TZOFFSETTO:-0500
TZNAME:EST
DTSTART:20261101T060000
END:STANDARD
BEGIN:DAYLIGHT
TZOFFSETFROM:-0500
TZOFFSETTO:-0400
TZNAME:EDT
DTSTART:20270314T070000
END:DAYLIGHT
BEGIN:STANDARD
TZOFFSETFROM:-0400
TZOFFSETTO:-0500
TZNAME:EST
DTSTART:20271107T060000
END:STANDARD
BEGIN:DAYLIGHT
TZOFFSETFROM:-0500
TZOFFSETTO:-0400
TZNAME:EDT
DTSTART:20280312T070000
END:DAYLIGHT
BEGIN:STANDARD
TZOFFSETFROM:-0400
TZOFFSETTO:-0500
TZNAME:EST
DTSTART:20281105T060000
END:STANDARD
END:VTIMEZONE
BEGIN:VEVENT
DTSTART;TZID=America/Toronto:20261214T130000
DTEND;TZID=America/Toronto:20261214T140000
DTSTAMP:20260423T074617
CREATED:20241104T204044Z
LAST-MODIFIED:20241104T204227Z
UID:10000115-1797253200-1797256800@www.clrcs.com
SUMMARY:Renfrew Legion Seniors Darts
DESCRIPTION:Come out for an afternoon of fun and friendship!
URL:https://www.clrcs.com/event/225234/2026-12-14/
LOCATION:Royal Canadian Legion Branch #148\, 30 Raglan St. S.\, Renfrew\, ON\, K7V1P7\, Canada
END:VEVENT
BEGIN:VEVENT
DTSTART;TZID=America/Toronto:20261216T103000
DTEND;TZID=America/Toronto:20261216T113000
DTSTAMP:20260423T074617
CREATED:20241104T204636Z
LAST-MODIFIED:20241104T204636Z
UID:10000376-1797417000-1797420600@www.clrcs.com
SUMMARY:Opeongo Bowldrome
DESCRIPTION:Join a game for only $4.25!!
URL:https://www.clrcs.com/event/opeongo-bowldrome/2026-12-16/
LOCATION:Opeongo Bowldrome\, 233 Raglan St. S.\, Renfrew\, ON\, K7V1R3\, Canada
END:VEVENT
BEGIN:VEVENT
DTSTART;TZID=America/Toronto:20261216T133000
DTEND;TZID=America/Toronto:20261216T143000
DTSTAMP:20260423T074617
CREATED:20250702T154446Z
LAST-MODIFIED:20250702T154447Z
UID:10000637-1797427800-1797431400@www.clrcs.com
SUMMARY:Free Bingo
DESCRIPTION:Free Bingo every Wednesday at Ma-Te-Way Park at the splash pad. (myFM Centre)
URL:https://www.clrcs.com/event/free-bingo-2/2026-12-16/
LOCATION:myFM Centre\, 1 Ma-te-way Park Drive\, Renfrew\, Ontario\, K7V 4J4\, Canada
END:VEVENT
BEGIN:VEVENT
DTSTART;TZID=America/Toronto:20261217T133000
DTEND;TZID=America/Toronto:20261217T143000
DTSTAMP:20260423T074617
CREATED:20241105T152548Z
LAST-MODIFIED:20241105T152548Z
UID:10001159-1797514200-1797517800@www.clrcs.com
SUMMARY:Billiards
DESCRIPTION:Free drop in Billiards every Thursday at the Royal Canadian Legion Renfrew.
URL:https://www.clrcs.com/event/billiards/2026-12-17/
LOCATION:Royal Canadian Legion Branch #148\, 30 Raglan St. S.\, Renfrew\, ON\, K7V1P7\, Canada
END:VEVENT
BEGIN:VEVENT
DTSTART;TZID=America/Toronto:20261218T131500
DTEND;TZID=America/Toronto:20261218T143000
DTSTAMP:20260423T074617
CREATED:20241105T152731Z
LAST-MODIFIED:20241105T152731Z
UID:10001420-1797599700-1797604200@www.clrcs.com
SUMMARY:Bowling
DESCRIPTION:Only $4.25 per game!
URL:https://www.clrcs.com/event/bowling/2026-12-18/
LOCATION:Opeongo Bowldrome\, 233 Raglan St. S.\, Renfrew\, ON\, K7V1R3\, Canada
END:VEVENT
BEGIN:VEVENT
DTSTART;TZID=America/Toronto:20261221T130000
DTEND;TZID=America/Toronto:20261221T140000
DTSTAMP:20260423T074617
CREATED:20241104T204044Z
LAST-MODIFIED:20241104T204227Z
UID:10000116-1797858000-1797861600@www.clrcs.com
SUMMARY:Renfrew Legion Seniors Darts
DESCRIPTION:Come out for an afternoon of fun and friendship!
URL:https://www.clrcs.com/event/225234/2026-12-21/
LOCATION:Royal Canadian Legion Branch #148\, 30 Raglan St. S.\, Renfrew\, ON\, K7V1P7\, Canada
END:VEVENT
BEGIN:VEVENT
DTSTART;TZID=America/Toronto:20261223T103000
DTEND;TZID=America/Toronto:20261223T113000
DTSTAMP:20260423T074617
CREATED:20241104T204636Z
LAST-MODIFIED:20241104T204636Z
UID:10000377-1798021800-1798025400@www.clrcs.com
SUMMARY:Opeongo Bowldrome
DESCRIPTION:Join a game for only $4.25!!
URL:https://www.clrcs.com/event/opeongo-bowldrome/2026-12-23/
LOCATION:Opeongo Bowldrome\, 233 Raglan St. S.\, Renfrew\, ON\, K7V1R3\, Canada
END:VEVENT
BEGIN:VEVENT
DTSTART;TZID=America/Toronto:20261223T133000
DTEND;TZID=America/Toronto:20261223T143000
DTSTAMP:20260423T074617
CREATED:20250702T154446Z
LAST-MODIFIED:20250702T154447Z
UID:10000638-1798032600-1798036200@www.clrcs.com
SUMMARY:Free Bingo
DESCRIPTION:Free Bingo every Wednesday at Ma-Te-Way Park at the splash pad. (myFM Centre)
URL:https://www.clrcs.com/event/free-bingo-2/2026-12-23/
LOCATION:myFM Centre\, 1 Ma-te-way Park Drive\, Renfrew\, Ontario\, K7V 4J4\, Canada
END:VEVENT
BEGIN:VEVENT
DTSTART;TZID=America/Toronto:20261224T133000
DTEND;TZID=America/Toronto:20261224T143000
DTSTAMP:20260423T074617
CREATED:20241105T152548Z
LAST-MODIFIED:20241105T152548Z
UID:10001160-1798119000-1798122600@www.clrcs.com
SUMMARY:Billiards
DESCRIPTION:Free drop in Billiards every Thursday at the Royal Canadian Legion Renfrew.
URL:https://www.clrcs.com/event/billiards/2026-12-24/
LOCATION:Royal Canadian Legion Branch #148\, 30 Raglan St. S.\, Renfrew\, ON\, K7V1P7\, Canada
END:VEVENT
BEGIN:VEVENT
DTSTART;TZID=America/Toronto:20261225T131500
DTEND;TZID=America/Toronto:20261225T143000
DTSTAMP:20260423T074617
CREATED:20241105T152731Z
LAST-MODIFIED:20241105T152731Z
UID:10001421-1798204500-1798209000@www.clrcs.com
SUMMARY:Bowling
DESCRIPTION:Only $4.25 per game!
URL:https://www.clrcs.com/event/bowling/2026-12-25/
LOCATION:Opeongo Bowldrome\, 233 Raglan St. S.\, Renfrew\, ON\, K7V1R3\, Canada
END:VEVENT
BEGIN:VEVENT
DTSTART;TZID=America/Toronto:20261228T130000
DTEND;TZID=America/Toronto:20261228T140000
DTSTAMP:20260423T074617
CREATED:20241104T204044Z
LAST-MODIFIED:20241104T204227Z
UID:10000117-1798462800-1798466400@www.clrcs.com
SUMMARY:Renfrew Legion Seniors Darts
DESCRIPTION:Come out for an afternoon of fun and friendship!
URL:https://www.clrcs.com/event/225234/2026-12-28/
LOCATION:Royal Canadian Legion Branch #148\, 30 Raglan St. S.\, Renfrew\, ON\, K7V1P7\, Canada
END:VEVENT
BEGIN:VEVENT
DTSTART;TZID=America/Toronto:20261230T103000
DTEND;TZID=America/Toronto:20261230T113000
DTSTAMP:20260423T074617
CREATED:20241104T204636Z
LAST-MODIFIED:20241104T204636Z
UID:10000378-1798626600-1798630200@www.clrcs.com
SUMMARY:Opeongo Bowldrome
DESCRIPTION:Join a game for only $4.25!!
URL:https://www.clrcs.com/event/opeongo-bowldrome/2026-12-30/
LOCATION:Opeongo Bowldrome\, 233 Raglan St. S.\, Renfrew\, ON\, K7V1R3\, Canada
END:VEVENT
BEGIN:VEVENT
DTSTART;TZID=America/Toronto:20261230T133000
DTEND;TZID=America/Toronto:20261230T143000
DTSTAMP:20260423T074617
CREATED:20250702T154446Z
LAST-MODIFIED:20250702T154447Z
UID:10000639-1798637400-1798641000@www.clrcs.com
SUMMARY:Free Bingo
DESCRIPTION:Free Bingo every Wednesday at Ma-Te-Way Park at the splash pad. (myFM Centre)
URL:https://www.clrcs.com/event/free-bingo-2/2026-12-30/
LOCATION:myFM Centre\, 1 Ma-te-way Park Drive\, Renfrew\, Ontario\, K7V 4J4\, Canada
END:VEVENT
BEGIN:VEVENT
DTSTART;TZID=America/Toronto:20261231T133000
DTEND;TZID=America/Toronto:20261231T143000
DTSTAMP:20260423T074617
CREATED:20241105T152548Z
LAST-MODIFIED:20241105T152548Z
UID:10001161-1798723800-1798727400@www.clrcs.com
SUMMARY:Billiards
DESCRIPTION:Free drop in Billiards every Thursday at the Royal Canadian Legion Renfrew.
URL:https://www.clrcs.com/event/billiards/2026-12-31/
LOCATION:Royal Canadian Legion Branch #148\, 30 Raglan St. S.\, Renfrew\, ON\, K7V1P7\, Canada
END:VEVENT
BEGIN:VEVENT
DTSTART;TZID=America/Toronto:20270101T131500
DTEND;TZID=America/Toronto:20270101T143000
DTSTAMP:20260423T074617
CREATED:20241105T152731Z
LAST-MODIFIED:20241105T152731Z
UID:10001422-1798809300-1798813800@www.clrcs.com
SUMMARY:Bowling
DESCRIPTION:Only $4.25 per game!
URL:https://www.clrcs.com/event/bowling/2027-01-01/
LOCATION:Opeongo Bowldrome\, 233 Raglan St. S.\, Renfrew\, ON\, K7V1R3\, Canada
END:VEVENT
BEGIN:VEVENT
DTSTART;TZID=America/Toronto:20270104T130000
DTEND;TZID=America/Toronto:20270104T140000
DTSTAMP:20260423T074617
CREATED:20241104T204044Z
LAST-MODIFIED:20241104T204227Z
UID:10000118-1799067600-1799071200@www.clrcs.com
SUMMARY:Renfrew Legion Seniors Darts
DESCRIPTION:Come out for an afternoon of fun and friendship!
URL:https://www.clrcs.com/event/225234/2027-01-04/
LOCATION:Royal Canadian Legion Branch #148\, 30 Raglan St. S.\, Renfrew\, ON\, K7V1P7\, Canada
END:VEVENT
BEGIN:VEVENT
DTSTART;TZID=America/Toronto:20270106T103000
DTEND;TZID=America/Toronto:20270106T113000
DTSTAMP:20260423T074617
CREATED:20241104T204636Z
LAST-MODIFIED:20241104T204636Z
UID:10000379-1799231400-1799235000@www.clrcs.com
SUMMARY:Opeongo Bowldrome
DESCRIPTION:Join a game for only $4.25!!
URL:https://www.clrcs.com/event/opeongo-bowldrome/2027-01-06/
LOCATION:Opeongo Bowldrome\, 233 Raglan St. S.\, Renfrew\, ON\, K7V1R3\, Canada
END:VEVENT
BEGIN:VEVENT
DTSTART;TZID=America/Toronto:20270106T133000
DTEND;TZID=America/Toronto:20270106T143000
DTSTAMP:20260423T074617
CREATED:20250702T154446Z
LAST-MODIFIED:20250702T154447Z
UID:10000640-1799242200-1799245800@www.clrcs.com
SUMMARY:Free Bingo
DESCRIPTION:Free Bingo every Wednesday at Ma-Te-Way Park at the splash pad. (myFM Centre)
URL:https://www.clrcs.com/event/free-bingo-2/2027-01-06/
LOCATION:myFM Centre\, 1 Ma-te-way Park Drive\, Renfrew\, Ontario\, K7V 4J4\, Canada
END:VEVENT
BEGIN:VEVENT
DTSTART;TZID=America/Toronto:20270107T133000
DTEND;TZID=America/Toronto:20270107T143000
DTSTAMP:20260423T074617
CREATED:20241105T152548Z
LAST-MODIFIED:20241105T152548Z
UID:10001162-1799328600-1799332200@www.clrcs.com
SUMMARY:Billiards
DESCRIPTION:Free drop in Billiards every Thursday at the Royal Canadian Legion Renfrew.
URL:https://www.clrcs.com/event/billiards/2027-01-07/
LOCATION:Royal Canadian Legion Branch #148\, 30 Raglan St. S.\, Renfrew\, ON\, K7V1P7\, Canada
END:VEVENT
BEGIN:VEVENT
DTSTART;TZID=America/Toronto:20270108T131500
DTEND;TZID=America/Toronto:20270108T143000
DTSTAMP:20260423T074617
CREATED:20241105T152731Z
LAST-MODIFIED:20241105T152731Z
UID:10001423-1799414100-1799418600@www.clrcs.com
SUMMARY:Bowling
DESCRIPTION:Only $4.25 per game!
URL:https://www.clrcs.com/event/bowling/2027-01-08/
LOCATION:Opeongo Bowldrome\, 233 Raglan St. S.\, Renfrew\, ON\, K7V1R3\, Canada
END:VEVENT
BEGIN:VEVENT
DTSTART;TZID=America/Toronto:20270111T130000
DTEND;TZID=America/Toronto:20270111T140000
DTSTAMP:20260423T074617
CREATED:20241104T204044Z
LAST-MODIFIED:20241104T204227Z
UID:10000119-1799672400-1799676000@www.clrcs.com
SUMMARY:Renfrew Legion Seniors Darts
DESCRIPTION:Come out for an afternoon of fun and friendship!
URL:https://www.clrcs.com/event/225234/2027-01-11/
LOCATION:Royal Canadian Legion Branch #148\, 30 Raglan St. S.\, Renfrew\, ON\, K7V1P7\, Canada
END:VEVENT
BEGIN:VEVENT
DTSTART;TZID=America/Toronto:20270113T103000
DTEND;TZID=America/Toronto:20270113T113000
DTSTAMP:20260423T074617
CREATED:20241104T204636Z
LAST-MODIFIED:20241104T204636Z
UID:10000380-1799836200-1799839800@www.clrcs.com
SUMMARY:Opeongo Bowldrome
DESCRIPTION:Join a game for only $4.25!!
URL:https://www.clrcs.com/event/opeongo-bowldrome/2027-01-13/
LOCATION:Opeongo Bowldrome\, 233 Raglan St. S.\, Renfrew\, ON\, K7V1R3\, Canada
END:VEVENT
BEGIN:VEVENT
DTSTART;TZID=America/Toronto:20270113T133000
DTEND;TZID=America/Toronto:20270113T143000
DTSTAMP:20260423T074617
CREATED:20250702T154446Z
LAST-MODIFIED:20250702T154447Z
UID:10000641-1799847000-1799850600@www.clrcs.com
SUMMARY:Free Bingo
DESCRIPTION:Free Bingo every Wednesday at Ma-Te-Way Park at the splash pad. (myFM Centre)
URL:https://www.clrcs.com/event/free-bingo-2/2027-01-13/
LOCATION:myFM Centre\, 1 Ma-te-way Park Drive\, Renfrew\, Ontario\, K7V 4J4\, Canada
END:VEVENT
BEGIN:VEVENT
DTSTART;TZID=America/Toronto:20270114T133000
DTEND;TZID=America/Toronto:20270114T143000
DTSTAMP:20260423T074617
CREATED:20241105T152548Z
LAST-MODIFIED:20241105T152548Z
UID:10001163-1799933400-1799937000@www.clrcs.com
SUMMARY:Billiards
DESCRIPTION:Free drop in Billiards every Thursday at the Royal Canadian Legion Renfrew.
URL:https://www.clrcs.com/event/billiards/2027-01-14/
LOCATION:Royal Canadian Legion Branch #148\, 30 Raglan St. S.\, Renfrew\, ON\, K7V1P7\, Canada
END:VEVENT
BEGIN:VEVENT
DTSTART;TZID=America/Toronto:20270115T131500
DTEND;TZID=America/Toronto:20270115T143000
DTSTAMP:20260423T074617
CREATED:20241105T152731Z
LAST-MODIFIED:20241105T152731Z
UID:10001424-1800018900-1800023400@www.clrcs.com
SUMMARY:Bowling
DESCRIPTION:Only $4.25 per game!
URL:https://www.clrcs.com/event/bowling/2027-01-15/
LOCATION:Opeongo Bowldrome\, 233 Raglan St. S.\, Renfrew\, ON\, K7V1R3\, Canada
END:VEVENT
BEGIN:VEVENT
DTSTART;TZID=America/Toronto:20270118T130000
DTEND;TZID=America/Toronto:20270118T140000
DTSTAMP:20260423T074617
CREATED:20241104T204044Z
LAST-MODIFIED:20241104T204227Z
UID:10000120-1800277200-1800280800@www.clrcs.com
SUMMARY:Renfrew Legion Seniors Darts
DESCRIPTION:Come out for an afternoon of fun and friendship!
URL:https://www.clrcs.com/event/225234/2027-01-18/
LOCATION:Royal Canadian Legion Branch #148\, 30 Raglan St. S.\, Renfrew\, ON\, K7V1P7\, Canada
END:VEVENT
BEGIN:VEVENT
DTSTART;TZID=America/Toronto:20270120T103000
DTEND;TZID=America/Toronto:20270120T113000
DTSTAMP:20260423T074617
CREATED:20241104T204636Z
LAST-MODIFIED:20241104T204636Z
UID:10000381-1800441000-1800444600@www.clrcs.com
SUMMARY:Opeongo Bowldrome
DESCRIPTION:Join a game for only $4.25!!
URL:https://www.clrcs.com/event/opeongo-bowldrome/2027-01-20/
LOCATION:Opeongo Bowldrome\, 233 Raglan St. S.\, Renfrew\, ON\, K7V1R3\, Canada
END:VEVENT
BEGIN:VEVENT
DTSTART;TZID=America/Toronto:20270120T133000
DTEND;TZID=America/Toronto:20270120T143000
DTSTAMP:20260423T074617
CREATED:20250702T154446Z
LAST-MODIFIED:20250702T154447Z
UID:10000642-1800451800-1800455400@www.clrcs.com
SUMMARY:Free Bingo
DESCRIPTION:Free Bingo every Wednesday at Ma-Te-Way Park at the splash pad. (myFM Centre)
URL:https://www.clrcs.com/event/free-bingo-2/2027-01-20/
LOCATION:myFM Centre\, 1 Ma-te-way Park Drive\, Renfrew\, Ontario\, K7V 4J4\, Canada
END:VEVENT
BEGIN:VEVENT
DTSTART;TZID=America/Toronto:20270121T133000
DTEND;TZID=America/Toronto:20270121T143000
DTSTAMP:20260423T074617
CREATED:20241105T152548Z
LAST-MODIFIED:20241105T152548Z
UID:10001164-1800538200-1800541800@www.clrcs.com
SUMMARY:Billiards
DESCRIPTION:Free drop in Billiards every Thursday at the Royal Canadian Legion Renfrew.
URL:https://www.clrcs.com/event/billiards/2027-01-21/
LOCATION:Royal Canadian Legion Branch #148\, 30 Raglan St. S.\, Renfrew\, ON\, K7V1P7\, Canada
END:VEVENT
BEGIN:VEVENT
DTSTART;TZID=America/Toronto:20270122T131500
DTEND;TZID=America/Toronto:20270122T143000
DTSTAMP:20260423T074617
CREATED:20241105T152731Z
LAST-MODIFIED:20241105T152731Z
UID:10001425-1800623700-1800628200@www.clrcs.com
SUMMARY:Bowling
DESCRIPTION:Only $4.25 per game!
URL:https://www.clrcs.com/event/bowling/2027-01-22/
LOCATION:Opeongo Bowldrome\, 233 Raglan St. S.\, Renfrew\, ON\, K7V1R3\, Canada
END:VEVENT
END:VCALENDAR