BEGIN:VCALENDAR
VERSION:2.0
PRODID:-//CLRCS - ECPv6.15.20//NONSGML v1.0//EN
CALSCALE:GREGORIAN
METHOD:PUBLISH
X-ORIGINAL-URL:https://www.clrcs.com
X-WR-CALDESC:Events for CLRCS
REFRESH-INTERVAL;VALUE=DURATION:PT1H
X-Robots-Tag:noindex
X-PUBLISHED-TTL:PT1H
BEGIN:VTIMEZONE
TZID:America/Toronto
BEGIN:DAYLIGHT
TZOFFSETFROM:-0500
TZOFFSETTO:-0400
TZNAME:EDT
DTSTART:20250309T070000
END:DAYLIGHT
BEGIN:STANDARD
TZOFFSETFROM:-0400
TZOFFSETTO:-0500
TZNAME:EST
DTSTART:20251102T060000
END:STANDARD
BEGIN:DAYLIGHT
TZOFFSETFROM:-0500
TZOFFSETTO:-0400
TZNAME:EDT
DTSTART:20260308T070000
END:DAYLIGHT
BEGIN:STANDARD
TZOFFSETFROM:-0400
TZOFFSETTO:-0500
TZNAME:EST
DTSTART:20261101T060000
END:STANDARD
BEGIN:DAYLIGHT
TZOFFSETFROM:-0500
TZOFFSETTO:-0400
TZNAME:EDT
DTSTART:20270314T070000
END:DAYLIGHT
BEGIN:STANDARD
TZOFFSETFROM:-0400
TZOFFSETTO:-0500
TZNAME:EST
DTSTART:20271107T060000
END:STANDARD
END:VTIMEZONE
BEGIN:VEVENT
DTSTART;TZID=America/Toronto:20260902T103000
DTEND;TZID=America/Toronto:20260902T113000
DTSTAMP:20260423T045933
CREATED:20241104T204636Z
LAST-MODIFIED:20241104T204636Z
UID:10000361-1788345000-1788348600@www.clrcs.com
SUMMARY:Opeongo Bowldrome
DESCRIPTION:Join a game for only $4.25!!
URL:https://www.clrcs.com/event/opeongo-bowldrome/2026-09-02/
LOCATION:Opeongo Bowldrome\, 233 Raglan St. S.\, Renfrew\, ON\, K7V1R3\, Canada
END:VEVENT
BEGIN:VEVENT
DTSTART;TZID=America/Toronto:20260902T133000
DTEND;TZID=America/Toronto:20260902T143000
DTSTAMP:20260423T045933
CREATED:20250702T154446Z
LAST-MODIFIED:20250702T154447Z
UID:10000622-1788355800-1788359400@www.clrcs.com
SUMMARY:Free Bingo
DESCRIPTION:Free Bingo every Wednesday at Ma-Te-Way Park at the splash pad. (myFM Centre)
URL:https://www.clrcs.com/event/free-bingo-2/2026-09-02/
LOCATION:myFM Centre\, 1 Ma-te-way Park Drive\, Renfrew\, Ontario\, K7V 4J4\, Canada
END:VEVENT
BEGIN:VEVENT
DTSTART;TZID=America/Toronto:20260903T133000
DTEND;TZID=America/Toronto:20260903T143000
DTSTAMP:20260423T045933
CREATED:20241105T152548Z
LAST-MODIFIED:20241105T152548Z
UID:10001144-1788442200-1788445800@www.clrcs.com
SUMMARY:Billiards
DESCRIPTION:Free drop in Billiards every Thursday at the Royal Canadian Legion Renfrew.
URL:https://www.clrcs.com/event/billiards/2026-09-03/
LOCATION:Royal Canadian Legion Branch #148\, 30 Raglan St. S.\, Renfrew\, ON\, K7V1P7\, Canada
END:VEVENT
BEGIN:VEVENT
DTSTART;TZID=America/Toronto:20260904T131500
DTEND;TZID=America/Toronto:20260904T143000
DTSTAMP:20260423T045933
CREATED:20241105T152731Z
LAST-MODIFIED:20241105T152731Z
UID:10001405-1788527700-1788532200@www.clrcs.com
SUMMARY:Bowling
DESCRIPTION:Only $4.25 per game!
URL:https://www.clrcs.com/event/bowling/2026-09-04/
LOCATION:Opeongo Bowldrome\, 233 Raglan St. S.\, Renfrew\, ON\, K7V1R3\, Canada
END:VEVENT
BEGIN:VEVENT
DTSTART;TZID=America/Toronto:20260907T130000
DTEND;TZID=America/Toronto:20260907T140000
DTSTAMP:20260423T045933
CREATED:20241104T204044Z
LAST-MODIFIED:20241104T204227Z
UID:10000101-1788786000-1788789600@www.clrcs.com
SUMMARY:Renfrew Legion Seniors Darts
DESCRIPTION:Come out for an afternoon of fun and friendship!
URL:https://www.clrcs.com/event/225234/2026-09-07/
LOCATION:Royal Canadian Legion Branch #148\, 30 Raglan St. S.\, Renfrew\, ON\, K7V1P7\, Canada
END:VEVENT
BEGIN:VEVENT
DTSTART;TZID=America/Toronto:20260909T103000
DTEND;TZID=America/Toronto:20260909T113000
DTSTAMP:20260423T045933
CREATED:20241104T204636Z
LAST-MODIFIED:20241104T204636Z
UID:10000362-1788949800-1788953400@www.clrcs.com
SUMMARY:Opeongo Bowldrome
DESCRIPTION:Join a game for only $4.25!!
URL:https://www.clrcs.com/event/opeongo-bowldrome/2026-09-09/
LOCATION:Opeongo Bowldrome\, 233 Raglan St. S.\, Renfrew\, ON\, K7V1R3\, Canada
END:VEVENT
BEGIN:VEVENT
DTSTART;TZID=America/Toronto:20260909T133000
DTEND;TZID=America/Toronto:20260909T143000
DTSTAMP:20260423T045933
CREATED:20250702T154446Z
LAST-MODIFIED:20250702T154447Z
UID:10000623-1788960600-1788964200@www.clrcs.com
SUMMARY:Free Bingo
DESCRIPTION:Free Bingo every Wednesday at Ma-Te-Way Park at the splash pad. (myFM Centre)
URL:https://www.clrcs.com/event/free-bingo-2/2026-09-09/
LOCATION:myFM Centre\, 1 Ma-te-way Park Drive\, Renfrew\, Ontario\, K7V 4J4\, Canada
END:VEVENT
BEGIN:VEVENT
DTSTART;TZID=America/Toronto:20260910T133000
DTEND;TZID=America/Toronto:20260910T143000
DTSTAMP:20260423T045933
CREATED:20241105T152548Z
LAST-MODIFIED:20241105T152548Z
UID:10001145-1789047000-1789050600@www.clrcs.com
SUMMARY:Billiards
DESCRIPTION:Free drop in Billiards every Thursday at the Royal Canadian Legion Renfrew.
URL:https://www.clrcs.com/event/billiards/2026-09-10/
LOCATION:Royal Canadian Legion Branch #148\, 30 Raglan St. S.\, Renfrew\, ON\, K7V1P7\, Canada
END:VEVENT
BEGIN:VEVENT
DTSTART;TZID=America/Toronto:20260911T131500
DTEND;TZID=America/Toronto:20260911T143000
DTSTAMP:20260423T045933
CREATED:20241105T152731Z
LAST-MODIFIED:20241105T152731Z
UID:10001406-1789132500-1789137000@www.clrcs.com
SUMMARY:Bowling
DESCRIPTION:Only $4.25 per game!
URL:https://www.clrcs.com/event/bowling/2026-09-11/
LOCATION:Opeongo Bowldrome\, 233 Raglan St. S.\, Renfrew\, ON\, K7V1R3\, Canada
END:VEVENT
BEGIN:VEVENT
DTSTART;TZID=America/Toronto:20260914T130000
DTEND;TZID=America/Toronto:20260914T140000
DTSTAMP:20260423T045933
CREATED:20241104T204044Z
LAST-MODIFIED:20241104T204227Z
UID:10000102-1789390800-1789394400@www.clrcs.com
SUMMARY:Renfrew Legion Seniors Darts
DESCRIPTION:Come out for an afternoon of fun and friendship!
URL:https://www.clrcs.com/event/225234/2026-09-14/
LOCATION:Royal Canadian Legion Branch #148\, 30 Raglan St. S.\, Renfrew\, ON\, K7V1P7\, Canada
END:VEVENT
BEGIN:VEVENT
DTSTART;TZID=America/Toronto:20260916T103000
DTEND;TZID=America/Toronto:20260916T113000
DTSTAMP:20260423T045933
CREATED:20241104T204636Z
LAST-MODIFIED:20241104T204636Z
UID:10000363-1789554600-1789558200@www.clrcs.com
SUMMARY:Opeongo Bowldrome
DESCRIPTION:Join a game for only $4.25!!
URL:https://www.clrcs.com/event/opeongo-bowldrome/2026-09-16/
LOCATION:Opeongo Bowldrome\, 233 Raglan St. S.\, Renfrew\, ON\, K7V1R3\, Canada
END:VEVENT
BEGIN:VEVENT
DTSTART;TZID=America/Toronto:20260916T133000
DTEND;TZID=America/Toronto:20260916T143000
DTSTAMP:20260423T045933
CREATED:20250702T154446Z
LAST-MODIFIED:20250702T154447Z
UID:10000624-1789565400-1789569000@www.clrcs.com
SUMMARY:Free Bingo
DESCRIPTION:Free Bingo every Wednesday at Ma-Te-Way Park at the splash pad. (myFM Centre)
URL:https://www.clrcs.com/event/free-bingo-2/2026-09-16/
LOCATION:myFM Centre\, 1 Ma-te-way Park Drive\, Renfrew\, Ontario\, K7V 4J4\, Canada
END:VEVENT
BEGIN:VEVENT
DTSTART;TZID=America/Toronto:20260917T133000
DTEND;TZID=America/Toronto:20260917T143000
DTSTAMP:20260423T045933
CREATED:20241105T152548Z
LAST-MODIFIED:20241105T152548Z
UID:10001146-1789651800-1789655400@www.clrcs.com
SUMMARY:Billiards
DESCRIPTION:Free drop in Billiards every Thursday at the Royal Canadian Legion Renfrew.
URL:https://www.clrcs.com/event/billiards/2026-09-17/
LOCATION:Royal Canadian Legion Branch #148\, 30 Raglan St. S.\, Renfrew\, ON\, K7V1P7\, Canada
END:VEVENT
BEGIN:VEVENT
DTSTART;TZID=America/Toronto:20260918T131500
DTEND;TZID=America/Toronto:20260918T143000
DTSTAMP:20260423T045933
CREATED:20241105T152731Z
LAST-MODIFIED:20241105T152731Z
UID:10001407-1789737300-1789741800@www.clrcs.com
SUMMARY:Bowling
DESCRIPTION:Only $4.25 per game!
URL:https://www.clrcs.com/event/bowling/2026-09-18/
LOCATION:Opeongo Bowldrome\, 233 Raglan St. S.\, Renfrew\, ON\, K7V1R3\, Canada
END:VEVENT
BEGIN:VEVENT
DTSTART;TZID=America/Toronto:20260921T130000
DTEND;TZID=America/Toronto:20260921T140000
DTSTAMP:20260423T045933
CREATED:20241104T204044Z
LAST-MODIFIED:20241104T204227Z
UID:10000103-1789995600-1789999200@www.clrcs.com
SUMMARY:Renfrew Legion Seniors Darts
DESCRIPTION:Come out for an afternoon of fun and friendship!
URL:https://www.clrcs.com/event/225234/2026-09-21/
LOCATION:Royal Canadian Legion Branch #148\, 30 Raglan St. S.\, Renfrew\, ON\, K7V1P7\, Canada
END:VEVENT
BEGIN:VEVENT
DTSTART;TZID=America/Toronto:20260923T103000
DTEND;TZID=America/Toronto:20260923T113000
DTSTAMP:20260423T045933
CREATED:20241104T204636Z
LAST-MODIFIED:20241104T204636Z
UID:10000364-1790159400-1790163000@www.clrcs.com
SUMMARY:Opeongo Bowldrome
DESCRIPTION:Join a game for only $4.25!!
URL:https://www.clrcs.com/event/opeongo-bowldrome/2026-09-23/
LOCATION:Opeongo Bowldrome\, 233 Raglan St. S.\, Renfrew\, ON\, K7V1R3\, Canada
END:VEVENT
BEGIN:VEVENT
DTSTART;TZID=America/Toronto:20260923T133000
DTEND;TZID=America/Toronto:20260923T143000
DTSTAMP:20260423T045933
CREATED:20250702T154446Z
LAST-MODIFIED:20250702T154447Z
UID:10000625-1790170200-1790173800@www.clrcs.com
SUMMARY:Free Bingo
DESCRIPTION:Free Bingo every Wednesday at Ma-Te-Way Park at the splash pad. (myFM Centre)
URL:https://www.clrcs.com/event/free-bingo-2/2026-09-23/
LOCATION:myFM Centre\, 1 Ma-te-way Park Drive\, Renfrew\, Ontario\, K7V 4J4\, Canada
END:VEVENT
BEGIN:VEVENT
DTSTART;TZID=America/Toronto:20260924T133000
DTEND;TZID=America/Toronto:20260924T143000
DTSTAMP:20260423T045933
CREATED:20241105T152548Z
LAST-MODIFIED:20241105T152548Z
UID:10001147-1790256600-1790260200@www.clrcs.com
SUMMARY:Billiards
DESCRIPTION:Free drop in Billiards every Thursday at the Royal Canadian Legion Renfrew.
URL:https://www.clrcs.com/event/billiards/2026-09-24/
LOCATION:Royal Canadian Legion Branch #148\, 30 Raglan St. S.\, Renfrew\, ON\, K7V1P7\, Canada
END:VEVENT
BEGIN:VEVENT
DTSTART;TZID=America/Toronto:20260925T131500
DTEND;TZID=America/Toronto:20260925T143000
DTSTAMP:20260423T045933
CREATED:20241105T152731Z
LAST-MODIFIED:20241105T152731Z
UID:10001408-1790342100-1790346600@www.clrcs.com
SUMMARY:Bowling
DESCRIPTION:Only $4.25 per game!
URL:https://www.clrcs.com/event/bowling/2026-09-25/
LOCATION:Opeongo Bowldrome\, 233 Raglan St. S.\, Renfrew\, ON\, K7V1R3\, Canada
END:VEVENT
BEGIN:VEVENT
DTSTART;TZID=America/Toronto:20260928T130000
DTEND;TZID=America/Toronto:20260928T140000
DTSTAMP:20260423T045933
CREATED:20241104T204044Z
LAST-MODIFIED:20241104T204227Z
UID:10000104-1790600400-1790604000@www.clrcs.com
SUMMARY:Renfrew Legion Seniors Darts
DESCRIPTION:Come out for an afternoon of fun and friendship!
URL:https://www.clrcs.com/event/225234/2026-09-28/
LOCATION:Royal Canadian Legion Branch #148\, 30 Raglan St. S.\, Renfrew\, ON\, K7V1P7\, Canada
END:VEVENT
BEGIN:VEVENT
DTSTART;TZID=America/Toronto:20260930T103000
DTEND;TZID=America/Toronto:20260930T113000
DTSTAMP:20260423T045933
CREATED:20241104T204636Z
LAST-MODIFIED:20241104T204636Z
UID:10000365-1790764200-1790767800@www.clrcs.com
SUMMARY:Opeongo Bowldrome
DESCRIPTION:Join a game for only $4.25!!
URL:https://www.clrcs.com/event/opeongo-bowldrome/2026-09-30/
LOCATION:Opeongo Bowldrome\, 233 Raglan St. S.\, Renfrew\, ON\, K7V1R3\, Canada
END:VEVENT
BEGIN:VEVENT
DTSTART;TZID=America/Toronto:20260930T133000
DTEND;TZID=America/Toronto:20260930T143000
DTSTAMP:20260423T045933
CREATED:20250702T154446Z
LAST-MODIFIED:20250702T154447Z
UID:10000626-1790775000-1790778600@www.clrcs.com
SUMMARY:Free Bingo
DESCRIPTION:Free Bingo every Wednesday at Ma-Te-Way Park at the splash pad. (myFM Centre)
URL:https://www.clrcs.com/event/free-bingo-2/2026-09-30/
LOCATION:myFM Centre\, 1 Ma-te-way Park Drive\, Renfrew\, Ontario\, K7V 4J4\, Canada
END:VEVENT
BEGIN:VEVENT
DTSTART;TZID=America/Toronto:20261001T133000
DTEND;TZID=America/Toronto:20261001T143000
DTSTAMP:20260423T045933
CREATED:20241105T152548Z
LAST-MODIFIED:20241105T152548Z
UID:10001148-1790861400-1790865000@www.clrcs.com
SUMMARY:Billiards
DESCRIPTION:Free drop in Billiards every Thursday at the Royal Canadian Legion Renfrew.
URL:https://www.clrcs.com/event/billiards/2026-10-01/
LOCATION:Royal Canadian Legion Branch #148\, 30 Raglan St. S.\, Renfrew\, ON\, K7V1P7\, Canada
END:VEVENT
BEGIN:VEVENT
DTSTART;TZID=America/Toronto:20261002T131500
DTEND;TZID=America/Toronto:20261002T143000
DTSTAMP:20260423T045933
CREATED:20241105T152731Z
LAST-MODIFIED:20241105T152731Z
UID:10001409-1790946900-1790951400@www.clrcs.com
SUMMARY:Bowling
DESCRIPTION:Only $4.25 per game!
URL:https://www.clrcs.com/event/bowling/2026-10-02/
LOCATION:Opeongo Bowldrome\, 233 Raglan St. S.\, Renfrew\, ON\, K7V1R3\, Canada
END:VEVENT
BEGIN:VEVENT
DTSTART;TZID=America/Toronto:20261005T130000
DTEND;TZID=America/Toronto:20261005T140000
DTSTAMP:20260423T045933
CREATED:20241104T204044Z
LAST-MODIFIED:20241104T204227Z
UID:10000105-1791205200-1791208800@www.clrcs.com
SUMMARY:Renfrew Legion Seniors Darts
DESCRIPTION:Come out for an afternoon of fun and friendship!
URL:https://www.clrcs.com/event/225234/2026-10-05/
LOCATION:Royal Canadian Legion Branch #148\, 30 Raglan St. S.\, Renfrew\, ON\, K7V1P7\, Canada
END:VEVENT
BEGIN:VEVENT
DTSTART;TZID=America/Toronto:20261007T103000
DTEND;TZID=America/Toronto:20261007T113000
DTSTAMP:20260423T045933
CREATED:20241104T204636Z
LAST-MODIFIED:20241104T204636Z
UID:10000366-1791369000-1791372600@www.clrcs.com
SUMMARY:Opeongo Bowldrome
DESCRIPTION:Join a game for only $4.25!!
URL:https://www.clrcs.com/event/opeongo-bowldrome/2026-10-07/
LOCATION:Opeongo Bowldrome\, 233 Raglan St. S.\, Renfrew\, ON\, K7V1R3\, Canada
END:VEVENT
BEGIN:VEVENT
DTSTART;TZID=America/Toronto:20261007T133000
DTEND;TZID=America/Toronto:20261007T143000
DTSTAMP:20260423T045933
CREATED:20250702T154446Z
LAST-MODIFIED:20250702T154447Z
UID:10000627-1791379800-1791383400@www.clrcs.com
SUMMARY:Free Bingo
DESCRIPTION:Free Bingo every Wednesday at Ma-Te-Way Park at the splash pad. (myFM Centre)
URL:https://www.clrcs.com/event/free-bingo-2/2026-10-07/
LOCATION:myFM Centre\, 1 Ma-te-way Park Drive\, Renfrew\, Ontario\, K7V 4J4\, Canada
END:VEVENT
BEGIN:VEVENT
DTSTART;TZID=America/Toronto:20261008T133000
DTEND;TZID=America/Toronto:20261008T143000
DTSTAMP:20260423T045933
CREATED:20241105T152548Z
LAST-MODIFIED:20241105T152548Z
UID:10001149-1791466200-1791469800@www.clrcs.com
SUMMARY:Billiards
DESCRIPTION:Free drop in Billiards every Thursday at the Royal Canadian Legion Renfrew.
URL:https://www.clrcs.com/event/billiards/2026-10-08/
LOCATION:Royal Canadian Legion Branch #148\, 30 Raglan St. S.\, Renfrew\, ON\, K7V1P7\, Canada
END:VEVENT
BEGIN:VEVENT
DTSTART;TZID=America/Toronto:20261009T131500
DTEND;TZID=America/Toronto:20261009T143000
DTSTAMP:20260423T045933
CREATED:20241105T152731Z
LAST-MODIFIED:20241105T152731Z
UID:10001410-1791551700-1791556200@www.clrcs.com
SUMMARY:Bowling
DESCRIPTION:Only $4.25 per game!
URL:https://www.clrcs.com/event/bowling/2026-10-09/
LOCATION:Opeongo Bowldrome\, 233 Raglan St. S.\, Renfrew\, ON\, K7V1R3\, Canada
END:VEVENT
BEGIN:VEVENT
DTSTART;TZID=America/Toronto:20261012T130000
DTEND;TZID=America/Toronto:20261012T140000
DTSTAMP:20260423T045933
CREATED:20241104T204044Z
LAST-MODIFIED:20241104T204227Z
UID:10000106-1791810000-1791813600@www.clrcs.com
SUMMARY:Renfrew Legion Seniors Darts
DESCRIPTION:Come out for an afternoon of fun and friendship!
URL:https://www.clrcs.com/event/225234/2026-10-12/
LOCATION:Royal Canadian Legion Branch #148\, 30 Raglan St. S.\, Renfrew\, ON\, K7V1P7\, Canada
END:VEVENT
END:VCALENDAR