BEGIN:VCALENDAR
VERSION:2.0
PRODID:-//CLRCS - ECPv6.15.20//NONSGML v1.0//EN
CALSCALE:GREGORIAN
METHOD:PUBLISH
X-ORIGINAL-URL:https://www.clrcs.com
X-WR-CALDESC:Events for CLRCS
REFRESH-INTERVAL;VALUE=DURATION:PT1H
X-Robots-Tag:noindex
X-PUBLISHED-TTL:PT1H
BEGIN:VTIMEZONE
TZID:America/Toronto
BEGIN:DAYLIGHT
TZOFFSETFROM:-0500
TZOFFSETTO:-0400
TZNAME:EDT
DTSTART:20250309T070000
END:DAYLIGHT
BEGIN:STANDARD
TZOFFSETFROM:-0400
TZOFFSETTO:-0500
TZNAME:EST
DTSTART:20251102T060000
END:STANDARD
BEGIN:DAYLIGHT
TZOFFSETFROM:-0500
TZOFFSETTO:-0400
TZNAME:EDT
DTSTART:20260308T070000
END:DAYLIGHT
BEGIN:STANDARD
TZOFFSETFROM:-0400
TZOFFSETTO:-0500
TZNAME:EST
DTSTART:20261101T060000
END:STANDARD
BEGIN:DAYLIGHT
TZOFFSETFROM:-0500
TZOFFSETTO:-0400
TZNAME:EDT
DTSTART:20270314T070000
END:DAYLIGHT
BEGIN:STANDARD
TZOFFSETFROM:-0400
TZOFFSETTO:-0500
TZNAME:EST
DTSTART:20271107T060000
END:STANDARD
END:VTIMEZONE
BEGIN:VEVENT
DTSTART;TZID=America/Toronto:20260805T133000
DTEND;TZID=America/Toronto:20260805T143000
DTSTAMP:20260423T012419
CREATED:20250702T154446Z
LAST-MODIFIED:20250702T154447Z
UID:10000618-1785936600-1785940200@www.clrcs.com
SUMMARY:Free Bingo
DESCRIPTION:Free Bingo every Wednesday at Ma-Te-Way Park at the splash pad. (myFM Centre)
URL:https://www.clrcs.com/event/free-bingo-2/2026-08-05/
LOCATION:myFM Centre\, 1 Ma-te-way Park Drive\, Renfrew\, Ontario\, K7V 4J4\, Canada
END:VEVENT
BEGIN:VEVENT
DTSTART;TZID=America/Toronto:20260806T133000
DTEND;TZID=America/Toronto:20260806T143000
DTSTAMP:20260423T012419
CREATED:20241105T152548Z
LAST-MODIFIED:20241105T152548Z
UID:10001140-1786023000-1786026600@www.clrcs.com
SUMMARY:Billiards
DESCRIPTION:Free drop in Billiards every Thursday at the Royal Canadian Legion Renfrew.
URL:https://www.clrcs.com/event/billiards/2026-08-06/
LOCATION:Royal Canadian Legion Branch #148\, 30 Raglan St. S.\, Renfrew\, ON\, K7V1P7\, Canada
END:VEVENT
BEGIN:VEVENT
DTSTART;TZID=America/Toronto:20260807T131500
DTEND;TZID=America/Toronto:20260807T143000
DTSTAMP:20260423T012419
CREATED:20241105T152731Z
LAST-MODIFIED:20241105T152731Z
UID:10001401-1786108500-1786113000@www.clrcs.com
SUMMARY:Bowling
DESCRIPTION:Only $4.25 per game!
URL:https://www.clrcs.com/event/bowling/2026-08-07/
LOCATION:Opeongo Bowldrome\, 233 Raglan St. S.\, Renfrew\, ON\, K7V1R3\, Canada
END:VEVENT
BEGIN:VEVENT
DTSTART;TZID=America/Toronto:20260810T130000
DTEND;TZID=America/Toronto:20260810T140000
DTSTAMP:20260423T012419
CREATED:20241104T204044Z
LAST-MODIFIED:20241104T204227Z
UID:10000097-1786366800-1786370400@www.clrcs.com
SUMMARY:Renfrew Legion Seniors Darts
DESCRIPTION:Come out for an afternoon of fun and friendship!
URL:https://www.clrcs.com/event/225234/2026-08-10/
LOCATION:Royal Canadian Legion Branch #148\, 30 Raglan St. S.\, Renfrew\, ON\, K7V1P7\, Canada
END:VEVENT
BEGIN:VEVENT
DTSTART;TZID=America/Toronto:20260812T103000
DTEND;TZID=America/Toronto:20260812T113000
DTSTAMP:20260423T012419
CREATED:20241104T204636Z
LAST-MODIFIED:20241104T204636Z
UID:10000358-1786530600-1786534200@www.clrcs.com
SUMMARY:Opeongo Bowldrome
DESCRIPTION:Join a game for only $4.25!!
URL:https://www.clrcs.com/event/opeongo-bowldrome/2026-08-12/
LOCATION:Opeongo Bowldrome\, 233 Raglan St. S.\, Renfrew\, ON\, K7V1R3\, Canada
END:VEVENT
BEGIN:VEVENT
DTSTART;TZID=America/Toronto:20260812T133000
DTEND;TZID=America/Toronto:20260812T143000
DTSTAMP:20260423T012419
CREATED:20250702T154446Z
LAST-MODIFIED:20250702T154447Z
UID:10000619-1786541400-1786545000@www.clrcs.com
SUMMARY:Free Bingo
DESCRIPTION:Free Bingo every Wednesday at Ma-Te-Way Park at the splash pad. (myFM Centre)
URL:https://www.clrcs.com/event/free-bingo-2/2026-08-12/
LOCATION:myFM Centre\, 1 Ma-te-way Park Drive\, Renfrew\, Ontario\, K7V 4J4\, Canada
END:VEVENT
BEGIN:VEVENT
DTSTART;TZID=America/Toronto:20260813T133000
DTEND;TZID=America/Toronto:20260813T143000
DTSTAMP:20260423T012419
CREATED:20241105T152548Z
LAST-MODIFIED:20241105T152548Z
UID:10001141-1786627800-1786631400@www.clrcs.com
SUMMARY:Billiards
DESCRIPTION:Free drop in Billiards every Thursday at the Royal Canadian Legion Renfrew.
URL:https://www.clrcs.com/event/billiards/2026-08-13/
LOCATION:Royal Canadian Legion Branch #148\, 30 Raglan St. S.\, Renfrew\, ON\, K7V1P7\, Canada
END:VEVENT
BEGIN:VEVENT
DTSTART;TZID=America/Toronto:20260814T131500
DTEND;TZID=America/Toronto:20260814T143000
DTSTAMP:20260423T012419
CREATED:20241105T152731Z
LAST-MODIFIED:20241105T152731Z
UID:10001402-1786713300-1786717800@www.clrcs.com
SUMMARY:Bowling
DESCRIPTION:Only $4.25 per game!
URL:https://www.clrcs.com/event/bowling/2026-08-14/
LOCATION:Opeongo Bowldrome\, 233 Raglan St. S.\, Renfrew\, ON\, K7V1R3\, Canada
END:VEVENT
BEGIN:VEVENT
DTSTART;TZID=America/Toronto:20260817T130000
DTEND;TZID=America/Toronto:20260817T140000
DTSTAMP:20260423T012419
CREATED:20241104T204044Z
LAST-MODIFIED:20241104T204227Z
UID:10000098-1786971600-1786975200@www.clrcs.com
SUMMARY:Renfrew Legion Seniors Darts
DESCRIPTION:Come out for an afternoon of fun and friendship!
URL:https://www.clrcs.com/event/225234/2026-08-17/
LOCATION:Royal Canadian Legion Branch #148\, 30 Raglan St. S.\, Renfrew\, ON\, K7V1P7\, Canada
END:VEVENT
BEGIN:VEVENT
DTSTART;TZID=America/Toronto:20260819T103000
DTEND;TZID=America/Toronto:20260819T113000
DTSTAMP:20260423T012419
CREATED:20241104T204636Z
LAST-MODIFIED:20241104T204636Z
UID:10000359-1787135400-1787139000@www.clrcs.com
SUMMARY:Opeongo Bowldrome
DESCRIPTION:Join a game for only $4.25!!
URL:https://www.clrcs.com/event/opeongo-bowldrome/2026-08-19/
LOCATION:Opeongo Bowldrome\, 233 Raglan St. S.\, Renfrew\, ON\, K7V1R3\, Canada
END:VEVENT
BEGIN:VEVENT
DTSTART;TZID=America/Toronto:20260819T133000
DTEND;TZID=America/Toronto:20260819T143000
DTSTAMP:20260423T012419
CREATED:20250702T154446Z
LAST-MODIFIED:20250702T154447Z
UID:10000620-1787146200-1787149800@www.clrcs.com
SUMMARY:Free Bingo
DESCRIPTION:Free Bingo every Wednesday at Ma-Te-Way Park at the splash pad. (myFM Centre)
URL:https://www.clrcs.com/event/free-bingo-2/2026-08-19/
LOCATION:myFM Centre\, 1 Ma-te-way Park Drive\, Renfrew\, Ontario\, K7V 4J4\, Canada
END:VEVENT
BEGIN:VEVENT
DTSTART;TZID=America/Toronto:20260820T133000
DTEND;TZID=America/Toronto:20260820T143000
DTSTAMP:20260423T012419
CREATED:20241105T152548Z
LAST-MODIFIED:20241105T152548Z
UID:10001142-1787232600-1787236200@www.clrcs.com
SUMMARY:Billiards
DESCRIPTION:Free drop in Billiards every Thursday at the Royal Canadian Legion Renfrew.
URL:https://www.clrcs.com/event/billiards/2026-08-20/
LOCATION:Royal Canadian Legion Branch #148\, 30 Raglan St. S.\, Renfrew\, ON\, K7V1P7\, Canada
END:VEVENT
BEGIN:VEVENT
DTSTART;TZID=America/Toronto:20260821T131500
DTEND;TZID=America/Toronto:20260821T143000
DTSTAMP:20260423T012419
CREATED:20241105T152731Z
LAST-MODIFIED:20241105T152731Z
UID:10001403-1787318100-1787322600@www.clrcs.com
SUMMARY:Bowling
DESCRIPTION:Only $4.25 per game!
URL:https://www.clrcs.com/event/bowling/2026-08-21/
LOCATION:Opeongo Bowldrome\, 233 Raglan St. S.\, Renfrew\, ON\, K7V1R3\, Canada
END:VEVENT
BEGIN:VEVENT
DTSTART;TZID=America/Toronto:20260824T130000
DTEND;TZID=America/Toronto:20260824T140000
DTSTAMP:20260423T012419
CREATED:20241104T204044Z
LAST-MODIFIED:20241104T204227Z
UID:10000099-1787576400-1787580000@www.clrcs.com
SUMMARY:Renfrew Legion Seniors Darts
DESCRIPTION:Come out for an afternoon of fun and friendship!
URL:https://www.clrcs.com/event/225234/2026-08-24/
LOCATION:Royal Canadian Legion Branch #148\, 30 Raglan St. S.\, Renfrew\, ON\, K7V1P7\, Canada
END:VEVENT
BEGIN:VEVENT
DTSTART;TZID=America/Toronto:20260826T103000
DTEND;TZID=America/Toronto:20260826T113000
DTSTAMP:20260423T012419
CREATED:20241104T204636Z
LAST-MODIFIED:20241104T204636Z
UID:10000360-1787740200-1787743800@www.clrcs.com
SUMMARY:Opeongo Bowldrome
DESCRIPTION:Join a game for only $4.25!!
URL:https://www.clrcs.com/event/opeongo-bowldrome/2026-08-26/
LOCATION:Opeongo Bowldrome\, 233 Raglan St. S.\, Renfrew\, ON\, K7V1R3\, Canada
END:VEVENT
BEGIN:VEVENT
DTSTART;TZID=America/Toronto:20260826T133000
DTEND;TZID=America/Toronto:20260826T143000
DTSTAMP:20260423T012419
CREATED:20250702T154446Z
LAST-MODIFIED:20250702T154447Z
UID:10000621-1787751000-1787754600@www.clrcs.com
SUMMARY:Free Bingo
DESCRIPTION:Free Bingo every Wednesday at Ma-Te-Way Park at the splash pad. (myFM Centre)
URL:https://www.clrcs.com/event/free-bingo-2/2026-08-26/
LOCATION:myFM Centre\, 1 Ma-te-way Park Drive\, Renfrew\, Ontario\, K7V 4J4\, Canada
END:VEVENT
BEGIN:VEVENT
DTSTART;TZID=America/Toronto:20260827T133000
DTEND;TZID=America/Toronto:20260827T143000
DTSTAMP:20260423T012419
CREATED:20241105T152548Z
LAST-MODIFIED:20241105T152548Z
UID:10001143-1787837400-1787841000@www.clrcs.com
SUMMARY:Billiards
DESCRIPTION:Free drop in Billiards every Thursday at the Royal Canadian Legion Renfrew.
URL:https://www.clrcs.com/event/billiards/2026-08-27/
LOCATION:Royal Canadian Legion Branch #148\, 30 Raglan St. S.\, Renfrew\, ON\, K7V1P7\, Canada
END:VEVENT
BEGIN:VEVENT
DTSTART;TZID=America/Toronto:20260828T131500
DTEND;TZID=America/Toronto:20260828T143000
DTSTAMP:20260423T012419
CREATED:20241105T152731Z
LAST-MODIFIED:20241105T152731Z
UID:10001404-1787922900-1787927400@www.clrcs.com
SUMMARY:Bowling
DESCRIPTION:Only $4.25 per game!
URL:https://www.clrcs.com/event/bowling/2026-08-28/
LOCATION:Opeongo Bowldrome\, 233 Raglan St. S.\, Renfrew\, ON\, K7V1R3\, Canada
END:VEVENT
BEGIN:VEVENT
DTSTART;TZID=America/Toronto:20260831T130000
DTEND;TZID=America/Toronto:20260831T140000
DTSTAMP:20260423T012419
CREATED:20241104T204044Z
LAST-MODIFIED:20241104T204227Z
UID:10000100-1788181200-1788184800@www.clrcs.com
SUMMARY:Renfrew Legion Seniors Darts
DESCRIPTION:Come out for an afternoon of fun and friendship!
URL:https://www.clrcs.com/event/225234/2026-08-31/
LOCATION:Royal Canadian Legion Branch #148\, 30 Raglan St. S.\, Renfrew\, ON\, K7V1P7\, Canada
END:VEVENT
BEGIN:VEVENT
DTSTART;TZID=America/Toronto:20260902T103000
DTEND;TZID=America/Toronto:20260902T113000
DTSTAMP:20260423T012419
CREATED:20241104T204636Z
LAST-MODIFIED:20241104T204636Z
UID:10000361-1788345000-1788348600@www.clrcs.com
SUMMARY:Opeongo Bowldrome
DESCRIPTION:Join a game for only $4.25!!
URL:https://www.clrcs.com/event/opeongo-bowldrome/2026-09-02/
LOCATION:Opeongo Bowldrome\, 233 Raglan St. S.\, Renfrew\, ON\, K7V1R3\, Canada
END:VEVENT
BEGIN:VEVENT
DTSTART;TZID=America/Toronto:20260902T133000
DTEND;TZID=America/Toronto:20260902T143000
DTSTAMP:20260423T012419
CREATED:20250702T154446Z
LAST-MODIFIED:20250702T154447Z
UID:10000622-1788355800-1788359400@www.clrcs.com
SUMMARY:Free Bingo
DESCRIPTION:Free Bingo every Wednesday at Ma-Te-Way Park at the splash pad. (myFM Centre)
URL:https://www.clrcs.com/event/free-bingo-2/2026-09-02/
LOCATION:myFM Centre\, 1 Ma-te-way Park Drive\, Renfrew\, Ontario\, K7V 4J4\, Canada
END:VEVENT
BEGIN:VEVENT
DTSTART;TZID=America/Toronto:20260903T133000
DTEND;TZID=America/Toronto:20260903T143000
DTSTAMP:20260423T012419
CREATED:20241105T152548Z
LAST-MODIFIED:20241105T152548Z
UID:10001144-1788442200-1788445800@www.clrcs.com
SUMMARY:Billiards
DESCRIPTION:Free drop in Billiards every Thursday at the Royal Canadian Legion Renfrew.
URL:https://www.clrcs.com/event/billiards/2026-09-03/
LOCATION:Royal Canadian Legion Branch #148\, 30 Raglan St. S.\, Renfrew\, ON\, K7V1P7\, Canada
END:VEVENT
BEGIN:VEVENT
DTSTART;TZID=America/Toronto:20260904T131500
DTEND;TZID=America/Toronto:20260904T143000
DTSTAMP:20260423T012419
CREATED:20241105T152731Z
LAST-MODIFIED:20241105T152731Z
UID:10001405-1788527700-1788532200@www.clrcs.com
SUMMARY:Bowling
DESCRIPTION:Only $4.25 per game!
URL:https://www.clrcs.com/event/bowling/2026-09-04/
LOCATION:Opeongo Bowldrome\, 233 Raglan St. S.\, Renfrew\, ON\, K7V1R3\, Canada
END:VEVENT
BEGIN:VEVENT
DTSTART;TZID=America/Toronto:20260907T130000
DTEND;TZID=America/Toronto:20260907T140000
DTSTAMP:20260423T012419
CREATED:20241104T204044Z
LAST-MODIFIED:20241104T204227Z
UID:10000101-1788786000-1788789600@www.clrcs.com
SUMMARY:Renfrew Legion Seniors Darts
DESCRIPTION:Come out for an afternoon of fun and friendship!
URL:https://www.clrcs.com/event/225234/2026-09-07/
LOCATION:Royal Canadian Legion Branch #148\, 30 Raglan St. S.\, Renfrew\, ON\, K7V1P7\, Canada
END:VEVENT
BEGIN:VEVENT
DTSTART;TZID=America/Toronto:20260909T103000
DTEND;TZID=America/Toronto:20260909T113000
DTSTAMP:20260423T012419
CREATED:20241104T204636Z
LAST-MODIFIED:20241104T204636Z
UID:10000362-1788949800-1788953400@www.clrcs.com
SUMMARY:Opeongo Bowldrome
DESCRIPTION:Join a game for only $4.25!!
URL:https://www.clrcs.com/event/opeongo-bowldrome/2026-09-09/
LOCATION:Opeongo Bowldrome\, 233 Raglan St. S.\, Renfrew\, ON\, K7V1R3\, Canada
END:VEVENT
BEGIN:VEVENT
DTSTART;TZID=America/Toronto:20260909T133000
DTEND;TZID=America/Toronto:20260909T143000
DTSTAMP:20260423T012419
CREATED:20250702T154446Z
LAST-MODIFIED:20250702T154447Z
UID:10000623-1788960600-1788964200@www.clrcs.com
SUMMARY:Free Bingo
DESCRIPTION:Free Bingo every Wednesday at Ma-Te-Way Park at the splash pad. (myFM Centre)
URL:https://www.clrcs.com/event/free-bingo-2/2026-09-09/
LOCATION:myFM Centre\, 1 Ma-te-way Park Drive\, Renfrew\, Ontario\, K7V 4J4\, Canada
END:VEVENT
BEGIN:VEVENT
DTSTART;TZID=America/Toronto:20260910T133000
DTEND;TZID=America/Toronto:20260910T143000
DTSTAMP:20260423T012419
CREATED:20241105T152548Z
LAST-MODIFIED:20241105T152548Z
UID:10001145-1789047000-1789050600@www.clrcs.com
SUMMARY:Billiards
DESCRIPTION:Free drop in Billiards every Thursday at the Royal Canadian Legion Renfrew.
URL:https://www.clrcs.com/event/billiards/2026-09-10/
LOCATION:Royal Canadian Legion Branch #148\, 30 Raglan St. S.\, Renfrew\, ON\, K7V1P7\, Canada
END:VEVENT
BEGIN:VEVENT
DTSTART;TZID=America/Toronto:20260911T131500
DTEND;TZID=America/Toronto:20260911T143000
DTSTAMP:20260423T012419
CREATED:20241105T152731Z
LAST-MODIFIED:20241105T152731Z
UID:10001406-1789132500-1789137000@www.clrcs.com
SUMMARY:Bowling
DESCRIPTION:Only $4.25 per game!
URL:https://www.clrcs.com/event/bowling/2026-09-11/
LOCATION:Opeongo Bowldrome\, 233 Raglan St. S.\, Renfrew\, ON\, K7V1R3\, Canada
END:VEVENT
BEGIN:VEVENT
DTSTART;TZID=America/Toronto:20260914T130000
DTEND;TZID=America/Toronto:20260914T140000
DTSTAMP:20260423T012419
CREATED:20241104T204044Z
LAST-MODIFIED:20241104T204227Z
UID:10000102-1789390800-1789394400@www.clrcs.com
SUMMARY:Renfrew Legion Seniors Darts
DESCRIPTION:Come out for an afternoon of fun and friendship!
URL:https://www.clrcs.com/event/225234/2026-09-14/
LOCATION:Royal Canadian Legion Branch #148\, 30 Raglan St. S.\, Renfrew\, ON\, K7V1P7\, Canada
END:VEVENT
BEGIN:VEVENT
DTSTART;TZID=America/Toronto:20260916T103000
DTEND;TZID=America/Toronto:20260916T113000
DTSTAMP:20260423T012419
CREATED:20241104T204636Z
LAST-MODIFIED:20241104T204636Z
UID:10000363-1789554600-1789558200@www.clrcs.com
SUMMARY:Opeongo Bowldrome
DESCRIPTION:Join a game for only $4.25!!
URL:https://www.clrcs.com/event/opeongo-bowldrome/2026-09-16/
LOCATION:Opeongo Bowldrome\, 233 Raglan St. S.\, Renfrew\, ON\, K7V1R3\, Canada
END:VEVENT
END:VCALENDAR