BEGIN:VCALENDAR
VERSION:2.0
PRODID:-//CLRCS - ECPv6.15.20//NONSGML v1.0//EN
CALSCALE:GREGORIAN
METHOD:PUBLISH
X-WR-CALNAME:CLRCS
X-ORIGINAL-URL:https://www.clrcs.com
X-WR-CALDESC:Events for CLRCS
REFRESH-INTERVAL;VALUE=DURATION:PT1H
X-Robots-Tag:noindex
X-PUBLISHED-TTL:PT1H
BEGIN:VTIMEZONE
TZID:America/Toronto
BEGIN:DAYLIGHT
TZOFFSETFROM:-0500
TZOFFSETTO:-0400
TZNAME:EDT
DTSTART:20230312T070000
END:DAYLIGHT
BEGIN:STANDARD
TZOFFSETFROM:-0400
TZOFFSETTO:-0500
TZNAME:EST
DTSTART:20231105T060000
END:STANDARD
BEGIN:DAYLIGHT
TZOFFSETFROM:-0500
TZOFFSETTO:-0400
TZNAME:EDT
DTSTART:20240310T070000
END:DAYLIGHT
BEGIN:STANDARD
TZOFFSETFROM:-0400
TZOFFSETTO:-0500
TZNAME:EST
DTSTART:20241103T060000
END:STANDARD
BEGIN:DAYLIGHT
TZOFFSETFROM:-0500
TZOFFSETTO:-0400
TZNAME:EDT
DTSTART:20250309T070000
END:DAYLIGHT
BEGIN:STANDARD
TZOFFSETFROM:-0400
TZOFFSETTO:-0500
TZNAME:EST
DTSTART:20251102T060000
END:STANDARD
BEGIN:DAYLIGHT
TZOFFSETFROM:-0500
TZOFFSETTO:-0400
TZNAME:EDT
DTSTART:20260308T070000
END:DAYLIGHT
BEGIN:STANDARD
TZOFFSETFROM:-0400
TZOFFSETTO:-0500
TZNAME:EST
DTSTART:20261101T060000
END:STANDARD
END:VTIMEZONE
BEGIN:VEVENT
DTSTART;TZID=America/Toronto:20241230T130000
DTEND;TZID=America/Toronto:20241230T140000
DTSTAMP:20260423T014344
CREATED:20241104T204044Z
LAST-MODIFIED:20241104T204227Z
UID:10000013-1735563600-1735567200@www.clrcs.com
SUMMARY:Renfrew Legion Seniors Darts
DESCRIPTION:Come out for an afternoon of fun and friendship!
URL:https://www.clrcs.com/event/225234/2024-12-30/
LOCATION:Royal Canadian Legion Branch #148\, 30 Raglan St. S.\, Renfrew\, ON\, K7V1P7\, Canada
END:VEVENT
BEGIN:VEVENT
DTSTART;TZID=America/Toronto:20250101T103000
DTEND;TZID=America/Toronto:20250101T113000
DTSTAMP:20260423T014344
CREATED:20241104T204636Z
LAST-MODIFIED:20241104T204636Z
UID:10000274-1735727400-1735731000@www.clrcs.com
SUMMARY:Opeongo Bowldrome
DESCRIPTION:Join a game for only $4.25!!
URL:https://www.clrcs.com/event/opeongo-bowldrome/2025-01-01/
LOCATION:Opeongo Bowldrome\, 233 Raglan St. S.\, Renfrew\, ON\, K7V1R3\, Canada
END:VEVENT
BEGIN:VEVENT
DTSTART;TZID=America/Toronto:20250101T133000
DTEND;TZID=America/Toronto:20250101T143000
DTSTAMP:20260423T014344
CREATED:20241104T204942Z
LAST-MODIFIED:20250702T154348Z
UID:10000535-1735738200-1735741800@www.clrcs.com
SUMMARY:Free Bingo
DESCRIPTION:Free Bingo every Wednesday at Ma-Te-Way Park at the splash pad. (myFM Centre)
URL:https://www.clrcs.com/event/free-bingo/2025-01-01/
LOCATION:myFM Centre\, 1 Ma-te-way Park Drive\, Renfrew\, Ontario\, K7V 4J4\, Canada
END:VEVENT
BEGIN:VEVENT
DTSTART;TZID=America/Toronto:20250102T133000
DTEND;TZID=America/Toronto:20250102T143000
DTSTAMP:20260423T014344
CREATED:20241105T152548Z
LAST-MODIFIED:20241105T152548Z
UID:10001057-1735824600-1735828200@www.clrcs.com
SUMMARY:Billiards
DESCRIPTION:Free drop in Billiards every Thursday at the Royal Canadian Legion Renfrew.
URL:https://www.clrcs.com/event/billiards/2025-01-02/
LOCATION:Royal Canadian Legion Branch #148\, 30 Raglan St. S.\, Renfrew\, ON\, K7V1P7\, Canada
END:VEVENT
BEGIN:VEVENT
DTSTART;TZID=America/Toronto:20250103T131500
DTEND;TZID=America/Toronto:20250103T143000
DTSTAMP:20260423T014344
CREATED:20241105T152731Z
LAST-MODIFIED:20241105T152731Z
UID:10001318-1735910100-1735914600@www.clrcs.com
SUMMARY:Bowling
DESCRIPTION:Only $4.25 per game!
URL:https://www.clrcs.com/event/bowling/2025-01-03/
LOCATION:Opeongo Bowldrome\, 233 Raglan St. S.\, Renfrew\, ON\, K7V1R3\, Canada
END:VEVENT
BEGIN:VEVENT
DTSTART;TZID=America/Toronto:20250106T130000
DTEND;TZID=America/Toronto:20250106T140000
DTSTAMP:20260423T014344
CREATED:20241104T204044Z
LAST-MODIFIED:20241104T204227Z
UID:10000014-1736168400-1736172000@www.clrcs.com
SUMMARY:Renfrew Legion Seniors Darts
DESCRIPTION:Come out for an afternoon of fun and friendship!
URL:https://www.clrcs.com/event/225234/2025-01-06/
LOCATION:Royal Canadian Legion Branch #148\, 30 Raglan St. S.\, Renfrew\, ON\, K7V1P7\, Canada
END:VEVENT
BEGIN:VEVENT
DTSTART;TZID=America/Toronto:20250108T103000
DTEND;TZID=America/Toronto:20250108T113000
DTSTAMP:20260423T014344
CREATED:20241104T204636Z
LAST-MODIFIED:20241104T204636Z
UID:10000275-1736332200-1736335800@www.clrcs.com
SUMMARY:Opeongo Bowldrome
DESCRIPTION:Join a game for only $4.25!!
URL:https://www.clrcs.com/event/opeongo-bowldrome/2025-01-08/
LOCATION:Opeongo Bowldrome\, 233 Raglan St. S.\, Renfrew\, ON\, K7V1R3\, Canada
END:VEVENT
BEGIN:VEVENT
DTSTART;TZID=America/Toronto:20250108T133000
DTEND;TZID=America/Toronto:20250108T143000
DTSTAMP:20260423T014344
CREATED:20241104T204942Z
LAST-MODIFIED:20250702T154348Z
UID:10000536-1736343000-1736346600@www.clrcs.com
SUMMARY:Free Bingo
DESCRIPTION:Free Bingo every Wednesday at Ma-Te-Way Park at the splash pad. (myFM Centre)
URL:https://www.clrcs.com/event/free-bingo/2025-01-08/
LOCATION:myFM Centre\, 1 Ma-te-way Park Drive\, Renfrew\, Ontario\, K7V 4J4\, Canada
END:VEVENT
BEGIN:VEVENT
DTSTART;TZID=America/Toronto:20250109T133000
DTEND;TZID=America/Toronto:20250109T143000
DTSTAMP:20260423T014344
CREATED:20241105T152548Z
LAST-MODIFIED:20241105T152548Z
UID:10001058-1736429400-1736433000@www.clrcs.com
SUMMARY:Billiards
DESCRIPTION:Free drop in Billiards every Thursday at the Royal Canadian Legion Renfrew.
URL:https://www.clrcs.com/event/billiards/2025-01-09/
LOCATION:Royal Canadian Legion Branch #148\, 30 Raglan St. S.\, Renfrew\, ON\, K7V1P7\, Canada
END:VEVENT
BEGIN:VEVENT
DTSTART;TZID=America/Toronto:20250110T131500
DTEND;TZID=America/Toronto:20250110T143000
DTSTAMP:20260423T014344
CREATED:20241105T152731Z
LAST-MODIFIED:20241105T152731Z
UID:10001319-1736514900-1736519400@www.clrcs.com
SUMMARY:Bowling
DESCRIPTION:Only $4.25 per game!
URL:https://www.clrcs.com/event/bowling/2025-01-10/
LOCATION:Opeongo Bowldrome\, 233 Raglan St. S.\, Renfrew\, ON\, K7V1R3\, Canada
END:VEVENT
BEGIN:VEVENT
DTSTART;TZID=America/Toronto:20250113T130000
DTEND;TZID=America/Toronto:20250113T140000
DTSTAMP:20260423T014344
CREATED:20241104T204044Z
LAST-MODIFIED:20241104T204227Z
UID:10000015-1736773200-1736776800@www.clrcs.com
SUMMARY:Renfrew Legion Seniors Darts
DESCRIPTION:Come out for an afternoon of fun and friendship!
URL:https://www.clrcs.com/event/225234/2025-01-13/
LOCATION:Royal Canadian Legion Branch #148\, 30 Raglan St. S.\, Renfrew\, ON\, K7V1P7\, Canada
END:VEVENT
BEGIN:VEVENT
DTSTART;TZID=America/Toronto:20250115T103000
DTEND;TZID=America/Toronto:20250115T113000
DTSTAMP:20260423T014344
CREATED:20241104T204636Z
LAST-MODIFIED:20241104T204636Z
UID:10000276-1736937000-1736940600@www.clrcs.com
SUMMARY:Opeongo Bowldrome
DESCRIPTION:Join a game for only $4.25!!
URL:https://www.clrcs.com/event/opeongo-bowldrome/2025-01-15/
LOCATION:Opeongo Bowldrome\, 233 Raglan St. S.\, Renfrew\, ON\, K7V1R3\, Canada
END:VEVENT
BEGIN:VEVENT
DTSTART;TZID=America/Toronto:20250115T133000
DTEND;TZID=America/Toronto:20250115T143000
DTSTAMP:20260423T014344
CREATED:20241104T204942Z
LAST-MODIFIED:20250702T154348Z
UID:10000537-1736947800-1736951400@www.clrcs.com
SUMMARY:Free Bingo
DESCRIPTION:Free Bingo every Wednesday at Ma-Te-Way Park at the splash pad. (myFM Centre)
URL:https://www.clrcs.com/event/free-bingo/2025-01-15/
LOCATION:myFM Centre\, 1 Ma-te-way Park Drive\, Renfrew\, Ontario\, K7V 4J4\, Canada
END:VEVENT
BEGIN:VEVENT
DTSTART;TZID=America/Toronto:20250116T133000
DTEND;TZID=America/Toronto:20250116T143000
DTSTAMP:20260423T014344
CREATED:20241105T152548Z
LAST-MODIFIED:20241105T152548Z
UID:10001059-1737034200-1737037800@www.clrcs.com
SUMMARY:Billiards
DESCRIPTION:Free drop in Billiards every Thursday at the Royal Canadian Legion Renfrew.
URL:https://www.clrcs.com/event/billiards/2025-01-16/
LOCATION:Royal Canadian Legion Branch #148\, 30 Raglan St. S.\, Renfrew\, ON\, K7V1P7\, Canada
END:VEVENT
BEGIN:VEVENT
DTSTART;TZID=America/Toronto:20250117T131500
DTEND;TZID=America/Toronto:20250117T143000
DTSTAMP:20260423T014344
CREATED:20241105T152731Z
LAST-MODIFIED:20241105T152731Z
UID:10001320-1737119700-1737124200@www.clrcs.com
SUMMARY:Bowling
DESCRIPTION:Only $4.25 per game!
URL:https://www.clrcs.com/event/bowling/2025-01-17/
LOCATION:Opeongo Bowldrome\, 233 Raglan St. S.\, Renfrew\, ON\, K7V1R3\, Canada
END:VEVENT
BEGIN:VEVENT
DTSTART;TZID=America/Toronto:20250120T130000
DTEND;TZID=America/Toronto:20250120T140000
DTSTAMP:20260423T014344
CREATED:20241104T204044Z
LAST-MODIFIED:20241104T204227Z
UID:10000016-1737378000-1737381600@www.clrcs.com
SUMMARY:Renfrew Legion Seniors Darts
DESCRIPTION:Come out for an afternoon of fun and friendship!
URL:https://www.clrcs.com/event/225234/2025-01-20/
LOCATION:Royal Canadian Legion Branch #148\, 30 Raglan St. S.\, Renfrew\, ON\, K7V1P7\, Canada
END:VEVENT
BEGIN:VEVENT
DTSTART;TZID=America/Toronto:20250122T103000
DTEND;TZID=America/Toronto:20250122T113000
DTSTAMP:20260423T014344
CREATED:20241104T204636Z
LAST-MODIFIED:20241104T204636Z
UID:10000277-1737541800-1737545400@www.clrcs.com
SUMMARY:Opeongo Bowldrome
DESCRIPTION:Join a game for only $4.25!!
URL:https://www.clrcs.com/event/opeongo-bowldrome/2025-01-22/
LOCATION:Opeongo Bowldrome\, 233 Raglan St. S.\, Renfrew\, ON\, K7V1R3\, Canada
END:VEVENT
BEGIN:VEVENT
DTSTART;TZID=America/Toronto:20250122T133000
DTEND;TZID=America/Toronto:20250122T143000
DTSTAMP:20260423T014344
CREATED:20241104T204942Z
LAST-MODIFIED:20250702T154348Z
UID:10000538-1737552600-1737556200@www.clrcs.com
SUMMARY:Free Bingo
DESCRIPTION:Free Bingo every Wednesday at Ma-Te-Way Park at the splash pad. (myFM Centre)
URL:https://www.clrcs.com/event/free-bingo/2025-01-22/
LOCATION:myFM Centre\, 1 Ma-te-way Park Drive\, Renfrew\, Ontario\, K7V 4J4\, Canada
END:VEVENT
BEGIN:VEVENT
DTSTART;TZID=America/Toronto:20250123T133000
DTEND;TZID=America/Toronto:20250123T143000
DTSTAMP:20260423T014344
CREATED:20241105T152548Z
LAST-MODIFIED:20241105T152548Z
UID:10001060-1737639000-1737642600@www.clrcs.com
SUMMARY:Billiards
DESCRIPTION:Free drop in Billiards every Thursday at the Royal Canadian Legion Renfrew.
URL:https://www.clrcs.com/event/billiards/2025-01-23/
LOCATION:Royal Canadian Legion Branch #148\, 30 Raglan St. S.\, Renfrew\, ON\, K7V1P7\, Canada
END:VEVENT
BEGIN:VEVENT
DTSTART;TZID=America/Toronto:20250124T131500
DTEND;TZID=America/Toronto:20250124T143000
DTSTAMP:20260423T014344
CREATED:20241105T152731Z
LAST-MODIFIED:20241105T152731Z
UID:10001321-1737724500-1737729000@www.clrcs.com
SUMMARY:Bowling
DESCRIPTION:Only $4.25 per game!
URL:https://www.clrcs.com/event/bowling/2025-01-24/
LOCATION:Opeongo Bowldrome\, 233 Raglan St. S.\, Renfrew\, ON\, K7V1R3\, Canada
END:VEVENT
BEGIN:VEVENT
DTSTART;TZID=America/Toronto:20250127T130000
DTEND;TZID=America/Toronto:20250127T140000
DTSTAMP:20260423T014344
CREATED:20241104T204044Z
LAST-MODIFIED:20241104T204227Z
UID:10000017-1737982800-1737986400@www.clrcs.com
SUMMARY:Renfrew Legion Seniors Darts
DESCRIPTION:Come out for an afternoon of fun and friendship!
URL:https://www.clrcs.com/event/225234/2025-01-27/
LOCATION:Royal Canadian Legion Branch #148\, 30 Raglan St. S.\, Renfrew\, ON\, K7V1P7\, Canada
END:VEVENT
BEGIN:VEVENT
DTSTART;TZID=America/Toronto:20250128T113000
DTEND;TZID=America/Toronto:20250128T123000
DTSTAMP:20260423T014344
CREATED:20250114T154346Z
LAST-MODIFIED:20250114T154346Z
UID:10001582-1738063800-1738067400@www.clrcs.com
SUMMARY:Community Friendship Meal
DESCRIPTION:Enjoy a free lunch – today will be: Ring in the Chinese New Year with Chinese Food!
URL:https://www.clrcs.com/event/community-friendship-meal-9/
LOCATION:Trinity-St. Andrew’s United Church\, 291 Plaunt Street South\, Renfrew\, Ontario\, K7V 1N2\, Canada
END:VEVENT
BEGIN:VEVENT
DTSTART;TZID=America/Toronto:20250128T113000
DTEND;TZID=America/Toronto:20250128T123000
DTSTAMP:20260423T014344
CREATED:20250113T160222Z
LAST-MODIFIED:20250113T160222Z
UID:10001575-1738063800-1738067400@www.clrcs.com
SUMMARY:
DESCRIPTION:Community Friendship Meal \nChinese Food today!
URL:https://www.clrcs.com/event/225342/
LOCATION:Trinity-St. Andrew’s United Church\, 291 Plaunt Street South\, Renfrew\, Ontario\, K7V 1N2\, Canada
END:VEVENT
BEGIN:VEVENT
DTSTART;TZID=America/Toronto:20250129T103000
DTEND;TZID=America/Toronto:20250129T113000
DTSTAMP:20260423T014344
CREATED:20241104T204636Z
LAST-MODIFIED:20241104T204636Z
UID:10000278-1738146600-1738150200@www.clrcs.com
SUMMARY:Opeongo Bowldrome
DESCRIPTION:Join a game for only $4.25!!
URL:https://www.clrcs.com/event/opeongo-bowldrome/2025-01-29/
LOCATION:Opeongo Bowldrome\, 233 Raglan St. S.\, Renfrew\, ON\, K7V1R3\, Canada
END:VEVENT
BEGIN:VEVENT
DTSTART;TZID=America/Toronto:20250129T133000
DTEND;TZID=America/Toronto:20250129T143000
DTSTAMP:20260423T014344
CREATED:20241104T204942Z
LAST-MODIFIED:20250702T154348Z
UID:10000539-1738157400-1738161000@www.clrcs.com
SUMMARY:Free Bingo
DESCRIPTION:Free Bingo every Wednesday at Ma-Te-Way Park at the splash pad. (myFM Centre)
URL:https://www.clrcs.com/event/free-bingo/2025-01-29/
LOCATION:myFM Centre\, 1 Ma-te-way Park Drive\, Renfrew\, Ontario\, K7V 4J4\, Canada
END:VEVENT
BEGIN:VEVENT
DTSTART;TZID=America/Toronto:20250130T133000
DTEND;TZID=America/Toronto:20250130T143000
DTSTAMP:20260423T014344
CREATED:20241105T152548Z
LAST-MODIFIED:20241105T152548Z
UID:10001061-1738243800-1738247400@www.clrcs.com
SUMMARY:Billiards
DESCRIPTION:Free drop in Billiards every Thursday at the Royal Canadian Legion Renfrew.
URL:https://www.clrcs.com/event/billiards/2025-01-30/
LOCATION:Royal Canadian Legion Branch #148\, 30 Raglan St. S.\, Renfrew\, ON\, K7V1P7\, Canada
END:VEVENT
BEGIN:VEVENT
DTSTART;TZID=America/Toronto:20250131T131500
DTEND;TZID=America/Toronto:20250131T143000
DTSTAMP:20260423T014344
CREATED:20241105T152731Z
LAST-MODIFIED:20241105T152731Z
UID:10001322-1738329300-1738333800@www.clrcs.com
SUMMARY:Bowling
DESCRIPTION:Only $4.25 per game!
URL:https://www.clrcs.com/event/bowling/2025-01-31/
LOCATION:Opeongo Bowldrome\, 233 Raglan St. S.\, Renfrew\, ON\, K7V1R3\, Canada
END:VEVENT
BEGIN:VEVENT
DTSTART;TZID=America/Toronto:20250203T130000
DTEND;TZID=America/Toronto:20250203T140000
DTSTAMP:20260423T014344
CREATED:20241104T204044Z
LAST-MODIFIED:20241104T204227Z
UID:10000018-1738587600-1738591200@www.clrcs.com
SUMMARY:Renfrew Legion Seniors Darts
DESCRIPTION:Come out for an afternoon of fun and friendship!
URL:https://www.clrcs.com/event/225234/2025-02-03/
LOCATION:Royal Canadian Legion Branch #148\, 30 Raglan St. S.\, Renfrew\, ON\, K7V1P7\, Canada
END:VEVENT
BEGIN:VEVENT
DTSTART;TZID=America/Toronto:20250205T103000
DTEND;TZID=America/Toronto:20250205T113000
DTSTAMP:20260423T014344
CREATED:20241104T204636Z
LAST-MODIFIED:20241104T204636Z
UID:10000279-1738751400-1738755000@www.clrcs.com
SUMMARY:Opeongo Bowldrome
DESCRIPTION:Join a game for only $4.25!!
URL:https://www.clrcs.com/event/opeongo-bowldrome/2025-02-05/
LOCATION:Opeongo Bowldrome\, 233 Raglan St. S.\, Renfrew\, ON\, K7V1R3\, Canada
END:VEVENT
BEGIN:VEVENT
DTSTART;TZID=America/Toronto:20250205T133000
DTEND;TZID=America/Toronto:20250205T143000
DTSTAMP:20260423T014344
CREATED:20241104T204942Z
LAST-MODIFIED:20250702T154348Z
UID:10000540-1738762200-1738765800@www.clrcs.com
SUMMARY:Free Bingo
DESCRIPTION:Free Bingo every Wednesday at Ma-Te-Way Park at the splash pad. (myFM Centre)
URL:https://www.clrcs.com/event/free-bingo/2025-02-05/
LOCATION:myFM Centre\, 1 Ma-te-way Park Drive\, Renfrew\, Ontario\, K7V 4J4\, Canada
END:VEVENT
END:VCALENDAR