BEGIN:VCALENDAR
VERSION:2.0
PRODID:-//CLRCS - ECPv6.15.20//NONSGML v1.0//EN
CALSCALE:GREGORIAN
METHOD:PUBLISH
X-WR-CALNAME:CLRCS
X-ORIGINAL-URL:https://www.clrcs.com
X-WR-CALDESC:Events for CLRCS
REFRESH-INTERVAL;VALUE=DURATION:PT1H
X-Robots-Tag:noindex
X-PUBLISHED-TTL:PT1H
BEGIN:VTIMEZONE
TZID:America/Toronto
BEGIN:DAYLIGHT
TZOFFSETFROM:-0500
TZOFFSETTO:-0400
TZNAME:EDT
DTSTART:20270314T070000
END:DAYLIGHT
BEGIN:STANDARD
TZOFFSETFROM:-0400
TZOFFSETTO:-0500
TZNAME:EST
DTSTART:20271107T060000
END:STANDARD
BEGIN:DAYLIGHT
TZOFFSETFROM:-0500
TZOFFSETTO:-0400
TZNAME:EDT
DTSTART:20280312T070000
END:DAYLIGHT
BEGIN:STANDARD
TZOFFSETFROM:-0400
TZOFFSETTO:-0500
TZNAME:EST
DTSTART:20281105T060000
END:STANDARD
BEGIN:DAYLIGHT
TZOFFSETFROM:-0500
TZOFFSETTO:-0400
TZNAME:EDT
DTSTART:20290311T070000
END:DAYLIGHT
BEGIN:STANDARD
TZOFFSETFROM:-0400
TZOFFSETTO:-0500
TZNAME:EST
DTSTART:20291104T060000
END:STANDARD
END:VTIMEZONE
BEGIN:VEVENT
DTSTART;TZID=America/Toronto:20280602T131500
DTEND;TZID=America/Toronto:20280602T143000
DTSTAMP:20260425T193337
CREATED:20241105T152731Z
LAST-MODIFIED:20241105T152731Z
UID:10001496-1843564500-1843569000@www.clrcs.com
SUMMARY:Bowling
DESCRIPTION:Only $4.25 per game!
URL:https://www.clrcs.com/event/bowling/2028-06-02/
LOCATION:Opeongo Bowldrome\, 233 Raglan St. S.\, Renfrew\, ON\, K7V1R3\, Canada
END:VEVENT
BEGIN:VEVENT
DTSTART;TZID=America/Toronto:20280605T130000
DTEND;TZID=America/Toronto:20280605T140000
DTSTAMP:20260425T193337
CREATED:20241104T204044Z
LAST-MODIFIED:20241104T204227Z
UID:10000192-1843822800-1843826400@www.clrcs.com
SUMMARY:Renfrew Legion Seniors Darts
DESCRIPTION:Come out for an afternoon of fun and friendship!
URL:https://www.clrcs.com/event/225234/2028-06-05/
LOCATION:Royal Canadian Legion Branch #148\, 30 Raglan St. S.\, Renfrew\, ON\, K7V1P7\, Canada
END:VEVENT
BEGIN:VEVENT
DTSTART;TZID=America/Toronto:20280607T103000
DTEND;TZID=America/Toronto:20280607T113000
DTSTAMP:20260425T193337
CREATED:20241104T204636Z
LAST-MODIFIED:20241104T204636Z
UID:10000453-1843986600-1843990200@www.clrcs.com
SUMMARY:Opeongo Bowldrome
DESCRIPTION:Join a game for only $4.25!!
URL:https://www.clrcs.com/event/opeongo-bowldrome/2028-06-07/
LOCATION:Opeongo Bowldrome\, 233 Raglan St. S.\, Renfrew\, ON\, K7V1R3\, Canada
END:VEVENT
BEGIN:VEVENT
DTSTART;TZID=America/Toronto:20280607T133000
DTEND;TZID=America/Toronto:20280607T143000
DTSTAMP:20260425T193337
CREATED:20250702T154446Z
LAST-MODIFIED:20250702T154447Z
UID:10000714-1843997400-1844001000@www.clrcs.com
SUMMARY:Free Bingo
DESCRIPTION:Free Bingo every Wednesday at Ma-Te-Way Park at the splash pad. (myFM Centre)
URL:https://www.clrcs.com/event/free-bingo-2/2028-06-07/
LOCATION:myFM Centre\, 1 Ma-te-way Park Drive\, Renfrew\, Ontario\, K7V 4J4\, Canada
END:VEVENT
BEGIN:VEVENT
DTSTART;TZID=America/Toronto:20280608T133000
DTEND;TZID=America/Toronto:20280608T143000
DTSTAMP:20260425T193337
CREATED:20241105T152548Z
LAST-MODIFIED:20241105T152548Z
UID:10001236-1844083800-1844087400@www.clrcs.com
SUMMARY:Billiards
DESCRIPTION:Free drop in Billiards every Thursday at the Royal Canadian Legion Renfrew.
URL:https://www.clrcs.com/event/billiards/2028-06-08/
LOCATION:Royal Canadian Legion Branch #148\, 30 Raglan St. S.\, Renfrew\, ON\, K7V1P7\, Canada
END:VEVENT
BEGIN:VEVENT
DTSTART;TZID=America/Toronto:20280609T131500
DTEND;TZID=America/Toronto:20280609T143000
DTSTAMP:20260425T193337
CREATED:20241105T152731Z
LAST-MODIFIED:20241105T152731Z
UID:10001497-1844169300-1844173800@www.clrcs.com
SUMMARY:Bowling
DESCRIPTION:Only $4.25 per game!
URL:https://www.clrcs.com/event/bowling/2028-06-09/
LOCATION:Opeongo Bowldrome\, 233 Raglan St. S.\, Renfrew\, ON\, K7V1R3\, Canada
END:VEVENT
BEGIN:VEVENT
DTSTART;TZID=America/Toronto:20280612T130000
DTEND;TZID=America/Toronto:20280612T140000
DTSTAMP:20260425T193337
CREATED:20241104T204044Z
LAST-MODIFIED:20241104T204227Z
UID:10000193-1844427600-1844431200@www.clrcs.com
SUMMARY:Renfrew Legion Seniors Darts
DESCRIPTION:Come out for an afternoon of fun and friendship!
URL:https://www.clrcs.com/event/225234/2028-06-12/
LOCATION:Royal Canadian Legion Branch #148\, 30 Raglan St. S.\, Renfrew\, ON\, K7V1P7\, Canada
END:VEVENT
BEGIN:VEVENT
DTSTART;TZID=America/Toronto:20280614T103000
DTEND;TZID=America/Toronto:20280614T113000
DTSTAMP:20260425T193337
CREATED:20241104T204636Z
LAST-MODIFIED:20241104T204636Z
UID:10000454-1844591400-1844595000@www.clrcs.com
SUMMARY:Opeongo Bowldrome
DESCRIPTION:Join a game for only $4.25!!
URL:https://www.clrcs.com/event/opeongo-bowldrome/2028-06-14/
LOCATION:Opeongo Bowldrome\, 233 Raglan St. S.\, Renfrew\, ON\, K7V1R3\, Canada
END:VEVENT
BEGIN:VEVENT
DTSTART;TZID=America/Toronto:20280614T133000
DTEND;TZID=America/Toronto:20280614T143000
DTSTAMP:20260425T193337
CREATED:20250702T154446Z
LAST-MODIFIED:20250702T154447Z
UID:10000715-1844602200-1844605800@www.clrcs.com
SUMMARY:Free Bingo
DESCRIPTION:Free Bingo every Wednesday at Ma-Te-Way Park at the splash pad. (myFM Centre)
URL:https://www.clrcs.com/event/free-bingo-2/2028-06-14/
LOCATION:myFM Centre\, 1 Ma-te-way Park Drive\, Renfrew\, Ontario\, K7V 4J4\, Canada
END:VEVENT
BEGIN:VEVENT
DTSTART;TZID=America/Toronto:20280615T133000
DTEND;TZID=America/Toronto:20280615T143000
DTSTAMP:20260425T193337
CREATED:20241105T152548Z
LAST-MODIFIED:20241105T152548Z
UID:10001237-1844688600-1844692200@www.clrcs.com
SUMMARY:Billiards
DESCRIPTION:Free drop in Billiards every Thursday at the Royal Canadian Legion Renfrew.
URL:https://www.clrcs.com/event/billiards/2028-06-15/
LOCATION:Royal Canadian Legion Branch #148\, 30 Raglan St. S.\, Renfrew\, ON\, K7V1P7\, Canada
END:VEVENT
BEGIN:VEVENT
DTSTART;TZID=America/Toronto:20280616T131500
DTEND;TZID=America/Toronto:20280616T143000
DTSTAMP:20260425T193337
CREATED:20241105T152731Z
LAST-MODIFIED:20241105T152731Z
UID:10001498-1844774100-1844778600@www.clrcs.com
SUMMARY:Bowling
DESCRIPTION:Only $4.25 per game!
URL:https://www.clrcs.com/event/bowling/2028-06-16/
LOCATION:Opeongo Bowldrome\, 233 Raglan St. S.\, Renfrew\, ON\, K7V1R3\, Canada
END:VEVENT
BEGIN:VEVENT
DTSTART;TZID=America/Toronto:20280619T130000
DTEND;TZID=America/Toronto:20280619T140000
DTSTAMP:20260425T193337
CREATED:20241104T204044Z
LAST-MODIFIED:20241104T204227Z
UID:10000194-1845032400-1845036000@www.clrcs.com
SUMMARY:Renfrew Legion Seniors Darts
DESCRIPTION:Come out for an afternoon of fun and friendship!
URL:https://www.clrcs.com/event/225234/2028-06-19/
LOCATION:Royal Canadian Legion Branch #148\, 30 Raglan St. S.\, Renfrew\, ON\, K7V1P7\, Canada
END:VEVENT
BEGIN:VEVENT
DTSTART;TZID=America/Toronto:20280621T103000
DTEND;TZID=America/Toronto:20280621T113000
DTSTAMP:20260425T193337
CREATED:20241104T204636Z
LAST-MODIFIED:20241104T204636Z
UID:10000455-1845196200-1845199800@www.clrcs.com
SUMMARY:Opeongo Bowldrome
DESCRIPTION:Join a game for only $4.25!!
URL:https://www.clrcs.com/event/opeongo-bowldrome/2028-06-21/
LOCATION:Opeongo Bowldrome\, 233 Raglan St. S.\, Renfrew\, ON\, K7V1R3\, Canada
END:VEVENT
BEGIN:VEVENT
DTSTART;TZID=America/Toronto:20280621T133000
DTEND;TZID=America/Toronto:20280621T143000
DTSTAMP:20260425T193337
CREATED:20250702T154446Z
LAST-MODIFIED:20250702T154447Z
UID:10000716-1845207000-1845210600@www.clrcs.com
SUMMARY:Free Bingo
DESCRIPTION:Free Bingo every Wednesday at Ma-Te-Way Park at the splash pad. (myFM Centre)
URL:https://www.clrcs.com/event/free-bingo-2/2028-06-21/
LOCATION:myFM Centre\, 1 Ma-te-way Park Drive\, Renfrew\, Ontario\, K7V 4J4\, Canada
END:VEVENT
BEGIN:VEVENT
DTSTART;TZID=America/Toronto:20280622T133000
DTEND;TZID=America/Toronto:20280622T143000
DTSTAMP:20260425T193337
CREATED:20241105T152548Z
LAST-MODIFIED:20241105T152548Z
UID:10001238-1845293400-1845297000@www.clrcs.com
SUMMARY:Billiards
DESCRIPTION:Free drop in Billiards every Thursday at the Royal Canadian Legion Renfrew.
URL:https://www.clrcs.com/event/billiards/2028-06-22/
LOCATION:Royal Canadian Legion Branch #148\, 30 Raglan St. S.\, Renfrew\, ON\, K7V1P7\, Canada
END:VEVENT
BEGIN:VEVENT
DTSTART;TZID=America/Toronto:20280623T131500
DTEND;TZID=America/Toronto:20280623T143000
DTSTAMP:20260425T193338
CREATED:20241105T152731Z
LAST-MODIFIED:20241105T152731Z
UID:10001499-1845378900-1845383400@www.clrcs.com
SUMMARY:Bowling
DESCRIPTION:Only $4.25 per game!
URL:https://www.clrcs.com/event/bowling/2028-06-23/
LOCATION:Opeongo Bowldrome\, 233 Raglan St. S.\, Renfrew\, ON\, K7V1R3\, Canada
END:VEVENT
BEGIN:VEVENT
DTSTART;TZID=America/Toronto:20280626T130000
DTEND;TZID=America/Toronto:20280626T140000
DTSTAMP:20260425T193338
CREATED:20241104T204044Z
LAST-MODIFIED:20241104T204227Z
UID:10000195-1845637200-1845640800@www.clrcs.com
SUMMARY:Renfrew Legion Seniors Darts
DESCRIPTION:Come out for an afternoon of fun and friendship!
URL:https://www.clrcs.com/event/225234/2028-06-26/
LOCATION:Royal Canadian Legion Branch #148\, 30 Raglan St. S.\, Renfrew\, ON\, K7V1P7\, Canada
END:VEVENT
BEGIN:VEVENT
DTSTART;TZID=America/Toronto:20280628T103000
DTEND;TZID=America/Toronto:20280628T113000
DTSTAMP:20260425T193338
CREATED:20241104T204636Z
LAST-MODIFIED:20241104T204636Z
UID:10000456-1845801000-1845804600@www.clrcs.com
SUMMARY:Opeongo Bowldrome
DESCRIPTION:Join a game for only $4.25!!
URL:https://www.clrcs.com/event/opeongo-bowldrome/2028-06-28/
LOCATION:Opeongo Bowldrome\, 233 Raglan St. S.\, Renfrew\, ON\, K7V1R3\, Canada
END:VEVENT
BEGIN:VEVENT
DTSTART;TZID=America/Toronto:20280628T133000
DTEND;TZID=America/Toronto:20280628T143000
DTSTAMP:20260425T193338
CREATED:20250702T154446Z
LAST-MODIFIED:20250702T154447Z
UID:10000717-1845811800-1845815400@www.clrcs.com
SUMMARY:Free Bingo
DESCRIPTION:Free Bingo every Wednesday at Ma-Te-Way Park at the splash pad. (myFM Centre)
URL:https://www.clrcs.com/event/free-bingo-2/2028-06-28/
LOCATION:myFM Centre\, 1 Ma-te-way Park Drive\, Renfrew\, Ontario\, K7V 4J4\, Canada
END:VEVENT
BEGIN:VEVENT
DTSTART;TZID=America/Toronto:20280629T133000
DTEND;TZID=America/Toronto:20280629T143000
DTSTAMP:20260425T193338
CREATED:20241105T152548Z
LAST-MODIFIED:20241105T152548Z
UID:10001239-1845898200-1845901800@www.clrcs.com
SUMMARY:Billiards
DESCRIPTION:Free drop in Billiards every Thursday at the Royal Canadian Legion Renfrew.
URL:https://www.clrcs.com/event/billiards/2028-06-29/
LOCATION:Royal Canadian Legion Branch #148\, 30 Raglan St. S.\, Renfrew\, ON\, K7V1P7\, Canada
END:VEVENT
BEGIN:VEVENT
DTSTART;TZID=America/Toronto:20280630T131500
DTEND;TZID=America/Toronto:20280630T143000
DTSTAMP:20260425T193338
CREATED:20241105T152731Z
LAST-MODIFIED:20241105T152731Z
UID:10001500-1845983700-1845988200@www.clrcs.com
SUMMARY:Bowling
DESCRIPTION:Only $4.25 per game!
URL:https://www.clrcs.com/event/bowling/2028-06-30/
LOCATION:Opeongo Bowldrome\, 233 Raglan St. S.\, Renfrew\, ON\, K7V1R3\, Canada
END:VEVENT
BEGIN:VEVENT
DTSTART;TZID=America/Toronto:20280703T130000
DTEND;TZID=America/Toronto:20280703T140000
DTSTAMP:20260425T193338
CREATED:20241104T204044Z
LAST-MODIFIED:20241104T204227Z
UID:10000196-1846242000-1846245600@www.clrcs.com
SUMMARY:Renfrew Legion Seniors Darts
DESCRIPTION:Come out for an afternoon of fun and friendship!
URL:https://www.clrcs.com/event/225234/2028-07-03/
LOCATION:Royal Canadian Legion Branch #148\, 30 Raglan St. S.\, Renfrew\, ON\, K7V1P7\, Canada
END:VEVENT
BEGIN:VEVENT
DTSTART;TZID=America/Toronto:20280705T103000
DTEND;TZID=America/Toronto:20280705T113000
DTSTAMP:20260425T193338
CREATED:20241104T204636Z
LAST-MODIFIED:20241104T204636Z
UID:10000457-1846405800-1846409400@www.clrcs.com
SUMMARY:Opeongo Bowldrome
DESCRIPTION:Join a game for only $4.25!!
URL:https://www.clrcs.com/event/opeongo-bowldrome/2028-07-05/
LOCATION:Opeongo Bowldrome\, 233 Raglan St. S.\, Renfrew\, ON\, K7V1R3\, Canada
END:VEVENT
BEGIN:VEVENT
DTSTART;TZID=America/Toronto:20280705T133000
DTEND;TZID=America/Toronto:20280705T143000
DTSTAMP:20260425T193338
CREATED:20250702T154446Z
LAST-MODIFIED:20250702T154447Z
UID:10000718-1846416600-1846420200@www.clrcs.com
SUMMARY:Free Bingo
DESCRIPTION:Free Bingo every Wednesday at Ma-Te-Way Park at the splash pad. (myFM Centre)
URL:https://www.clrcs.com/event/free-bingo-2/2028-07-05/
LOCATION:myFM Centre\, 1 Ma-te-way Park Drive\, Renfrew\, Ontario\, K7V 4J4\, Canada
END:VEVENT
BEGIN:VEVENT
DTSTART;TZID=America/Toronto:20280706T133000
DTEND;TZID=America/Toronto:20280706T143000
DTSTAMP:20260425T193338
CREATED:20241105T152548Z
LAST-MODIFIED:20241105T152548Z
UID:10001240-1846503000-1846506600@www.clrcs.com
SUMMARY:Billiards
DESCRIPTION:Free drop in Billiards every Thursday at the Royal Canadian Legion Renfrew.
URL:https://www.clrcs.com/event/billiards/2028-07-06/
LOCATION:Royal Canadian Legion Branch #148\, 30 Raglan St. S.\, Renfrew\, ON\, K7V1P7\, Canada
END:VEVENT
BEGIN:VEVENT
DTSTART;TZID=America/Toronto:20280707T131500
DTEND;TZID=America/Toronto:20280707T143000
DTSTAMP:20260425T193338
CREATED:20241105T152731Z
LAST-MODIFIED:20241105T152731Z
UID:10001501-1846588500-1846593000@www.clrcs.com
SUMMARY:Bowling
DESCRIPTION:Only $4.25 per game!
URL:https://www.clrcs.com/event/bowling/2028-07-07/
LOCATION:Opeongo Bowldrome\, 233 Raglan St. S.\, Renfrew\, ON\, K7V1R3\, Canada
END:VEVENT
BEGIN:VEVENT
DTSTART;TZID=America/Toronto:20280710T130000
DTEND;TZID=America/Toronto:20280710T140000
DTSTAMP:20260425T193338
CREATED:20241104T204044Z
LAST-MODIFIED:20241104T204227Z
UID:10000197-1846846800-1846850400@www.clrcs.com
SUMMARY:Renfrew Legion Seniors Darts
DESCRIPTION:Come out for an afternoon of fun and friendship!
URL:https://www.clrcs.com/event/225234/2028-07-10/
LOCATION:Royal Canadian Legion Branch #148\, 30 Raglan St. S.\, Renfrew\, ON\, K7V1P7\, Canada
END:VEVENT
BEGIN:VEVENT
DTSTART;TZID=America/Toronto:20280712T103000
DTEND;TZID=America/Toronto:20280712T113000
DTSTAMP:20260425T193338
CREATED:20241104T204636Z
LAST-MODIFIED:20241104T204636Z
UID:10000458-1847010600-1847014200@www.clrcs.com
SUMMARY:Opeongo Bowldrome
DESCRIPTION:Join a game for only $4.25!!
URL:https://www.clrcs.com/event/opeongo-bowldrome/2028-07-12/
LOCATION:Opeongo Bowldrome\, 233 Raglan St. S.\, Renfrew\, ON\, K7V1R3\, Canada
END:VEVENT
BEGIN:VEVENT
DTSTART;TZID=America/Toronto:20280712T133000
DTEND;TZID=America/Toronto:20280712T143000
DTSTAMP:20260425T193338
CREATED:20250702T154446Z
LAST-MODIFIED:20250702T154447Z
UID:10000719-1847021400-1847025000@www.clrcs.com
SUMMARY:Free Bingo
DESCRIPTION:Free Bingo every Wednesday at Ma-Te-Way Park at the splash pad. (myFM Centre)
URL:https://www.clrcs.com/event/free-bingo-2/2028-07-12/
LOCATION:myFM Centre\, 1 Ma-te-way Park Drive\, Renfrew\, Ontario\, K7V 4J4\, Canada
END:VEVENT
BEGIN:VEVENT
DTSTART;TZID=America/Toronto:20280713T133000
DTEND;TZID=America/Toronto:20280713T143000
DTSTAMP:20260425T193338
CREATED:20241105T152548Z
LAST-MODIFIED:20241105T152548Z
UID:10001241-1847107800-1847111400@www.clrcs.com
SUMMARY:Billiards
DESCRIPTION:Free drop in Billiards every Thursday at the Royal Canadian Legion Renfrew.
URL:https://www.clrcs.com/event/billiards/2028-07-13/
LOCATION:Royal Canadian Legion Branch #148\, 30 Raglan St. S.\, Renfrew\, ON\, K7V1P7\, Canada
END:VEVENT
END:VCALENDAR