BEGIN:VCALENDAR
VERSION:2.0
PRODID:-//CLRCS - ECPv6.15.20//NONSGML v1.0//EN
CALSCALE:GREGORIAN
METHOD:PUBLISH
X-WR-CALNAME:CLRCS
X-ORIGINAL-URL:https://www.clrcs.com
X-WR-CALDESC:Events for CLRCS
REFRESH-INTERVAL;VALUE=DURATION:PT1H
X-Robots-Tag:noindex
X-PUBLISHED-TTL:PT1H
BEGIN:VTIMEZONE
TZID:America/Toronto
BEGIN:DAYLIGHT
TZOFFSETFROM:-0500
TZOFFSETTO:-0400
TZNAME:EDT
DTSTART:20270314T070000
END:DAYLIGHT
BEGIN:STANDARD
TZOFFSETFROM:-0400
TZOFFSETTO:-0500
TZNAME:EST
DTSTART:20271107T060000
END:STANDARD
BEGIN:DAYLIGHT
TZOFFSETFROM:-0500
TZOFFSETTO:-0400
TZNAME:EDT
DTSTART:20280312T070000
END:DAYLIGHT
BEGIN:STANDARD
TZOFFSETFROM:-0400
TZOFFSETTO:-0500
TZNAME:EST
DTSTART:20281105T060000
END:STANDARD
BEGIN:DAYLIGHT
TZOFFSETFROM:-0500
TZOFFSETTO:-0400
TZNAME:EDT
DTSTART:20290311T070000
END:DAYLIGHT
BEGIN:STANDARD
TZOFFSETFROM:-0400
TZOFFSETTO:-0500
TZNAME:EST
DTSTART:20291104T060000
END:STANDARD
END:VTIMEZONE
BEGIN:VEVENT
DTSTART;TZID=America/Toronto:20280310T131500
DTEND;TZID=America/Toronto:20280310T143000
DTSTAMP:20260425T120534
CREATED:20241105T152731Z
LAST-MODIFIED:20241105T152731Z
UID:10001484-1836306900-1836311400@www.clrcs.com
SUMMARY:Bowling
DESCRIPTION:Only $4.25 per game!
URL:https://www.clrcs.com/event/bowling/2028-03-10/
LOCATION:Opeongo Bowldrome\, 233 Raglan St. S.\, Renfrew\, ON\, K7V1R3\, Canada
END:VEVENT
BEGIN:VEVENT
DTSTART;TZID=America/Toronto:20280313T130000
DTEND;TZID=America/Toronto:20280313T140000
DTSTAMP:20260425T120534
CREATED:20241104T204044Z
LAST-MODIFIED:20241104T204227Z
UID:10000180-1836565200-1836568800@www.clrcs.com
SUMMARY:Renfrew Legion Seniors Darts
DESCRIPTION:Come out for an afternoon of fun and friendship!
URL:https://www.clrcs.com/event/225234/2028-03-13/
LOCATION:Royal Canadian Legion Branch #148\, 30 Raglan St. S.\, Renfrew\, ON\, K7V1P7\, Canada
END:VEVENT
BEGIN:VEVENT
DTSTART;TZID=America/Toronto:20280315T103000
DTEND;TZID=America/Toronto:20280315T113000
DTSTAMP:20260425T120534
CREATED:20241104T204636Z
LAST-MODIFIED:20241104T204636Z
UID:10000441-1836729000-1836732600@www.clrcs.com
SUMMARY:Opeongo Bowldrome
DESCRIPTION:Join a game for only $4.25!!
URL:https://www.clrcs.com/event/opeongo-bowldrome/2028-03-15/
LOCATION:Opeongo Bowldrome\, 233 Raglan St. S.\, Renfrew\, ON\, K7V1R3\, Canada
END:VEVENT
BEGIN:VEVENT
DTSTART;TZID=America/Toronto:20280315T133000
DTEND;TZID=America/Toronto:20280315T143000
DTSTAMP:20260425T120534
CREATED:20250702T154446Z
LAST-MODIFIED:20250702T154447Z
UID:10000702-1836739800-1836743400@www.clrcs.com
SUMMARY:Free Bingo
DESCRIPTION:Free Bingo every Wednesday at Ma-Te-Way Park at the splash pad. (myFM Centre)
URL:https://www.clrcs.com/event/free-bingo-2/2028-03-15/
LOCATION:myFM Centre\, 1 Ma-te-way Park Drive\, Renfrew\, Ontario\, K7V 4J4\, Canada
END:VEVENT
BEGIN:VEVENT
DTSTART;TZID=America/Toronto:20280316T133000
DTEND;TZID=America/Toronto:20280316T143000
DTSTAMP:20260425T120534
CREATED:20241105T152548Z
LAST-MODIFIED:20241105T152548Z
UID:10001224-1836826200-1836829800@www.clrcs.com
SUMMARY:Billiards
DESCRIPTION:Free drop in Billiards every Thursday at the Royal Canadian Legion Renfrew.
URL:https://www.clrcs.com/event/billiards/2028-03-16/
LOCATION:Royal Canadian Legion Branch #148\, 30 Raglan St. S.\, Renfrew\, ON\, K7V1P7\, Canada
END:VEVENT
BEGIN:VEVENT
DTSTART;TZID=America/Toronto:20280317T131500
DTEND;TZID=America/Toronto:20280317T143000
DTSTAMP:20260425T120534
CREATED:20241105T152731Z
LAST-MODIFIED:20241105T152731Z
UID:10001485-1836911700-1836916200@www.clrcs.com
SUMMARY:Bowling
DESCRIPTION:Only $4.25 per game!
URL:https://www.clrcs.com/event/bowling/2028-03-17/
LOCATION:Opeongo Bowldrome\, 233 Raglan St. S.\, Renfrew\, ON\, K7V1R3\, Canada
END:VEVENT
BEGIN:VEVENT
DTSTART;TZID=America/Toronto:20280320T130000
DTEND;TZID=America/Toronto:20280320T140000
DTSTAMP:20260425T120534
CREATED:20241104T204044Z
LAST-MODIFIED:20241104T204227Z
UID:10000181-1837170000-1837173600@www.clrcs.com
SUMMARY:Renfrew Legion Seniors Darts
DESCRIPTION:Come out for an afternoon of fun and friendship!
URL:https://www.clrcs.com/event/225234/2028-03-20/
LOCATION:Royal Canadian Legion Branch #148\, 30 Raglan St. S.\, Renfrew\, ON\, K7V1P7\, Canada
END:VEVENT
BEGIN:VEVENT
DTSTART;TZID=America/Toronto:20280322T103000
DTEND;TZID=America/Toronto:20280322T113000
DTSTAMP:20260425T120534
CREATED:20241104T204636Z
LAST-MODIFIED:20241104T204636Z
UID:10000442-1837333800-1837337400@www.clrcs.com
SUMMARY:Opeongo Bowldrome
DESCRIPTION:Join a game for only $4.25!!
URL:https://www.clrcs.com/event/opeongo-bowldrome/2028-03-22/
LOCATION:Opeongo Bowldrome\, 233 Raglan St. S.\, Renfrew\, ON\, K7V1R3\, Canada
END:VEVENT
BEGIN:VEVENT
DTSTART;TZID=America/Toronto:20280322T133000
DTEND;TZID=America/Toronto:20280322T143000
DTSTAMP:20260425T120534
CREATED:20250702T154446Z
LAST-MODIFIED:20250702T154447Z
UID:10000703-1837344600-1837348200@www.clrcs.com
SUMMARY:Free Bingo
DESCRIPTION:Free Bingo every Wednesday at Ma-Te-Way Park at the splash pad. (myFM Centre)
URL:https://www.clrcs.com/event/free-bingo-2/2028-03-22/
LOCATION:myFM Centre\, 1 Ma-te-way Park Drive\, Renfrew\, Ontario\, K7V 4J4\, Canada
END:VEVENT
BEGIN:VEVENT
DTSTART;TZID=America/Toronto:20280323T133000
DTEND;TZID=America/Toronto:20280323T143000
DTSTAMP:20260425T120534
CREATED:20241105T152548Z
LAST-MODIFIED:20241105T152548Z
UID:10001225-1837431000-1837434600@www.clrcs.com
SUMMARY:Billiards
DESCRIPTION:Free drop in Billiards every Thursday at the Royal Canadian Legion Renfrew.
URL:https://www.clrcs.com/event/billiards/2028-03-23/
LOCATION:Royal Canadian Legion Branch #148\, 30 Raglan St. S.\, Renfrew\, ON\, K7V1P7\, Canada
END:VEVENT
BEGIN:VEVENT
DTSTART;TZID=America/Toronto:20280324T131500
DTEND;TZID=America/Toronto:20280324T143000
DTSTAMP:20260425T120534
CREATED:20241105T152731Z
LAST-MODIFIED:20241105T152731Z
UID:10001486-1837516500-1837521000@www.clrcs.com
SUMMARY:Bowling
DESCRIPTION:Only $4.25 per game!
URL:https://www.clrcs.com/event/bowling/2028-03-24/
LOCATION:Opeongo Bowldrome\, 233 Raglan St. S.\, Renfrew\, ON\, K7V1R3\, Canada
END:VEVENT
BEGIN:VEVENT
DTSTART;TZID=America/Toronto:20280327T130000
DTEND;TZID=America/Toronto:20280327T140000
DTSTAMP:20260425T120534
CREATED:20241104T204044Z
LAST-MODIFIED:20241104T204227Z
UID:10000182-1837774800-1837778400@www.clrcs.com
SUMMARY:Renfrew Legion Seniors Darts
DESCRIPTION:Come out for an afternoon of fun and friendship!
URL:https://www.clrcs.com/event/225234/2028-03-27/
LOCATION:Royal Canadian Legion Branch #148\, 30 Raglan St. S.\, Renfrew\, ON\, K7V1P7\, Canada
END:VEVENT
BEGIN:VEVENT
DTSTART;TZID=America/Toronto:20280329T103000
DTEND;TZID=America/Toronto:20280329T113000
DTSTAMP:20260425T120534
CREATED:20241104T204636Z
LAST-MODIFIED:20241104T204636Z
UID:10000443-1837938600-1837942200@www.clrcs.com
SUMMARY:Opeongo Bowldrome
DESCRIPTION:Join a game for only $4.25!!
URL:https://www.clrcs.com/event/opeongo-bowldrome/2028-03-29/
LOCATION:Opeongo Bowldrome\, 233 Raglan St. S.\, Renfrew\, ON\, K7V1R3\, Canada
END:VEVENT
BEGIN:VEVENT
DTSTART;TZID=America/Toronto:20280329T133000
DTEND;TZID=America/Toronto:20280329T143000
DTSTAMP:20260425T120534
CREATED:20250702T154446Z
LAST-MODIFIED:20250702T154447Z
UID:10000704-1837949400-1837953000@www.clrcs.com
SUMMARY:Free Bingo
DESCRIPTION:Free Bingo every Wednesday at Ma-Te-Way Park at the splash pad. (myFM Centre)
URL:https://www.clrcs.com/event/free-bingo-2/2028-03-29/
LOCATION:myFM Centre\, 1 Ma-te-way Park Drive\, Renfrew\, Ontario\, K7V 4J4\, Canada
END:VEVENT
BEGIN:VEVENT
DTSTART;TZID=America/Toronto:20280330T133000
DTEND;TZID=America/Toronto:20280330T143000
DTSTAMP:20260425T120534
CREATED:20241105T152548Z
LAST-MODIFIED:20241105T152548Z
UID:10001226-1838035800-1838039400@www.clrcs.com
SUMMARY:Billiards
DESCRIPTION:Free drop in Billiards every Thursday at the Royal Canadian Legion Renfrew.
URL:https://www.clrcs.com/event/billiards/2028-03-30/
LOCATION:Royal Canadian Legion Branch #148\, 30 Raglan St. S.\, Renfrew\, ON\, K7V1P7\, Canada
END:VEVENT
BEGIN:VEVENT
DTSTART;TZID=America/Toronto:20280331T131500
DTEND;TZID=America/Toronto:20280331T143000
DTSTAMP:20260425T120534
CREATED:20241105T152731Z
LAST-MODIFIED:20241105T152731Z
UID:10001487-1838121300-1838125800@www.clrcs.com
SUMMARY:Bowling
DESCRIPTION:Only $4.25 per game!
URL:https://www.clrcs.com/event/bowling/2028-03-31/
LOCATION:Opeongo Bowldrome\, 233 Raglan St. S.\, Renfrew\, ON\, K7V1R3\, Canada
END:VEVENT
BEGIN:VEVENT
DTSTART;TZID=America/Toronto:20280403T130000
DTEND;TZID=America/Toronto:20280403T140000
DTSTAMP:20260425T120534
CREATED:20241104T204044Z
LAST-MODIFIED:20241104T204227Z
UID:10000183-1838379600-1838383200@www.clrcs.com
SUMMARY:Renfrew Legion Seniors Darts
DESCRIPTION:Come out for an afternoon of fun and friendship!
URL:https://www.clrcs.com/event/225234/2028-04-03/
LOCATION:Royal Canadian Legion Branch #148\, 30 Raglan St. S.\, Renfrew\, ON\, K7V1P7\, Canada
END:VEVENT
BEGIN:VEVENT
DTSTART;TZID=America/Toronto:20280405T103000
DTEND;TZID=America/Toronto:20280405T113000
DTSTAMP:20260425T120534
CREATED:20241104T204636Z
LAST-MODIFIED:20241104T204636Z
UID:10000444-1838543400-1838547000@www.clrcs.com
SUMMARY:Opeongo Bowldrome
DESCRIPTION:Join a game for only $4.25!!
URL:https://www.clrcs.com/event/opeongo-bowldrome/2028-04-05/
LOCATION:Opeongo Bowldrome\, 233 Raglan St. S.\, Renfrew\, ON\, K7V1R3\, Canada
END:VEVENT
BEGIN:VEVENT
DTSTART;TZID=America/Toronto:20280405T133000
DTEND;TZID=America/Toronto:20280405T143000
DTSTAMP:20260425T120534
CREATED:20250702T154446Z
LAST-MODIFIED:20250702T154447Z
UID:10000705-1838554200-1838557800@www.clrcs.com
SUMMARY:Free Bingo
DESCRIPTION:Free Bingo every Wednesday at Ma-Te-Way Park at the splash pad. (myFM Centre)
URL:https://www.clrcs.com/event/free-bingo-2/2028-04-05/
LOCATION:myFM Centre\, 1 Ma-te-way Park Drive\, Renfrew\, Ontario\, K7V 4J4\, Canada
END:VEVENT
BEGIN:VEVENT
DTSTART;TZID=America/Toronto:20280406T133000
DTEND;TZID=America/Toronto:20280406T143000
DTSTAMP:20260425T120534
CREATED:20241105T152548Z
LAST-MODIFIED:20241105T152548Z
UID:10001227-1838640600-1838644200@www.clrcs.com
SUMMARY:Billiards
DESCRIPTION:Free drop in Billiards every Thursday at the Royal Canadian Legion Renfrew.
URL:https://www.clrcs.com/event/billiards/2028-04-06/
LOCATION:Royal Canadian Legion Branch #148\, 30 Raglan St. S.\, Renfrew\, ON\, K7V1P7\, Canada
END:VEVENT
BEGIN:VEVENT
DTSTART;TZID=America/Toronto:20280407T131500
DTEND;TZID=America/Toronto:20280407T143000
DTSTAMP:20260425T120534
CREATED:20241105T152731Z
LAST-MODIFIED:20241105T152731Z
UID:10001488-1838726100-1838730600@www.clrcs.com
SUMMARY:Bowling
DESCRIPTION:Only $4.25 per game!
URL:https://www.clrcs.com/event/bowling/2028-04-07/
LOCATION:Opeongo Bowldrome\, 233 Raglan St. S.\, Renfrew\, ON\, K7V1R3\, Canada
END:VEVENT
BEGIN:VEVENT
DTSTART;TZID=America/Toronto:20280410T130000
DTEND;TZID=America/Toronto:20280410T140000
DTSTAMP:20260425T120534
CREATED:20241104T204044Z
LAST-MODIFIED:20241104T204227Z
UID:10000184-1838984400-1838988000@www.clrcs.com
SUMMARY:Renfrew Legion Seniors Darts
DESCRIPTION:Come out for an afternoon of fun and friendship!
URL:https://www.clrcs.com/event/225234/2028-04-10/
LOCATION:Royal Canadian Legion Branch #148\, 30 Raglan St. S.\, Renfrew\, ON\, K7V1P7\, Canada
END:VEVENT
BEGIN:VEVENT
DTSTART;TZID=America/Toronto:20280412T103000
DTEND;TZID=America/Toronto:20280412T113000
DTSTAMP:20260425T120534
CREATED:20241104T204636Z
LAST-MODIFIED:20241104T204636Z
UID:10000445-1839148200-1839151800@www.clrcs.com
SUMMARY:Opeongo Bowldrome
DESCRIPTION:Join a game for only $4.25!!
URL:https://www.clrcs.com/event/opeongo-bowldrome/2028-04-12/
LOCATION:Opeongo Bowldrome\, 233 Raglan St. S.\, Renfrew\, ON\, K7V1R3\, Canada
END:VEVENT
BEGIN:VEVENT
DTSTART;TZID=America/Toronto:20280412T133000
DTEND;TZID=America/Toronto:20280412T143000
DTSTAMP:20260425T120534
CREATED:20250702T154446Z
LAST-MODIFIED:20250702T154447Z
UID:10000706-1839159000-1839162600@www.clrcs.com
SUMMARY:Free Bingo
DESCRIPTION:Free Bingo every Wednesday at Ma-Te-Way Park at the splash pad. (myFM Centre)
URL:https://www.clrcs.com/event/free-bingo-2/2028-04-12/
LOCATION:myFM Centre\, 1 Ma-te-way Park Drive\, Renfrew\, Ontario\, K7V 4J4\, Canada
END:VEVENT
BEGIN:VEVENT
DTSTART;TZID=America/Toronto:20280413T133000
DTEND;TZID=America/Toronto:20280413T143000
DTSTAMP:20260425T120534
CREATED:20241105T152548Z
LAST-MODIFIED:20241105T152548Z
UID:10001228-1839245400-1839249000@www.clrcs.com
SUMMARY:Billiards
DESCRIPTION:Free drop in Billiards every Thursday at the Royal Canadian Legion Renfrew.
URL:https://www.clrcs.com/event/billiards/2028-04-13/
LOCATION:Royal Canadian Legion Branch #148\, 30 Raglan St. S.\, Renfrew\, ON\, K7V1P7\, Canada
END:VEVENT
BEGIN:VEVENT
DTSTART;TZID=America/Toronto:20280414T131500
DTEND;TZID=America/Toronto:20280414T143000
DTSTAMP:20260425T120534
CREATED:20241105T152731Z
LAST-MODIFIED:20241105T152731Z
UID:10001489-1839330900-1839335400@www.clrcs.com
SUMMARY:Bowling
DESCRIPTION:Only $4.25 per game!
URL:https://www.clrcs.com/event/bowling/2028-04-14/
LOCATION:Opeongo Bowldrome\, 233 Raglan St. S.\, Renfrew\, ON\, K7V1R3\, Canada
END:VEVENT
BEGIN:VEVENT
DTSTART;TZID=America/Toronto:20280417T130000
DTEND;TZID=America/Toronto:20280417T140000
DTSTAMP:20260425T120534
CREATED:20241104T204044Z
LAST-MODIFIED:20241104T204227Z
UID:10000185-1839589200-1839592800@www.clrcs.com
SUMMARY:Renfrew Legion Seniors Darts
DESCRIPTION:Come out for an afternoon of fun and friendship!
URL:https://www.clrcs.com/event/225234/2028-04-17/
LOCATION:Royal Canadian Legion Branch #148\, 30 Raglan St. S.\, Renfrew\, ON\, K7V1P7\, Canada
END:VEVENT
BEGIN:VEVENT
DTSTART;TZID=America/Toronto:20280419T103000
DTEND;TZID=America/Toronto:20280419T113000
DTSTAMP:20260425T120534
CREATED:20241104T204636Z
LAST-MODIFIED:20241104T204636Z
UID:10000446-1839753000-1839756600@www.clrcs.com
SUMMARY:Opeongo Bowldrome
DESCRIPTION:Join a game for only $4.25!!
URL:https://www.clrcs.com/event/opeongo-bowldrome/2028-04-19/
LOCATION:Opeongo Bowldrome\, 233 Raglan St. S.\, Renfrew\, ON\, K7V1R3\, Canada
END:VEVENT
BEGIN:VEVENT
DTSTART;TZID=America/Toronto:20280419T133000
DTEND;TZID=America/Toronto:20280419T143000
DTSTAMP:20260425T120534
CREATED:20250702T154446Z
LAST-MODIFIED:20250702T154447Z
UID:10000707-1839763800-1839767400@www.clrcs.com
SUMMARY:Free Bingo
DESCRIPTION:Free Bingo every Wednesday at Ma-Te-Way Park at the splash pad. (myFM Centre)
URL:https://www.clrcs.com/event/free-bingo-2/2028-04-19/
LOCATION:myFM Centre\, 1 Ma-te-way Park Drive\, Renfrew\, Ontario\, K7V 4J4\, Canada
END:VEVENT
BEGIN:VEVENT
DTSTART;TZID=America/Toronto:20280420T133000
DTEND;TZID=America/Toronto:20280420T143000
DTSTAMP:20260425T120534
CREATED:20241105T152548Z
LAST-MODIFIED:20241105T152548Z
UID:10001229-1839850200-1839853800@www.clrcs.com
SUMMARY:Billiards
DESCRIPTION:Free drop in Billiards every Thursday at the Royal Canadian Legion Renfrew.
URL:https://www.clrcs.com/event/billiards/2028-04-20/
LOCATION:Royal Canadian Legion Branch #148\, 30 Raglan St. S.\, Renfrew\, ON\, K7V1P7\, Canada
END:VEVENT
END:VCALENDAR