BEGIN:VCALENDAR
VERSION:2.0
PRODID:-//CLRCS - ECPv6.15.20//NONSGML v1.0//EN
CALSCALE:GREGORIAN
METHOD:PUBLISH
X-WR-CALNAME:CLRCS
X-ORIGINAL-URL:https://www.clrcs.com
X-WR-CALDESC:Events for CLRCS
REFRESH-INTERVAL;VALUE=DURATION:PT1H
X-Robots-Tag:noindex
X-PUBLISHED-TTL:PT1H
BEGIN:VTIMEZONE
TZID:America/Toronto
BEGIN:DAYLIGHT
TZOFFSETFROM:-0500
TZOFFSETTO:-0400
TZNAME:EDT
DTSTART:20230312T070000
END:DAYLIGHT
BEGIN:STANDARD
TZOFFSETFROM:-0400
TZOFFSETTO:-0500
TZNAME:EST
DTSTART:20231105T060000
END:STANDARD
BEGIN:DAYLIGHT
TZOFFSETFROM:-0500
TZOFFSETTO:-0400
TZNAME:EDT
DTSTART:20240310T070000
END:DAYLIGHT
BEGIN:STANDARD
TZOFFSETFROM:-0400
TZOFFSETTO:-0500
TZNAME:EST
DTSTART:20241103T060000
END:STANDARD
BEGIN:DAYLIGHT
TZOFFSETFROM:-0500
TZOFFSETTO:-0400
TZNAME:EDT
DTSTART:20250309T070000
END:DAYLIGHT
BEGIN:STANDARD
TZOFFSETFROM:-0400
TZOFFSETTO:-0500
TZNAME:EST
DTSTART:20251102T060000
END:STANDARD
BEGIN:DAYLIGHT
TZOFFSETFROM:-0500
TZOFFSETTO:-0400
TZNAME:EDT
DTSTART:20260308T070000
END:DAYLIGHT
BEGIN:STANDARD
TZOFFSETFROM:-0400
TZOFFSETTO:-0500
TZNAME:EST
DTSTART:20261101T060000
END:STANDARD
END:VTIMEZONE
BEGIN:VTIMEZONE
TZID:UTC
BEGIN:STANDARD
TZOFFSETFROM:+0000
TZOFFSETTO:+0000
TZNAME:UTC
DTSTART:20230101T000000
END:STANDARD
END:VTIMEZONE
BEGIN:VEVENT
DTSTART;TZID=America/Toronto:20241129T131500
DTEND;TZID=America/Toronto:20241129T143000
DTSTAMP:20260422T183346
CREATED:20241105T152731Z
LAST-MODIFIED:20241105T152731Z
UID:10001313-1732886100-1732890600@www.clrcs.com
SUMMARY:Bowling
DESCRIPTION:Only $4.25 per game!
URL:https://www.clrcs.com/event/bowling/2024-11-29/
LOCATION:Opeongo Bowldrome\, 233 Raglan St. S.\, Renfrew\, ON\, K7V1R3\, Canada
END:VEVENT
BEGIN:VEVENT
DTSTART;TZID=America/Toronto:20241202T130000
DTEND;TZID=America/Toronto:20241202T140000
DTSTAMP:20260422T183346
CREATED:20241104T204044Z
LAST-MODIFIED:20241104T204227Z
UID:10000009-1733144400-1733148000@www.clrcs.com
SUMMARY:Renfrew Legion Seniors Darts
DESCRIPTION:Come out for an afternoon of fun and friendship!
URL:https://www.clrcs.com/event/225234/2024-12-02/
LOCATION:Royal Canadian Legion Branch #148\, 30 Raglan St. S.\, Renfrew\, ON\, K7V1P7\, Canada
END:VEVENT
BEGIN:VEVENT
DTSTART;TZID=America/Toronto:20241204T103000
DTEND;TZID=America/Toronto:20241204T113000
DTSTAMP:20260422T183346
CREATED:20241104T204636Z
LAST-MODIFIED:20241104T204636Z
UID:10000270-1733308200-1733311800@www.clrcs.com
SUMMARY:Opeongo Bowldrome
DESCRIPTION:Join a game for only $4.25!!
URL:https://www.clrcs.com/event/opeongo-bowldrome/2024-12-04/
LOCATION:Opeongo Bowldrome\, 233 Raglan St. S.\, Renfrew\, ON\, K7V1R3\, Canada
END:VEVENT
BEGIN:VEVENT
DTSTART;TZID=America/Toronto:20241204T133000
DTEND;TZID=America/Toronto:20241204T143000
DTSTAMP:20260422T183346
CREATED:20241104T204942Z
LAST-MODIFIED:20250702T154348Z
UID:10000531-1733319000-1733322600@www.clrcs.com
SUMMARY:Free Bingo
DESCRIPTION:Free Bingo every Wednesday at Ma-Te-Way Park at the splash pad. (myFM Centre)
URL:https://www.clrcs.com/event/free-bingo/2024-12-04/
LOCATION:myFM Centre\, 1 Ma-te-way Park Drive\, Renfrew\, Ontario\, K7V 4J4\, Canada
END:VEVENT
BEGIN:VEVENT
DTSTART;TZID=America/Toronto:20241205T133000
DTEND;TZID=America/Toronto:20241205T143000
DTSTAMP:20260422T183346
CREATED:20241105T152548Z
LAST-MODIFIED:20241105T152548Z
UID:10001053-1733405400-1733409000@www.clrcs.com
SUMMARY:Billiards
DESCRIPTION:Free drop in Billiards every Thursday at the Royal Canadian Legion Renfrew.
URL:https://www.clrcs.com/event/billiards/2024-12-05/
LOCATION:Royal Canadian Legion Branch #148\, 30 Raglan St. S.\, Renfrew\, ON\, K7V1P7\, Canada
END:VEVENT
BEGIN:VEVENT
DTSTART;TZID=America/Toronto:20241206T131500
DTEND;TZID=America/Toronto:20241206T143000
DTSTAMP:20260422T183346
CREATED:20241105T152731Z
LAST-MODIFIED:20241105T152731Z
UID:10001314-1733490900-1733495400@www.clrcs.com
SUMMARY:Bowling
DESCRIPTION:Only $4.25 per game!
URL:https://www.clrcs.com/event/bowling/2024-12-06/
LOCATION:Opeongo Bowldrome\, 233 Raglan St. S.\, Renfrew\, ON\, K7V1R3\, Canada
END:VEVENT
BEGIN:VEVENT
DTSTART;TZID=UTC:20241206T190000
DTEND;TZID=UTC:20241206T230000
DTSTAMP:20260422T183346
CREATED:20240821T214012Z
LAST-MODIFIED:20241104T203638Z
UID:10000003-1733511600-1733526000@www.clrcs.com
SUMMARY:Christmas Dance
DESCRIPTION:Join us for a fun filled evening on Friday\, December 6th starting at 7 pm at the Renfrew Wing. Get your dancing shoes ready! \nLive music by Silas! \nLight luncheon will be pizza and cupcakes.
URL:https://www.clrcs.com/event/christmas-dance/
LOCATION:Renfrew Wing\, 164 Argyle St. S\, Renfrew\, Ontario\, K7V 1T5\, Canada
END:VEVENT
BEGIN:VEVENT
DTSTART;TZID=America/Toronto:20241207T170000
DTEND;TZID=America/Toronto:20241207T183000
DTSTAMP:20260422T183346
CREATED:20241126T182202Z
LAST-MODIFIED:20241126T182202Z
UID:10001574-1733590800-1733596200@www.clrcs.com
SUMMARY:Warming Station
DESCRIPTION:Join us to warm up with a hot chocolate or hot apple cider during the Renfrew Santa Claus parade! We’ll even have a few treats too!
URL:https://www.clrcs.com/event/warming-station/
LOCATION:Community Living Renfrew County South\, 326 Raglan St. S\, Renfrew\, Ontario\, K7V 4E7\, Canada
END:VEVENT
BEGIN:VEVENT
DTSTART;TZID=America/Toronto:20241209T130000
DTEND;TZID=America/Toronto:20241209T140000
DTSTAMP:20260422T183346
CREATED:20241104T204044Z
LAST-MODIFIED:20241104T204227Z
UID:10000010-1733749200-1733752800@www.clrcs.com
SUMMARY:Renfrew Legion Seniors Darts
DESCRIPTION:Come out for an afternoon of fun and friendship!
URL:https://www.clrcs.com/event/225234/2024-12-09/
LOCATION:Royal Canadian Legion Branch #148\, 30 Raglan St. S.\, Renfrew\, ON\, K7V1P7\, Canada
END:VEVENT
BEGIN:VEVENT
DTSTART;TZID=America/Toronto:20241211T103000
DTEND;TZID=America/Toronto:20241211T113000
DTSTAMP:20260422T183346
CREATED:20241104T204636Z
LAST-MODIFIED:20241104T204636Z
UID:10000271-1733913000-1733916600@www.clrcs.com
SUMMARY:Opeongo Bowldrome
DESCRIPTION:Join a game for only $4.25!!
URL:https://www.clrcs.com/event/opeongo-bowldrome/2024-12-11/
LOCATION:Opeongo Bowldrome\, 233 Raglan St. S.\, Renfrew\, ON\, K7V1R3\, Canada
END:VEVENT
BEGIN:VEVENT
DTSTART;TZID=America/Toronto:20241211T113000
DTEND;TZID=America/Toronto:20241211T123000
DTSTAMP:20260422T183346
CREATED:20241105T155341Z
LAST-MODIFIED:20241105T155341Z
UID:10001572-1733916600-1733920200@www.clrcs.com
SUMMARY:Community Friendship Meal
DESCRIPTION:Free lunch offered at Our Lady of Fatima Catholic Church and prepared by students of St. Joseph’s Catholic High School!
URL:https://www.clrcs.com/event/community-friendship-meal-2/
LOCATION:Our Lady of Fatima Catholic Church\, 100 Lisgar Ave.\, Renfrew\, ON\, K7V 4A6\, Canada
END:VEVENT
BEGIN:VEVENT
DTSTART;TZID=America/Toronto:20241211T133000
DTEND;TZID=America/Toronto:20241211T143000
DTSTAMP:20260422T183346
CREATED:20241104T204942Z
LAST-MODIFIED:20250702T154348Z
UID:10000532-1733923800-1733927400@www.clrcs.com
SUMMARY:Free Bingo
DESCRIPTION:Free Bingo every Wednesday at Ma-Te-Way Park at the splash pad. (myFM Centre)
URL:https://www.clrcs.com/event/free-bingo/2024-12-11/
LOCATION:myFM Centre\, 1 Ma-te-way Park Drive\, Renfrew\, Ontario\, K7V 4J4\, Canada
END:VEVENT
BEGIN:VEVENT
DTSTART;TZID=America/Toronto:20241212T133000
DTEND;TZID=America/Toronto:20241212T143000
DTSTAMP:20260422T183346
CREATED:20241105T152548Z
LAST-MODIFIED:20241105T152548Z
UID:10001054-1734010200-1734013800@www.clrcs.com
SUMMARY:Billiards
DESCRIPTION:Free drop in Billiards every Thursday at the Royal Canadian Legion Renfrew.
URL:https://www.clrcs.com/event/billiards/2024-12-12/
LOCATION:Royal Canadian Legion Branch #148\, 30 Raglan St. S.\, Renfrew\, ON\, K7V1P7\, Canada
END:VEVENT
BEGIN:VEVENT
DTSTART;TZID=America/Toronto:20241213T131500
DTEND;TZID=America/Toronto:20241213T143000
DTSTAMP:20260422T183346
CREATED:20241105T152731Z
LAST-MODIFIED:20241105T152731Z
UID:10001315-1734095700-1734100200@www.clrcs.com
SUMMARY:Bowling
DESCRIPTION:Only $4.25 per game!
URL:https://www.clrcs.com/event/bowling/2024-12-13/
LOCATION:Opeongo Bowldrome\, 233 Raglan St. S.\, Renfrew\, ON\, K7V1R3\, Canada
END:VEVENT
BEGIN:VEVENT
DTSTART;TZID=America/Toronto:20241216T130000
DTEND;TZID=America/Toronto:20241216T140000
DTSTAMP:20260422T183346
CREATED:20241104T204044Z
LAST-MODIFIED:20241104T204227Z
UID:10000011-1734354000-1734357600@www.clrcs.com
SUMMARY:Renfrew Legion Seniors Darts
DESCRIPTION:Come out for an afternoon of fun and friendship!
URL:https://www.clrcs.com/event/225234/2024-12-16/
LOCATION:Royal Canadian Legion Branch #148\, 30 Raglan St. S.\, Renfrew\, ON\, K7V1P7\, Canada
END:VEVENT
BEGIN:VEVENT
DTSTART;TZID=America/Toronto:20241218T103000
DTEND;TZID=America/Toronto:20241218T113000
DTSTAMP:20260422T183346
CREATED:20241104T204636Z
LAST-MODIFIED:20241104T204636Z
UID:10000272-1734517800-1734521400@www.clrcs.com
SUMMARY:Opeongo Bowldrome
DESCRIPTION:Join a game for only $4.25!!
URL:https://www.clrcs.com/event/opeongo-bowldrome/2024-12-18/
LOCATION:Opeongo Bowldrome\, 233 Raglan St. S.\, Renfrew\, ON\, K7V1R3\, Canada
END:VEVENT
BEGIN:VEVENT
DTSTART;TZID=America/Toronto:20241218T133000
DTEND;TZID=America/Toronto:20241218T143000
DTSTAMP:20260422T183346
CREATED:20241104T204942Z
LAST-MODIFIED:20250702T154348Z
UID:10000533-1734528600-1734532200@www.clrcs.com
SUMMARY:Free Bingo
DESCRIPTION:Free Bingo every Wednesday at Ma-Te-Way Park at the splash pad. (myFM Centre)
URL:https://www.clrcs.com/event/free-bingo/2024-12-18/
LOCATION:myFM Centre\, 1 Ma-te-way Park Drive\, Renfrew\, Ontario\, K7V 4J4\, Canada
END:VEVENT
BEGIN:VEVENT
DTSTART;TZID=America/Toronto:20241219T133000
DTEND;TZID=America/Toronto:20241219T143000
DTSTAMP:20260422T183346
CREATED:20241105T152548Z
LAST-MODIFIED:20241105T152548Z
UID:10001055-1734615000-1734618600@www.clrcs.com
SUMMARY:Billiards
DESCRIPTION:Free drop in Billiards every Thursday at the Royal Canadian Legion Renfrew.
URL:https://www.clrcs.com/event/billiards/2024-12-19/
LOCATION:Royal Canadian Legion Branch #148\, 30 Raglan St. S.\, Renfrew\, ON\, K7V1P7\, Canada
END:VEVENT
BEGIN:VEVENT
DTSTART;TZID=America/Toronto:20241220T131500
DTEND;TZID=America/Toronto:20241220T143000
DTSTAMP:20260422T183346
CREATED:20241105T152731Z
LAST-MODIFIED:20241105T152731Z
UID:10001316-1734700500-1734705000@www.clrcs.com
SUMMARY:Bowling
DESCRIPTION:Only $4.25 per game!
URL:https://www.clrcs.com/event/bowling/2024-12-20/
LOCATION:Opeongo Bowldrome\, 233 Raglan St. S.\, Renfrew\, ON\, K7V1R3\, Canada
END:VEVENT
BEGIN:VEVENT
DTSTART;TZID=America/Toronto:20241223T130000
DTEND;TZID=America/Toronto:20241223T140000
DTSTAMP:20260422T183346
CREATED:20241104T204044Z
LAST-MODIFIED:20241104T204227Z
UID:10000012-1734958800-1734962400@www.clrcs.com
SUMMARY:Renfrew Legion Seniors Darts
DESCRIPTION:Come out for an afternoon of fun and friendship!
URL:https://www.clrcs.com/event/225234/2024-12-23/
LOCATION:Royal Canadian Legion Branch #148\, 30 Raglan St. S.\, Renfrew\, ON\, K7V1P7\, Canada
END:VEVENT
BEGIN:VEVENT
DTSTART;TZID=America/Toronto:20241225T103000
DTEND;TZID=America/Toronto:20241225T113000
DTSTAMP:20260422T183346
CREATED:20241104T204636Z
LAST-MODIFIED:20241104T204636Z
UID:10000273-1735122600-1735126200@www.clrcs.com
SUMMARY:Opeongo Bowldrome
DESCRIPTION:Join a game for only $4.25!!
URL:https://www.clrcs.com/event/opeongo-bowldrome/2024-12-25/
LOCATION:Opeongo Bowldrome\, 233 Raglan St. S.\, Renfrew\, ON\, K7V1R3\, Canada
END:VEVENT
BEGIN:VEVENT
DTSTART;TZID=America/Toronto:20241225T133000
DTEND;TZID=America/Toronto:20241225T143000
DTSTAMP:20260422T183346
CREATED:20241104T204942Z
LAST-MODIFIED:20250702T154348Z
UID:10000534-1735133400-1735137000@www.clrcs.com
SUMMARY:Free Bingo
DESCRIPTION:Free Bingo every Wednesday at Ma-Te-Way Park at the splash pad. (myFM Centre)
URL:https://www.clrcs.com/event/free-bingo/2024-12-25/
LOCATION:myFM Centre\, 1 Ma-te-way Park Drive\, Renfrew\, Ontario\, K7V 4J4\, Canada
END:VEVENT
BEGIN:VEVENT
DTSTART;TZID=America/Toronto:20241226T133000
DTEND;TZID=America/Toronto:20241226T143000
DTSTAMP:20260422T183346
CREATED:20241105T152548Z
LAST-MODIFIED:20241105T152548Z
UID:10001056-1735219800-1735223400@www.clrcs.com
SUMMARY:Billiards
DESCRIPTION:Free drop in Billiards every Thursday at the Royal Canadian Legion Renfrew.
URL:https://www.clrcs.com/event/billiards/2024-12-26/
LOCATION:Royal Canadian Legion Branch #148\, 30 Raglan St. S.\, Renfrew\, ON\, K7V1P7\, Canada
END:VEVENT
BEGIN:VEVENT
DTSTART;TZID=America/Toronto:20241227T131500
DTEND;TZID=America/Toronto:20241227T143000
DTSTAMP:20260422T183346
CREATED:20241105T152731Z
LAST-MODIFIED:20241105T152731Z
UID:10001317-1735305300-1735309800@www.clrcs.com
SUMMARY:Bowling
DESCRIPTION:Only $4.25 per game!
URL:https://www.clrcs.com/event/bowling/2024-12-27/
LOCATION:Opeongo Bowldrome\, 233 Raglan St. S.\, Renfrew\, ON\, K7V1R3\, Canada
END:VEVENT
BEGIN:VEVENT
DTSTART;TZID=America/Toronto:20241230T130000
DTEND;TZID=America/Toronto:20241230T140000
DTSTAMP:20260422T183346
CREATED:20241104T204044Z
LAST-MODIFIED:20241104T204227Z
UID:10000013-1735563600-1735567200@www.clrcs.com
SUMMARY:Renfrew Legion Seniors Darts
DESCRIPTION:Come out for an afternoon of fun and friendship!
URL:https://www.clrcs.com/event/225234/2024-12-30/
LOCATION:Royal Canadian Legion Branch #148\, 30 Raglan St. S.\, Renfrew\, ON\, K7V1P7\, Canada
END:VEVENT
BEGIN:VEVENT
DTSTART;TZID=America/Toronto:20250101T103000
DTEND;TZID=America/Toronto:20250101T113000
DTSTAMP:20260422T183346
CREATED:20241104T204636Z
LAST-MODIFIED:20241104T204636Z
UID:10000274-1735727400-1735731000@www.clrcs.com
SUMMARY:Opeongo Bowldrome
DESCRIPTION:Join a game for only $4.25!!
URL:https://www.clrcs.com/event/opeongo-bowldrome/2025-01-01/
LOCATION:Opeongo Bowldrome\, 233 Raglan St. S.\, Renfrew\, ON\, K7V1R3\, Canada
END:VEVENT
BEGIN:VEVENT
DTSTART;TZID=America/Toronto:20250101T133000
DTEND;TZID=America/Toronto:20250101T143000
DTSTAMP:20260422T183346
CREATED:20241104T204942Z
LAST-MODIFIED:20250702T154348Z
UID:10000535-1735738200-1735741800@www.clrcs.com
SUMMARY:Free Bingo
DESCRIPTION:Free Bingo every Wednesday at Ma-Te-Way Park at the splash pad. (myFM Centre)
URL:https://www.clrcs.com/event/free-bingo/2025-01-01/
LOCATION:myFM Centre\, 1 Ma-te-way Park Drive\, Renfrew\, Ontario\, K7V 4J4\, Canada
END:VEVENT
BEGIN:VEVENT
DTSTART;TZID=America/Toronto:20250102T133000
DTEND;TZID=America/Toronto:20250102T143000
DTSTAMP:20260422T183346
CREATED:20241105T152548Z
LAST-MODIFIED:20241105T152548Z
UID:10001057-1735824600-1735828200@www.clrcs.com
SUMMARY:Billiards
DESCRIPTION:Free drop in Billiards every Thursday at the Royal Canadian Legion Renfrew.
URL:https://www.clrcs.com/event/billiards/2025-01-02/
LOCATION:Royal Canadian Legion Branch #148\, 30 Raglan St. S.\, Renfrew\, ON\, K7V1P7\, Canada
END:VEVENT
BEGIN:VEVENT
DTSTART;TZID=America/Toronto:20250103T131500
DTEND;TZID=America/Toronto:20250103T143000
DTSTAMP:20260422T183346
CREATED:20241105T152731Z
LAST-MODIFIED:20241105T152731Z
UID:10001318-1735910100-1735914600@www.clrcs.com
SUMMARY:Bowling
DESCRIPTION:Only $4.25 per game!
URL:https://www.clrcs.com/event/bowling/2025-01-03/
LOCATION:Opeongo Bowldrome\, 233 Raglan St. S.\, Renfrew\, ON\, K7V1R3\, Canada
END:VEVENT
BEGIN:VEVENT
DTSTART;TZID=America/Toronto:20250106T130000
DTEND;TZID=America/Toronto:20250106T140000
DTSTAMP:20260422T183346
CREATED:20241104T204044Z
LAST-MODIFIED:20241104T204227Z
UID:10000014-1736168400-1736172000@www.clrcs.com
SUMMARY:Renfrew Legion Seniors Darts
DESCRIPTION:Come out for an afternoon of fun and friendship!
URL:https://www.clrcs.com/event/225234/2025-01-06/
LOCATION:Royal Canadian Legion Branch #148\, 30 Raglan St. S.\, Renfrew\, ON\, K7V1P7\, Canada
END:VEVENT
END:VCALENDAR