BEGIN:VCALENDAR
VERSION:2.0
PRODID:-//CLRCS - ECPv6.15.20//NONSGML v1.0//EN
CALSCALE:GREGORIAN
METHOD:PUBLISH
X-WR-CALNAME:CLRCS
X-ORIGINAL-URL:https://www.clrcs.com
X-WR-CALDESC:Events for CLRCS
REFRESH-INTERVAL;VALUE=DURATION:PT1H
X-Robots-Tag:noindex
X-PUBLISHED-TTL:PT1H
BEGIN:VTIMEZONE
TZID:America/Toronto
BEGIN:DAYLIGHT
TZOFFSETFROM:-0500
TZOFFSETTO:-0400
TZNAME:EDT
DTSTART:20260308T070000
END:DAYLIGHT
BEGIN:STANDARD
TZOFFSETFROM:-0400
TZOFFSETTO:-0500
TZNAME:EST
DTSTART:20261101T060000
END:STANDARD
BEGIN:DAYLIGHT
TZOFFSETFROM:-0500
TZOFFSETTO:-0400
TZNAME:EDT
DTSTART:20270314T070000
END:DAYLIGHT
BEGIN:STANDARD
TZOFFSETFROM:-0400
TZOFFSETTO:-0500
TZNAME:EST
DTSTART:20271107T060000
END:STANDARD
BEGIN:DAYLIGHT
TZOFFSETFROM:-0500
TZOFFSETTO:-0400
TZNAME:EDT
DTSTART:20280312T070000
END:DAYLIGHT
BEGIN:STANDARD
TZOFFSETFROM:-0400
TZOFFSETTO:-0500
TZNAME:EST
DTSTART:20281105T060000
END:STANDARD
BEGIN:DAYLIGHT
TZOFFSETFROM:-0500
TZOFFSETTO:-0400
TZNAME:EDT
DTSTART:20290311T070000
END:DAYLIGHT
BEGIN:STANDARD
TZOFFSETFROM:-0400
TZOFFSETTO:-0500
TZNAME:EST
DTSTART:20291104T060000
END:STANDARD
END:VTIMEZONE
BEGIN:VEVENT
DTSTART;TZID=America/Toronto:20271229T133000
DTEND;TZID=America/Toronto:20271229T143000
DTSTAMP:20260425T101926
CREATED:20250702T154446Z
LAST-MODIFIED:20250702T154447Z
UID:10000691-1830087000-1830090600@www.clrcs.com
SUMMARY:Free Bingo
DESCRIPTION:Free Bingo every Wednesday at Ma-Te-Way Park at the splash pad. (myFM Centre)
URL:https://www.clrcs.com/event/free-bingo-2/2027-12-29/
LOCATION:myFM Centre\, 1 Ma-te-way Park Drive\, Renfrew\, Ontario\, K7V 4J4\, Canada
END:VEVENT
BEGIN:VEVENT
DTSTART;TZID=America/Toronto:20271230T133000
DTEND;TZID=America/Toronto:20271230T143000
DTSTAMP:20260425T101926
CREATED:20241105T152548Z
LAST-MODIFIED:20241105T152548Z
UID:10001213-1830173400-1830177000@www.clrcs.com
SUMMARY:Billiards
DESCRIPTION:Free drop in Billiards every Thursday at the Royal Canadian Legion Renfrew.
URL:https://www.clrcs.com/event/billiards/2027-12-30/
LOCATION:Royal Canadian Legion Branch #148\, 30 Raglan St. S.\, Renfrew\, ON\, K7V1P7\, Canada
END:VEVENT
BEGIN:VEVENT
DTSTART;TZID=America/Toronto:20271231T131500
DTEND;TZID=America/Toronto:20271231T143000
DTSTAMP:20260425T101926
CREATED:20241105T152731Z
LAST-MODIFIED:20241105T152731Z
UID:10001474-1830258900-1830263400@www.clrcs.com
SUMMARY:Bowling
DESCRIPTION:Only $4.25 per game!
URL:https://www.clrcs.com/event/bowling/2027-12-31/
LOCATION:Opeongo Bowldrome\, 233 Raglan St. S.\, Renfrew\, ON\, K7V1R3\, Canada
END:VEVENT
BEGIN:VEVENT
DTSTART;TZID=America/Toronto:20280103T130000
DTEND;TZID=America/Toronto:20280103T140000
DTSTAMP:20260425T101926
CREATED:20241104T204044Z
LAST-MODIFIED:20241104T204227Z
UID:10000170-1830517200-1830520800@www.clrcs.com
SUMMARY:Renfrew Legion Seniors Darts
DESCRIPTION:Come out for an afternoon of fun and friendship!
URL:https://www.clrcs.com/event/225234/2028-01-03/
LOCATION:Royal Canadian Legion Branch #148\, 30 Raglan St. S.\, Renfrew\, ON\, K7V1P7\, Canada
END:VEVENT
BEGIN:VEVENT
DTSTART;TZID=America/Toronto:20280105T103000
DTEND;TZID=America/Toronto:20280105T113000
DTSTAMP:20260425T101926
CREATED:20241104T204636Z
LAST-MODIFIED:20241104T204636Z
UID:10000431-1830681000-1830684600@www.clrcs.com
SUMMARY:Opeongo Bowldrome
DESCRIPTION:Join a game for only $4.25!!
URL:https://www.clrcs.com/event/opeongo-bowldrome/2028-01-05/
LOCATION:Opeongo Bowldrome\, 233 Raglan St. S.\, Renfrew\, ON\, K7V1R3\, Canada
END:VEVENT
BEGIN:VEVENT
DTSTART;TZID=America/Toronto:20280105T133000
DTEND;TZID=America/Toronto:20280105T143000
DTSTAMP:20260425T101926
CREATED:20250702T154446Z
LAST-MODIFIED:20250702T154447Z
UID:10000692-1830691800-1830695400@www.clrcs.com
SUMMARY:Free Bingo
DESCRIPTION:Free Bingo every Wednesday at Ma-Te-Way Park at the splash pad. (myFM Centre)
URL:https://www.clrcs.com/event/free-bingo-2/2028-01-05/
LOCATION:myFM Centre\, 1 Ma-te-way Park Drive\, Renfrew\, Ontario\, K7V 4J4\, Canada
END:VEVENT
BEGIN:VEVENT
DTSTART;TZID=America/Toronto:20280106T133000
DTEND;TZID=America/Toronto:20280106T143000
DTSTAMP:20260425T101926
CREATED:20241105T152548Z
LAST-MODIFIED:20241105T152548Z
UID:10001214-1830778200-1830781800@www.clrcs.com
SUMMARY:Billiards
DESCRIPTION:Free drop in Billiards every Thursday at the Royal Canadian Legion Renfrew.
URL:https://www.clrcs.com/event/billiards/2028-01-06/
LOCATION:Royal Canadian Legion Branch #148\, 30 Raglan St. S.\, Renfrew\, ON\, K7V1P7\, Canada
END:VEVENT
BEGIN:VEVENT
DTSTART;TZID=America/Toronto:20280107T131500
DTEND;TZID=America/Toronto:20280107T143000
DTSTAMP:20260425T101926
CREATED:20241105T152731Z
LAST-MODIFIED:20241105T152731Z
UID:10001475-1830863700-1830868200@www.clrcs.com
SUMMARY:Bowling
DESCRIPTION:Only $4.25 per game!
URL:https://www.clrcs.com/event/bowling/2028-01-07/
LOCATION:Opeongo Bowldrome\, 233 Raglan St. S.\, Renfrew\, ON\, K7V1R3\, Canada
END:VEVENT
BEGIN:VEVENT
DTSTART;TZID=America/Toronto:20280110T130000
DTEND;TZID=America/Toronto:20280110T140000
DTSTAMP:20260425T101926
CREATED:20241104T204044Z
LAST-MODIFIED:20241104T204227Z
UID:10000171-1831122000-1831125600@www.clrcs.com
SUMMARY:Renfrew Legion Seniors Darts
DESCRIPTION:Come out for an afternoon of fun and friendship!
URL:https://www.clrcs.com/event/225234/2028-01-10/
LOCATION:Royal Canadian Legion Branch #148\, 30 Raglan St. S.\, Renfrew\, ON\, K7V1P7\, Canada
END:VEVENT
BEGIN:VEVENT
DTSTART;TZID=America/Toronto:20280112T103000
DTEND;TZID=America/Toronto:20280112T113000
DTSTAMP:20260425T101926
CREATED:20241104T204636Z
LAST-MODIFIED:20241104T204636Z
UID:10000432-1831285800-1831289400@www.clrcs.com
SUMMARY:Opeongo Bowldrome
DESCRIPTION:Join a game for only $4.25!!
URL:https://www.clrcs.com/event/opeongo-bowldrome/2028-01-12/
LOCATION:Opeongo Bowldrome\, 233 Raglan St. S.\, Renfrew\, ON\, K7V1R3\, Canada
END:VEVENT
BEGIN:VEVENT
DTSTART;TZID=America/Toronto:20280112T133000
DTEND;TZID=America/Toronto:20280112T143000
DTSTAMP:20260425T101926
CREATED:20250702T154446Z
LAST-MODIFIED:20250702T154447Z
UID:10000693-1831296600-1831300200@www.clrcs.com
SUMMARY:Free Bingo
DESCRIPTION:Free Bingo every Wednesday at Ma-Te-Way Park at the splash pad. (myFM Centre)
URL:https://www.clrcs.com/event/free-bingo-2/2028-01-12/
LOCATION:myFM Centre\, 1 Ma-te-way Park Drive\, Renfrew\, Ontario\, K7V 4J4\, Canada
END:VEVENT
BEGIN:VEVENT
DTSTART;TZID=America/Toronto:20280113T133000
DTEND;TZID=America/Toronto:20280113T143000
DTSTAMP:20260425T101926
CREATED:20241105T152548Z
LAST-MODIFIED:20241105T152548Z
UID:10001215-1831383000-1831386600@www.clrcs.com
SUMMARY:Billiards
DESCRIPTION:Free drop in Billiards every Thursday at the Royal Canadian Legion Renfrew.
URL:https://www.clrcs.com/event/billiards/2028-01-13/
LOCATION:Royal Canadian Legion Branch #148\, 30 Raglan St. S.\, Renfrew\, ON\, K7V1P7\, Canada
END:VEVENT
BEGIN:VEVENT
DTSTART;TZID=America/Toronto:20280114T131500
DTEND;TZID=America/Toronto:20280114T143000
DTSTAMP:20260425T101926
CREATED:20241105T152731Z
LAST-MODIFIED:20241105T152731Z
UID:10001476-1831468500-1831473000@www.clrcs.com
SUMMARY:Bowling
DESCRIPTION:Only $4.25 per game!
URL:https://www.clrcs.com/event/bowling/2028-01-14/
LOCATION:Opeongo Bowldrome\, 233 Raglan St. S.\, Renfrew\, ON\, K7V1R3\, Canada
END:VEVENT
BEGIN:VEVENT
DTSTART;TZID=America/Toronto:20280117T130000
DTEND;TZID=America/Toronto:20280117T140000
DTSTAMP:20260425T101926
CREATED:20241104T204044Z
LAST-MODIFIED:20241104T204227Z
UID:10000172-1831726800-1831730400@www.clrcs.com
SUMMARY:Renfrew Legion Seniors Darts
DESCRIPTION:Come out for an afternoon of fun and friendship!
URL:https://www.clrcs.com/event/225234/2028-01-17/
LOCATION:Royal Canadian Legion Branch #148\, 30 Raglan St. S.\, Renfrew\, ON\, K7V1P7\, Canada
END:VEVENT
BEGIN:VEVENT
DTSTART;TZID=America/Toronto:20280119T103000
DTEND;TZID=America/Toronto:20280119T113000
DTSTAMP:20260425T101926
CREATED:20241104T204636Z
LAST-MODIFIED:20241104T204636Z
UID:10000433-1831890600-1831894200@www.clrcs.com
SUMMARY:Opeongo Bowldrome
DESCRIPTION:Join a game for only $4.25!!
URL:https://www.clrcs.com/event/opeongo-bowldrome/2028-01-19/
LOCATION:Opeongo Bowldrome\, 233 Raglan St. S.\, Renfrew\, ON\, K7V1R3\, Canada
END:VEVENT
BEGIN:VEVENT
DTSTART;TZID=America/Toronto:20280119T133000
DTEND;TZID=America/Toronto:20280119T143000
DTSTAMP:20260425T101926
CREATED:20250702T154446Z
LAST-MODIFIED:20250702T154447Z
UID:10000694-1831901400-1831905000@www.clrcs.com
SUMMARY:Free Bingo
DESCRIPTION:Free Bingo every Wednesday at Ma-Te-Way Park at the splash pad. (myFM Centre)
URL:https://www.clrcs.com/event/free-bingo-2/2028-01-19/
LOCATION:myFM Centre\, 1 Ma-te-way Park Drive\, Renfrew\, Ontario\, K7V 4J4\, Canada
END:VEVENT
BEGIN:VEVENT
DTSTART;TZID=America/Toronto:20280120T133000
DTEND;TZID=America/Toronto:20280120T143000
DTSTAMP:20260425T101926
CREATED:20241105T152548Z
LAST-MODIFIED:20241105T152548Z
UID:10001216-1831987800-1831991400@www.clrcs.com
SUMMARY:Billiards
DESCRIPTION:Free drop in Billiards every Thursday at the Royal Canadian Legion Renfrew.
URL:https://www.clrcs.com/event/billiards/2028-01-20/
LOCATION:Royal Canadian Legion Branch #148\, 30 Raglan St. S.\, Renfrew\, ON\, K7V1P7\, Canada
END:VEVENT
BEGIN:VEVENT
DTSTART;TZID=America/Toronto:20280121T131500
DTEND;TZID=America/Toronto:20280121T143000
DTSTAMP:20260425T101926
CREATED:20241105T152731Z
LAST-MODIFIED:20241105T152731Z
UID:10001477-1832073300-1832077800@www.clrcs.com
SUMMARY:Bowling
DESCRIPTION:Only $4.25 per game!
URL:https://www.clrcs.com/event/bowling/2028-01-21/
LOCATION:Opeongo Bowldrome\, 233 Raglan St. S.\, Renfrew\, ON\, K7V1R3\, Canada
END:VEVENT
BEGIN:VEVENT
DTSTART;TZID=America/Toronto:20280124T130000
DTEND;TZID=America/Toronto:20280124T140000
DTSTAMP:20260425T101926
CREATED:20241104T204044Z
LAST-MODIFIED:20241104T204227Z
UID:10000173-1832331600-1832335200@www.clrcs.com
SUMMARY:Renfrew Legion Seniors Darts
DESCRIPTION:Come out for an afternoon of fun and friendship!
URL:https://www.clrcs.com/event/225234/2028-01-24/
LOCATION:Royal Canadian Legion Branch #148\, 30 Raglan St. S.\, Renfrew\, ON\, K7V1P7\, Canada
END:VEVENT
BEGIN:VEVENT
DTSTART;TZID=America/Toronto:20280126T103000
DTEND;TZID=America/Toronto:20280126T113000
DTSTAMP:20260425T101926
CREATED:20241104T204636Z
LAST-MODIFIED:20241104T204636Z
UID:10000434-1832495400-1832499000@www.clrcs.com
SUMMARY:Opeongo Bowldrome
DESCRIPTION:Join a game for only $4.25!!
URL:https://www.clrcs.com/event/opeongo-bowldrome/2028-01-26/
LOCATION:Opeongo Bowldrome\, 233 Raglan St. S.\, Renfrew\, ON\, K7V1R3\, Canada
END:VEVENT
BEGIN:VEVENT
DTSTART;TZID=America/Toronto:20280126T133000
DTEND;TZID=America/Toronto:20280126T143000
DTSTAMP:20260425T101926
CREATED:20250702T154446Z
LAST-MODIFIED:20250702T154447Z
UID:10000695-1832506200-1832509800@www.clrcs.com
SUMMARY:Free Bingo
DESCRIPTION:Free Bingo every Wednesday at Ma-Te-Way Park at the splash pad. (myFM Centre)
URL:https://www.clrcs.com/event/free-bingo-2/2028-01-26/
LOCATION:myFM Centre\, 1 Ma-te-way Park Drive\, Renfrew\, Ontario\, K7V 4J4\, Canada
END:VEVENT
BEGIN:VEVENT
DTSTART;TZID=America/Toronto:20280127T133000
DTEND;TZID=America/Toronto:20280127T143000
DTSTAMP:20260425T101926
CREATED:20241105T152548Z
LAST-MODIFIED:20241105T152548Z
UID:10001217-1832592600-1832596200@www.clrcs.com
SUMMARY:Billiards
DESCRIPTION:Free drop in Billiards every Thursday at the Royal Canadian Legion Renfrew.
URL:https://www.clrcs.com/event/billiards/2028-01-27/
LOCATION:Royal Canadian Legion Branch #148\, 30 Raglan St. S.\, Renfrew\, ON\, K7V1P7\, Canada
END:VEVENT
BEGIN:VEVENT
DTSTART;TZID=America/Toronto:20280128T131500
DTEND;TZID=America/Toronto:20280128T143000
DTSTAMP:20260425T101926
CREATED:20241105T152731Z
LAST-MODIFIED:20241105T152731Z
UID:10001478-1832678100-1832682600@www.clrcs.com
SUMMARY:Bowling
DESCRIPTION:Only $4.25 per game!
URL:https://www.clrcs.com/event/bowling/2028-01-28/
LOCATION:Opeongo Bowldrome\, 233 Raglan St. S.\, Renfrew\, ON\, K7V1R3\, Canada
END:VEVENT
BEGIN:VEVENT
DTSTART;TZID=America/Toronto:20280131T130000
DTEND;TZID=America/Toronto:20280131T140000
DTSTAMP:20260425T101926
CREATED:20241104T204044Z
LAST-MODIFIED:20241104T204227Z
UID:10000174-1832936400-1832940000@www.clrcs.com
SUMMARY:Renfrew Legion Seniors Darts
DESCRIPTION:Come out for an afternoon of fun and friendship!
URL:https://www.clrcs.com/event/225234/2028-01-31/
LOCATION:Royal Canadian Legion Branch #148\, 30 Raglan St. S.\, Renfrew\, ON\, K7V1P7\, Canada
END:VEVENT
BEGIN:VEVENT
DTSTART;TZID=America/Toronto:20280202T103000
DTEND;TZID=America/Toronto:20280202T113000
DTSTAMP:20260425T101926
CREATED:20241104T204636Z
LAST-MODIFIED:20241104T204636Z
UID:10000435-1833100200-1833103800@www.clrcs.com
SUMMARY:Opeongo Bowldrome
DESCRIPTION:Join a game for only $4.25!!
URL:https://www.clrcs.com/event/opeongo-bowldrome/2028-02-02/
LOCATION:Opeongo Bowldrome\, 233 Raglan St. S.\, Renfrew\, ON\, K7V1R3\, Canada
END:VEVENT
BEGIN:VEVENT
DTSTART;TZID=America/Toronto:20280202T133000
DTEND;TZID=America/Toronto:20280202T143000
DTSTAMP:20260425T101926
CREATED:20250702T154446Z
LAST-MODIFIED:20250702T154447Z
UID:10000696-1833111000-1833114600@www.clrcs.com
SUMMARY:Free Bingo
DESCRIPTION:Free Bingo every Wednesday at Ma-Te-Way Park at the splash pad. (myFM Centre)
URL:https://www.clrcs.com/event/free-bingo-2/2028-02-02/
LOCATION:myFM Centre\, 1 Ma-te-way Park Drive\, Renfrew\, Ontario\, K7V 4J4\, Canada
END:VEVENT
BEGIN:VEVENT
DTSTART;TZID=America/Toronto:20280203T133000
DTEND;TZID=America/Toronto:20280203T143000
DTSTAMP:20260425T101926
CREATED:20241105T152548Z
LAST-MODIFIED:20241105T152548Z
UID:10001218-1833197400-1833201000@www.clrcs.com
SUMMARY:Billiards
DESCRIPTION:Free drop in Billiards every Thursday at the Royal Canadian Legion Renfrew.
URL:https://www.clrcs.com/event/billiards/2028-02-03/
LOCATION:Royal Canadian Legion Branch #148\, 30 Raglan St. S.\, Renfrew\, ON\, K7V1P7\, Canada
END:VEVENT
BEGIN:VEVENT
DTSTART;TZID=America/Toronto:20280204T131500
DTEND;TZID=America/Toronto:20280204T143000
DTSTAMP:20260425T101926
CREATED:20241105T152731Z
LAST-MODIFIED:20241105T152731Z
UID:10001479-1833282900-1833287400@www.clrcs.com
SUMMARY:Bowling
DESCRIPTION:Only $4.25 per game!
URL:https://www.clrcs.com/event/bowling/2028-02-04/
LOCATION:Opeongo Bowldrome\, 233 Raglan St. S.\, Renfrew\, ON\, K7V1R3\, Canada
END:VEVENT
BEGIN:VEVENT
DTSTART;TZID=America/Toronto:20280207T130000
DTEND;TZID=America/Toronto:20280207T140000
DTSTAMP:20260425T101926
CREATED:20241104T204044Z
LAST-MODIFIED:20241104T204227Z
UID:10000175-1833541200-1833544800@www.clrcs.com
SUMMARY:Renfrew Legion Seniors Darts
DESCRIPTION:Come out for an afternoon of fun and friendship!
URL:https://www.clrcs.com/event/225234/2028-02-07/
LOCATION:Royal Canadian Legion Branch #148\, 30 Raglan St. S.\, Renfrew\, ON\, K7V1P7\, Canada
END:VEVENT
BEGIN:VEVENT
DTSTART;TZID=America/Toronto:20280209T103000
DTEND;TZID=America/Toronto:20280209T113000
DTSTAMP:20260425T101926
CREATED:20241104T204636Z
LAST-MODIFIED:20241104T204636Z
UID:10000436-1833705000-1833708600@www.clrcs.com
SUMMARY:Opeongo Bowldrome
DESCRIPTION:Join a game for only $4.25!!
URL:https://www.clrcs.com/event/opeongo-bowldrome/2028-02-09/
LOCATION:Opeongo Bowldrome\, 233 Raglan St. S.\, Renfrew\, ON\, K7V1R3\, Canada
END:VEVENT
END:VCALENDAR