BEGIN:VCALENDAR
VERSION:2.0
PRODID:-//CLRCS - ECPv6.15.20//NONSGML v1.0//EN
CALSCALE:GREGORIAN
METHOD:PUBLISH
X-WR-CALNAME:CLRCS
X-ORIGINAL-URL:https://www.clrcs.com
X-WR-CALDESC:Events for CLRCS
REFRESH-INTERVAL;VALUE=DURATION:PT1H
X-Robots-Tag:noindex
X-PUBLISHED-TTL:PT1H
BEGIN:VTIMEZONE
TZID:America/Toronto
BEGIN:DAYLIGHT
TZOFFSETFROM:-0500
TZOFFSETTO:-0400
TZNAME:EDT
DTSTART:20260308T070000
END:DAYLIGHT
BEGIN:STANDARD
TZOFFSETFROM:-0400
TZOFFSETTO:-0500
TZNAME:EST
DTSTART:20261101T060000
END:STANDARD
BEGIN:DAYLIGHT
TZOFFSETFROM:-0500
TZOFFSETTO:-0400
TZNAME:EDT
DTSTART:20270314T070000
END:DAYLIGHT
BEGIN:STANDARD
TZOFFSETFROM:-0400
TZOFFSETTO:-0500
TZNAME:EST
DTSTART:20271107T060000
END:STANDARD
BEGIN:DAYLIGHT
TZOFFSETFROM:-0500
TZOFFSETTO:-0400
TZNAME:EDT
DTSTART:20280312T070000
END:DAYLIGHT
BEGIN:STANDARD
TZOFFSETFROM:-0400
TZOFFSETTO:-0500
TZNAME:EST
DTSTART:20281105T060000
END:STANDARD
END:VTIMEZONE
BEGIN:VEVENT
DTSTART;TZID=America/Toronto:20270811T103000
DTEND;TZID=America/Toronto:20270811T113000
DTSTAMP:20260424T121708
CREATED:20241104T204636Z
LAST-MODIFIED:20241104T204636Z
UID:10000410-1817980200-1817983800@www.clrcs.com
SUMMARY:Opeongo Bowldrome
DESCRIPTION:Join a game for only $4.25!!
URL:https://www.clrcs.com/event/opeongo-bowldrome/2027-08-11/
LOCATION:Opeongo Bowldrome\, 233 Raglan St. S.\, Renfrew\, ON\, K7V1R3\, Canada
END:VEVENT
BEGIN:VEVENT
DTSTART;TZID=America/Toronto:20270811T133000
DTEND;TZID=America/Toronto:20270811T143000
DTSTAMP:20260424T121708
CREATED:20250702T154446Z
LAST-MODIFIED:20250702T154447Z
UID:10000671-1817991000-1817994600@www.clrcs.com
SUMMARY:Free Bingo
DESCRIPTION:Free Bingo every Wednesday at Ma-Te-Way Park at the splash pad. (myFM Centre)
URL:https://www.clrcs.com/event/free-bingo-2/2027-08-11/
LOCATION:myFM Centre\, 1 Ma-te-way Park Drive\, Renfrew\, Ontario\, K7V 4J4\, Canada
END:VEVENT
BEGIN:VEVENT
DTSTART;TZID=America/Toronto:20270812T133000
DTEND;TZID=America/Toronto:20270812T143000
DTSTAMP:20260424T121708
CREATED:20241105T152548Z
LAST-MODIFIED:20241105T152548Z
UID:10001193-1818077400-1818081000@www.clrcs.com
SUMMARY:Billiards
DESCRIPTION:Free drop in Billiards every Thursday at the Royal Canadian Legion Renfrew.
URL:https://www.clrcs.com/event/billiards/2027-08-12/
LOCATION:Royal Canadian Legion Branch #148\, 30 Raglan St. S.\, Renfrew\, ON\, K7V1P7\, Canada
END:VEVENT
BEGIN:VEVENT
DTSTART;TZID=America/Toronto:20270813T131500
DTEND;TZID=America/Toronto:20270813T143000
DTSTAMP:20260424T121708
CREATED:20241105T152731Z
LAST-MODIFIED:20241105T152731Z
UID:10001454-1818162900-1818167400@www.clrcs.com
SUMMARY:Bowling
DESCRIPTION:Only $4.25 per game!
URL:https://www.clrcs.com/event/bowling/2027-08-13/
LOCATION:Opeongo Bowldrome\, 233 Raglan St. S.\, Renfrew\, ON\, K7V1R3\, Canada
END:VEVENT
BEGIN:VEVENT
DTSTART;TZID=America/Toronto:20270816T130000
DTEND;TZID=America/Toronto:20270816T140000
DTSTAMP:20260424T121708
CREATED:20241104T204044Z
LAST-MODIFIED:20241104T204227Z
UID:10000150-1818421200-1818424800@www.clrcs.com
SUMMARY:Renfrew Legion Seniors Darts
DESCRIPTION:Come out for an afternoon of fun and friendship!
URL:https://www.clrcs.com/event/225234/2027-08-16/
LOCATION:Royal Canadian Legion Branch #148\, 30 Raglan St. S.\, Renfrew\, ON\, K7V1P7\, Canada
END:VEVENT
BEGIN:VEVENT
DTSTART;TZID=America/Toronto:20270818T103000
DTEND;TZID=America/Toronto:20270818T113000
DTSTAMP:20260424T121708
CREATED:20241104T204636Z
LAST-MODIFIED:20241104T204636Z
UID:10000411-1818585000-1818588600@www.clrcs.com
SUMMARY:Opeongo Bowldrome
DESCRIPTION:Join a game for only $4.25!!
URL:https://www.clrcs.com/event/opeongo-bowldrome/2027-08-18/
LOCATION:Opeongo Bowldrome\, 233 Raglan St. S.\, Renfrew\, ON\, K7V1R3\, Canada
END:VEVENT
BEGIN:VEVENT
DTSTART;TZID=America/Toronto:20270818T133000
DTEND;TZID=America/Toronto:20270818T143000
DTSTAMP:20260424T121708
CREATED:20250702T154446Z
LAST-MODIFIED:20250702T154447Z
UID:10000672-1818595800-1818599400@www.clrcs.com
SUMMARY:Free Bingo
DESCRIPTION:Free Bingo every Wednesday at Ma-Te-Way Park at the splash pad. (myFM Centre)
URL:https://www.clrcs.com/event/free-bingo-2/2027-08-18/
LOCATION:myFM Centre\, 1 Ma-te-way Park Drive\, Renfrew\, Ontario\, K7V 4J4\, Canada
END:VEVENT
BEGIN:VEVENT
DTSTART;TZID=America/Toronto:20270819T133000
DTEND;TZID=America/Toronto:20270819T143000
DTSTAMP:20260424T121708
CREATED:20241105T152548Z
LAST-MODIFIED:20241105T152548Z
UID:10001194-1818682200-1818685800@www.clrcs.com
SUMMARY:Billiards
DESCRIPTION:Free drop in Billiards every Thursday at the Royal Canadian Legion Renfrew.
URL:https://www.clrcs.com/event/billiards/2027-08-19/
LOCATION:Royal Canadian Legion Branch #148\, 30 Raglan St. S.\, Renfrew\, ON\, K7V1P7\, Canada
END:VEVENT
BEGIN:VEVENT
DTSTART;TZID=America/Toronto:20270820T131500
DTEND;TZID=America/Toronto:20270820T143000
DTSTAMP:20260424T121708
CREATED:20241105T152731Z
LAST-MODIFIED:20241105T152731Z
UID:10001455-1818767700-1818772200@www.clrcs.com
SUMMARY:Bowling
DESCRIPTION:Only $4.25 per game!
URL:https://www.clrcs.com/event/bowling/2027-08-20/
LOCATION:Opeongo Bowldrome\, 233 Raglan St. S.\, Renfrew\, ON\, K7V1R3\, Canada
END:VEVENT
BEGIN:VEVENT
DTSTART;TZID=America/Toronto:20270823T130000
DTEND;TZID=America/Toronto:20270823T140000
DTSTAMP:20260424T121708
CREATED:20241104T204044Z
LAST-MODIFIED:20241104T204227Z
UID:10000151-1819026000-1819029600@www.clrcs.com
SUMMARY:Renfrew Legion Seniors Darts
DESCRIPTION:Come out for an afternoon of fun and friendship!
URL:https://www.clrcs.com/event/225234/2027-08-23/
LOCATION:Royal Canadian Legion Branch #148\, 30 Raglan St. S.\, Renfrew\, ON\, K7V1P7\, Canada
END:VEVENT
BEGIN:VEVENT
DTSTART;TZID=America/Toronto:20270825T103000
DTEND;TZID=America/Toronto:20270825T113000
DTSTAMP:20260424T121708
CREATED:20241104T204636Z
LAST-MODIFIED:20241104T204636Z
UID:10000412-1819189800-1819193400@www.clrcs.com
SUMMARY:Opeongo Bowldrome
DESCRIPTION:Join a game for only $4.25!!
URL:https://www.clrcs.com/event/opeongo-bowldrome/2027-08-25/
LOCATION:Opeongo Bowldrome\, 233 Raglan St. S.\, Renfrew\, ON\, K7V1R3\, Canada
END:VEVENT
BEGIN:VEVENT
DTSTART;TZID=America/Toronto:20270825T133000
DTEND;TZID=America/Toronto:20270825T143000
DTSTAMP:20260424T121708
CREATED:20250702T154446Z
LAST-MODIFIED:20250702T154447Z
UID:10000673-1819200600-1819204200@www.clrcs.com
SUMMARY:Free Bingo
DESCRIPTION:Free Bingo every Wednesday at Ma-Te-Way Park at the splash pad. (myFM Centre)
URL:https://www.clrcs.com/event/free-bingo-2/2027-08-25/
LOCATION:myFM Centre\, 1 Ma-te-way Park Drive\, Renfrew\, Ontario\, K7V 4J4\, Canada
END:VEVENT
BEGIN:VEVENT
DTSTART;TZID=America/Toronto:20270826T133000
DTEND;TZID=America/Toronto:20270826T143000
DTSTAMP:20260424T121708
CREATED:20241105T152548Z
LAST-MODIFIED:20241105T152548Z
UID:10001195-1819287000-1819290600@www.clrcs.com
SUMMARY:Billiards
DESCRIPTION:Free drop in Billiards every Thursday at the Royal Canadian Legion Renfrew.
URL:https://www.clrcs.com/event/billiards/2027-08-26/
LOCATION:Royal Canadian Legion Branch #148\, 30 Raglan St. S.\, Renfrew\, ON\, K7V1P7\, Canada
END:VEVENT
BEGIN:VEVENT
DTSTART;TZID=America/Toronto:20270827T131500
DTEND;TZID=America/Toronto:20270827T143000
DTSTAMP:20260424T121708
CREATED:20241105T152731Z
LAST-MODIFIED:20241105T152731Z
UID:10001456-1819372500-1819377000@www.clrcs.com
SUMMARY:Bowling
DESCRIPTION:Only $4.25 per game!
URL:https://www.clrcs.com/event/bowling/2027-08-27/
LOCATION:Opeongo Bowldrome\, 233 Raglan St. S.\, Renfrew\, ON\, K7V1R3\, Canada
END:VEVENT
BEGIN:VEVENT
DTSTART;TZID=America/Toronto:20270830T130000
DTEND;TZID=America/Toronto:20270830T140000
DTSTAMP:20260424T121708
CREATED:20241104T204044Z
LAST-MODIFIED:20241104T204227Z
UID:10000152-1819630800-1819634400@www.clrcs.com
SUMMARY:Renfrew Legion Seniors Darts
DESCRIPTION:Come out for an afternoon of fun and friendship!
URL:https://www.clrcs.com/event/225234/2027-08-30/
LOCATION:Royal Canadian Legion Branch #148\, 30 Raglan St. S.\, Renfrew\, ON\, K7V1P7\, Canada
END:VEVENT
BEGIN:VEVENT
DTSTART;TZID=America/Toronto:20270901T103000
DTEND;TZID=America/Toronto:20270901T113000
DTSTAMP:20260424T121708
CREATED:20241104T204636Z
LAST-MODIFIED:20241104T204636Z
UID:10000413-1819794600-1819798200@www.clrcs.com
SUMMARY:Opeongo Bowldrome
DESCRIPTION:Join a game for only $4.25!!
URL:https://www.clrcs.com/event/opeongo-bowldrome/2027-09-01/
LOCATION:Opeongo Bowldrome\, 233 Raglan St. S.\, Renfrew\, ON\, K7V1R3\, Canada
END:VEVENT
BEGIN:VEVENT
DTSTART;TZID=America/Toronto:20270901T133000
DTEND;TZID=America/Toronto:20270901T143000
DTSTAMP:20260424T121708
CREATED:20250702T154446Z
LAST-MODIFIED:20250702T154447Z
UID:10000674-1819805400-1819809000@www.clrcs.com
SUMMARY:Free Bingo
DESCRIPTION:Free Bingo every Wednesday at Ma-Te-Way Park at the splash pad. (myFM Centre)
URL:https://www.clrcs.com/event/free-bingo-2/2027-09-01/
LOCATION:myFM Centre\, 1 Ma-te-way Park Drive\, Renfrew\, Ontario\, K7V 4J4\, Canada
END:VEVENT
BEGIN:VEVENT
DTSTART;TZID=America/Toronto:20270902T133000
DTEND;TZID=America/Toronto:20270902T143000
DTSTAMP:20260424T121708
CREATED:20241105T152548Z
LAST-MODIFIED:20241105T152548Z
UID:10001196-1819891800-1819895400@www.clrcs.com
SUMMARY:Billiards
DESCRIPTION:Free drop in Billiards every Thursday at the Royal Canadian Legion Renfrew.
URL:https://www.clrcs.com/event/billiards/2027-09-02/
LOCATION:Royal Canadian Legion Branch #148\, 30 Raglan St. S.\, Renfrew\, ON\, K7V1P7\, Canada
END:VEVENT
BEGIN:VEVENT
DTSTART;TZID=America/Toronto:20270903T131500
DTEND;TZID=America/Toronto:20270903T143000
DTSTAMP:20260424T121708
CREATED:20241105T152731Z
LAST-MODIFIED:20241105T152731Z
UID:10001457-1819977300-1819981800@www.clrcs.com
SUMMARY:Bowling
DESCRIPTION:Only $4.25 per game!
URL:https://www.clrcs.com/event/bowling/2027-09-03/
LOCATION:Opeongo Bowldrome\, 233 Raglan St. S.\, Renfrew\, ON\, K7V1R3\, Canada
END:VEVENT
BEGIN:VEVENT
DTSTART;TZID=America/Toronto:20270906T130000
DTEND;TZID=America/Toronto:20270906T140000
DTSTAMP:20260424T121708
CREATED:20241104T204044Z
LAST-MODIFIED:20241104T204227Z
UID:10000153-1820235600-1820239200@www.clrcs.com
SUMMARY:Renfrew Legion Seniors Darts
DESCRIPTION:Come out for an afternoon of fun and friendship!
URL:https://www.clrcs.com/event/225234/2027-09-06/
LOCATION:Royal Canadian Legion Branch #148\, 30 Raglan St. S.\, Renfrew\, ON\, K7V1P7\, Canada
END:VEVENT
BEGIN:VEVENT
DTSTART;TZID=America/Toronto:20270908T103000
DTEND;TZID=America/Toronto:20270908T113000
DTSTAMP:20260424T121708
CREATED:20241104T204636Z
LAST-MODIFIED:20241104T204636Z
UID:10000414-1820399400-1820403000@www.clrcs.com
SUMMARY:Opeongo Bowldrome
DESCRIPTION:Join a game for only $4.25!!
URL:https://www.clrcs.com/event/opeongo-bowldrome/2027-09-08/
LOCATION:Opeongo Bowldrome\, 233 Raglan St. S.\, Renfrew\, ON\, K7V1R3\, Canada
END:VEVENT
BEGIN:VEVENT
DTSTART;TZID=America/Toronto:20270908T133000
DTEND;TZID=America/Toronto:20270908T143000
DTSTAMP:20260424T121708
CREATED:20250702T154446Z
LAST-MODIFIED:20250702T154447Z
UID:10000675-1820410200-1820413800@www.clrcs.com
SUMMARY:Free Bingo
DESCRIPTION:Free Bingo every Wednesday at Ma-Te-Way Park at the splash pad. (myFM Centre)
URL:https://www.clrcs.com/event/free-bingo-2/2027-09-08/
LOCATION:myFM Centre\, 1 Ma-te-way Park Drive\, Renfrew\, Ontario\, K7V 4J4\, Canada
END:VEVENT
BEGIN:VEVENT
DTSTART;TZID=America/Toronto:20270909T133000
DTEND;TZID=America/Toronto:20270909T143000
DTSTAMP:20260424T121708
CREATED:20241105T152548Z
LAST-MODIFIED:20241105T152548Z
UID:10001197-1820496600-1820500200@www.clrcs.com
SUMMARY:Billiards
DESCRIPTION:Free drop in Billiards every Thursday at the Royal Canadian Legion Renfrew.
URL:https://www.clrcs.com/event/billiards/2027-09-09/
LOCATION:Royal Canadian Legion Branch #148\, 30 Raglan St. S.\, Renfrew\, ON\, K7V1P7\, Canada
END:VEVENT
BEGIN:VEVENT
DTSTART;TZID=America/Toronto:20270910T131500
DTEND;TZID=America/Toronto:20270910T143000
DTSTAMP:20260424T121708
CREATED:20241105T152731Z
LAST-MODIFIED:20241105T152731Z
UID:10001458-1820582100-1820586600@www.clrcs.com
SUMMARY:Bowling
DESCRIPTION:Only $4.25 per game!
URL:https://www.clrcs.com/event/bowling/2027-09-10/
LOCATION:Opeongo Bowldrome\, 233 Raglan St. S.\, Renfrew\, ON\, K7V1R3\, Canada
END:VEVENT
BEGIN:VEVENT
DTSTART;TZID=America/Toronto:20270913T130000
DTEND;TZID=America/Toronto:20270913T140000
DTSTAMP:20260424T121708
CREATED:20241104T204044Z
LAST-MODIFIED:20241104T204227Z
UID:10000154-1820840400-1820844000@www.clrcs.com
SUMMARY:Renfrew Legion Seniors Darts
DESCRIPTION:Come out for an afternoon of fun and friendship!
URL:https://www.clrcs.com/event/225234/2027-09-13/
LOCATION:Royal Canadian Legion Branch #148\, 30 Raglan St. S.\, Renfrew\, ON\, K7V1P7\, Canada
END:VEVENT
BEGIN:VEVENT
DTSTART;TZID=America/Toronto:20270915T103000
DTEND;TZID=America/Toronto:20270915T113000
DTSTAMP:20260424T121708
CREATED:20241104T204636Z
LAST-MODIFIED:20241104T204636Z
UID:10000415-1821004200-1821007800@www.clrcs.com
SUMMARY:Opeongo Bowldrome
DESCRIPTION:Join a game for only $4.25!!
URL:https://www.clrcs.com/event/opeongo-bowldrome/2027-09-15/
LOCATION:Opeongo Bowldrome\, 233 Raglan St. S.\, Renfrew\, ON\, K7V1R3\, Canada
END:VEVENT
BEGIN:VEVENT
DTSTART;TZID=America/Toronto:20270915T133000
DTEND;TZID=America/Toronto:20270915T143000
DTSTAMP:20260424T121708
CREATED:20250702T154446Z
LAST-MODIFIED:20250702T154447Z
UID:10000676-1821015000-1821018600@www.clrcs.com
SUMMARY:Free Bingo
DESCRIPTION:Free Bingo every Wednesday at Ma-Te-Way Park at the splash pad. (myFM Centre)
URL:https://www.clrcs.com/event/free-bingo-2/2027-09-15/
LOCATION:myFM Centre\, 1 Ma-te-way Park Drive\, Renfrew\, Ontario\, K7V 4J4\, Canada
END:VEVENT
BEGIN:VEVENT
DTSTART;TZID=America/Toronto:20270916T133000
DTEND;TZID=America/Toronto:20270916T143000
DTSTAMP:20260424T121708
CREATED:20241105T152548Z
LAST-MODIFIED:20241105T152548Z
UID:10001198-1821101400-1821105000@www.clrcs.com
SUMMARY:Billiards
DESCRIPTION:Free drop in Billiards every Thursday at the Royal Canadian Legion Renfrew.
URL:https://www.clrcs.com/event/billiards/2027-09-16/
LOCATION:Royal Canadian Legion Branch #148\, 30 Raglan St. S.\, Renfrew\, ON\, K7V1P7\, Canada
END:VEVENT
BEGIN:VEVENT
DTSTART;TZID=America/Toronto:20270917T131500
DTEND;TZID=America/Toronto:20270917T143000
DTSTAMP:20260424T121708
CREATED:20241105T152731Z
LAST-MODIFIED:20241105T152731Z
UID:10001459-1821186900-1821191400@www.clrcs.com
SUMMARY:Bowling
DESCRIPTION:Only $4.25 per game!
URL:https://www.clrcs.com/event/bowling/2027-09-17/
LOCATION:Opeongo Bowldrome\, 233 Raglan St. S.\, Renfrew\, ON\, K7V1R3\, Canada
END:VEVENT
BEGIN:VEVENT
DTSTART;TZID=America/Toronto:20270920T130000
DTEND;TZID=America/Toronto:20270920T140000
DTSTAMP:20260424T121708
CREATED:20241104T204044Z
LAST-MODIFIED:20241104T204227Z
UID:10000155-1821445200-1821448800@www.clrcs.com
SUMMARY:Renfrew Legion Seniors Darts
DESCRIPTION:Come out for an afternoon of fun and friendship!
URL:https://www.clrcs.com/event/225234/2027-09-20/
LOCATION:Royal Canadian Legion Branch #148\, 30 Raglan St. S.\, Renfrew\, ON\, K7V1P7\, Canada
END:VEVENT
END:VCALENDAR