BEGIN:VCALENDAR
VERSION:2.0
PRODID:-//CLRCS - ECPv6.15.20//NONSGML v1.0//EN
CALSCALE:GREGORIAN
METHOD:PUBLISH
X-ORIGINAL-URL:https://www.clrcs.com
X-WR-CALDESC:Events for CLRCS
REFRESH-INTERVAL;VALUE=DURATION:PT1H
X-Robots-Tag:noindex
X-PUBLISHED-TTL:PT1H
BEGIN:VTIMEZONE
TZID:America/Toronto
BEGIN:DAYLIGHT
TZOFFSETFROM:-0500
TZOFFSETTO:-0400
TZNAME:EDT
DTSTART:20250309T070000
END:DAYLIGHT
BEGIN:STANDARD
TZOFFSETFROM:-0400
TZOFFSETTO:-0500
TZNAME:EST
DTSTART:20251102T060000
END:STANDARD
BEGIN:DAYLIGHT
TZOFFSETFROM:-0500
TZOFFSETTO:-0400
TZNAME:EDT
DTSTART:20260308T070000
END:DAYLIGHT
BEGIN:STANDARD
TZOFFSETFROM:-0400
TZOFFSETTO:-0500
TZNAME:EST
DTSTART:20261101T060000
END:STANDARD
BEGIN:DAYLIGHT
TZOFFSETFROM:-0500
TZOFFSETTO:-0400
TZNAME:EDT
DTSTART:20270314T070000
END:DAYLIGHT
BEGIN:STANDARD
TZOFFSETFROM:-0400
TZOFFSETTO:-0500
TZNAME:EST
DTSTART:20271107T060000
END:STANDARD
END:VTIMEZONE
BEGIN:VEVENT
DTSTART;TZID=America/Toronto:20260611T133000
DTEND;TZID=America/Toronto:20260611T143000
DTSTAMP:20260422T185210
CREATED:20241105T152548Z
LAST-MODIFIED:20241105T152548Z
UID:10001132-1781184600-1781188200@www.clrcs.com
SUMMARY:Billiards
DESCRIPTION:Free drop in Billiards every Thursday at the Royal Canadian Legion Renfrew.
URL:https://www.clrcs.com/event/billiards/2026-06-11/
LOCATION:Royal Canadian Legion Branch #148\, 30 Raglan St. S.\, Renfrew\, ON\, K7V1P7\, Canada
END:VEVENT
BEGIN:VEVENT
DTSTART;TZID=America/Toronto:20260612T131500
DTEND;TZID=America/Toronto:20260612T143000
DTSTAMP:20260422T185210
CREATED:20241105T152731Z
LAST-MODIFIED:20241105T152731Z
UID:10001393-1781270100-1781274600@www.clrcs.com
SUMMARY:Bowling
DESCRIPTION:Only $4.25 per game!
URL:https://www.clrcs.com/event/bowling/2026-06-12/
LOCATION:Opeongo Bowldrome\, 233 Raglan St. S.\, Renfrew\, ON\, K7V1R3\, Canada
END:VEVENT
BEGIN:VEVENT
DTSTART;TZID=America/Toronto:20260615T130000
DTEND;TZID=America/Toronto:20260615T140000
DTSTAMP:20260422T185210
CREATED:20241104T204044Z
LAST-MODIFIED:20241104T204227Z
UID:10000089-1781528400-1781532000@www.clrcs.com
SUMMARY:Renfrew Legion Seniors Darts
DESCRIPTION:Come out for an afternoon of fun and friendship!
URL:https://www.clrcs.com/event/225234/2026-06-15/
LOCATION:Royal Canadian Legion Branch #148\, 30 Raglan St. S.\, Renfrew\, ON\, K7V1P7\, Canada
END:VEVENT
BEGIN:VEVENT
DTSTART;TZID=America/Toronto:20260617T103000
DTEND;TZID=America/Toronto:20260617T113000
DTSTAMP:20260422T185210
CREATED:20241104T204636Z
LAST-MODIFIED:20241104T204636Z
UID:10000350-1781692200-1781695800@www.clrcs.com
SUMMARY:Opeongo Bowldrome
DESCRIPTION:Join a game for only $4.25!!
URL:https://www.clrcs.com/event/opeongo-bowldrome/2026-06-17/
LOCATION:Opeongo Bowldrome\, 233 Raglan St. S.\, Renfrew\, ON\, K7V1R3\, Canada
END:VEVENT
BEGIN:VEVENT
DTSTART;TZID=America/Toronto:20260617T133000
DTEND;TZID=America/Toronto:20260617T143000
DTSTAMP:20260422T185210
CREATED:20250702T154446Z
LAST-MODIFIED:20250702T154447Z
UID:10000611-1781703000-1781706600@www.clrcs.com
SUMMARY:Free Bingo
DESCRIPTION:Free Bingo every Wednesday at Ma-Te-Way Park at the splash pad. (myFM Centre)
URL:https://www.clrcs.com/event/free-bingo-2/2026-06-17/
LOCATION:myFM Centre\, 1 Ma-te-way Park Drive\, Renfrew\, Ontario\, K7V 4J4\, Canada
END:VEVENT
BEGIN:VEVENT
DTSTART;TZID=America/Toronto:20260618T133000
DTEND;TZID=America/Toronto:20260618T143000
DTSTAMP:20260422T185210
CREATED:20241105T152548Z
LAST-MODIFIED:20241105T152548Z
UID:10001133-1781789400-1781793000@www.clrcs.com
SUMMARY:Billiards
DESCRIPTION:Free drop in Billiards every Thursday at the Royal Canadian Legion Renfrew.
URL:https://www.clrcs.com/event/billiards/2026-06-18/
LOCATION:Royal Canadian Legion Branch #148\, 30 Raglan St. S.\, Renfrew\, ON\, K7V1P7\, Canada
END:VEVENT
BEGIN:VEVENT
DTSTART;TZID=America/Toronto:20260619T131500
DTEND;TZID=America/Toronto:20260619T143000
DTSTAMP:20260422T185210
CREATED:20241105T152731Z
LAST-MODIFIED:20241105T152731Z
UID:10001394-1781874900-1781879400@www.clrcs.com
SUMMARY:Bowling
DESCRIPTION:Only $4.25 per game!
URL:https://www.clrcs.com/event/bowling/2026-06-19/
LOCATION:Opeongo Bowldrome\, 233 Raglan St. S.\, Renfrew\, ON\, K7V1R3\, Canada
END:VEVENT
BEGIN:VEVENT
DTSTART;TZID=America/Toronto:20260622T130000
DTEND;TZID=America/Toronto:20260622T140000
DTSTAMP:20260422T185210
CREATED:20241104T204044Z
LAST-MODIFIED:20241104T204227Z
UID:10000090-1782133200-1782136800@www.clrcs.com
SUMMARY:Renfrew Legion Seniors Darts
DESCRIPTION:Come out for an afternoon of fun and friendship!
URL:https://www.clrcs.com/event/225234/2026-06-22/
LOCATION:Royal Canadian Legion Branch #148\, 30 Raglan St. S.\, Renfrew\, ON\, K7V1P7\, Canada
END:VEVENT
BEGIN:VEVENT
DTSTART;TZID=America/Toronto:20260624T103000
DTEND;TZID=America/Toronto:20260624T113000
DTSTAMP:20260422T185210
CREATED:20241104T204636Z
LAST-MODIFIED:20241104T204636Z
UID:10000351-1782297000-1782300600@www.clrcs.com
SUMMARY:Opeongo Bowldrome
DESCRIPTION:Join a game for only $4.25!!
URL:https://www.clrcs.com/event/opeongo-bowldrome/2026-06-24/
LOCATION:Opeongo Bowldrome\, 233 Raglan St. S.\, Renfrew\, ON\, K7V1R3\, Canada
END:VEVENT
BEGIN:VEVENT
DTSTART;TZID=America/Toronto:20260624T133000
DTEND;TZID=America/Toronto:20260624T143000
DTSTAMP:20260422T185210
CREATED:20250702T154446Z
LAST-MODIFIED:20250702T154447Z
UID:10000612-1782307800-1782311400@www.clrcs.com
SUMMARY:Free Bingo
DESCRIPTION:Free Bingo every Wednesday at Ma-Te-Way Park at the splash pad. (myFM Centre)
URL:https://www.clrcs.com/event/free-bingo-2/2026-06-24/
LOCATION:myFM Centre\, 1 Ma-te-way Park Drive\, Renfrew\, Ontario\, K7V 4J4\, Canada
END:VEVENT
BEGIN:VEVENT
DTSTART;TZID=America/Toronto:20260625T133000
DTEND;TZID=America/Toronto:20260625T143000
DTSTAMP:20260422T185210
CREATED:20241105T152548Z
LAST-MODIFIED:20241105T152548Z
UID:10001134-1782394200-1782397800@www.clrcs.com
SUMMARY:Billiards
DESCRIPTION:Free drop in Billiards every Thursday at the Royal Canadian Legion Renfrew.
URL:https://www.clrcs.com/event/billiards/2026-06-25/
LOCATION:Royal Canadian Legion Branch #148\, 30 Raglan St. S.\, Renfrew\, ON\, K7V1P7\, Canada
END:VEVENT
BEGIN:VEVENT
DTSTART;TZID=America/Toronto:20260626T131500
DTEND;TZID=America/Toronto:20260626T143000
DTSTAMP:20260422T185210
CREATED:20241105T152731Z
LAST-MODIFIED:20241105T152731Z
UID:10001395-1782479700-1782484200@www.clrcs.com
SUMMARY:Bowling
DESCRIPTION:Only $4.25 per game!
URL:https://www.clrcs.com/event/bowling/2026-06-26/
LOCATION:Opeongo Bowldrome\, 233 Raglan St. S.\, Renfrew\, ON\, K7V1R3\, Canada
END:VEVENT
BEGIN:VEVENT
DTSTART;TZID=America/Toronto:20260629T130000
DTEND;TZID=America/Toronto:20260629T140000
DTSTAMP:20260422T185210
CREATED:20241104T204044Z
LAST-MODIFIED:20241104T204227Z
UID:10000091-1782738000-1782741600@www.clrcs.com
SUMMARY:Renfrew Legion Seniors Darts
DESCRIPTION:Come out for an afternoon of fun and friendship!
URL:https://www.clrcs.com/event/225234/2026-06-29/
LOCATION:Royal Canadian Legion Branch #148\, 30 Raglan St. S.\, Renfrew\, ON\, K7V1P7\, Canada
END:VEVENT
BEGIN:VEVENT
DTSTART;TZID=America/Toronto:20260701T103000
DTEND;TZID=America/Toronto:20260701T113000
DTSTAMP:20260422T185210
CREATED:20241104T204636Z
LAST-MODIFIED:20241104T204636Z
UID:10000352-1782901800-1782905400@www.clrcs.com
SUMMARY:Opeongo Bowldrome
DESCRIPTION:Join a game for only $4.25!!
URL:https://www.clrcs.com/event/opeongo-bowldrome/2026-07-01/
LOCATION:Opeongo Bowldrome\, 233 Raglan St. S.\, Renfrew\, ON\, K7V1R3\, Canada
END:VEVENT
BEGIN:VEVENT
DTSTART;TZID=America/Toronto:20260701T133000
DTEND;TZID=America/Toronto:20260701T143000
DTSTAMP:20260422T185210
CREATED:20250702T154446Z
LAST-MODIFIED:20250702T154447Z
UID:10000613-1782912600-1782916200@www.clrcs.com
SUMMARY:Free Bingo
DESCRIPTION:Free Bingo every Wednesday at Ma-Te-Way Park at the splash pad. (myFM Centre)
URL:https://www.clrcs.com/event/free-bingo-2/2026-07-01/
LOCATION:myFM Centre\, 1 Ma-te-way Park Drive\, Renfrew\, Ontario\, K7V 4J4\, Canada
END:VEVENT
BEGIN:VEVENT
DTSTART;TZID=America/Toronto:20260702T133000
DTEND;TZID=America/Toronto:20260702T143000
DTSTAMP:20260422T185210
CREATED:20241105T152548Z
LAST-MODIFIED:20241105T152548Z
UID:10001135-1782999000-1783002600@www.clrcs.com
SUMMARY:Billiards
DESCRIPTION:Free drop in Billiards every Thursday at the Royal Canadian Legion Renfrew.
URL:https://www.clrcs.com/event/billiards/2026-07-02/
LOCATION:Royal Canadian Legion Branch #148\, 30 Raglan St. S.\, Renfrew\, ON\, K7V1P7\, Canada
END:VEVENT
BEGIN:VEVENT
DTSTART;TZID=America/Toronto:20260703T131500
DTEND;TZID=America/Toronto:20260703T143000
DTSTAMP:20260422T185210
CREATED:20241105T152731Z
LAST-MODIFIED:20241105T152731Z
UID:10001396-1783084500-1783089000@www.clrcs.com
SUMMARY:Bowling
DESCRIPTION:Only $4.25 per game!
URL:https://www.clrcs.com/event/bowling/2026-07-03/
LOCATION:Opeongo Bowldrome\, 233 Raglan St. S.\, Renfrew\, ON\, K7V1R3\, Canada
END:VEVENT
BEGIN:VEVENT
DTSTART;TZID=America/Toronto:20260706T130000
DTEND;TZID=America/Toronto:20260706T140000
DTSTAMP:20260422T185211
CREATED:20241104T204044Z
LAST-MODIFIED:20241104T204227Z
UID:10000092-1783342800-1783346400@www.clrcs.com
SUMMARY:Renfrew Legion Seniors Darts
DESCRIPTION:Come out for an afternoon of fun and friendship!
URL:https://www.clrcs.com/event/225234/2026-07-06/
LOCATION:Royal Canadian Legion Branch #148\, 30 Raglan St. S.\, Renfrew\, ON\, K7V1P7\, Canada
END:VEVENT
BEGIN:VEVENT
DTSTART;TZID=America/Toronto:20260708T103000
DTEND;TZID=America/Toronto:20260708T113000
DTSTAMP:20260422T185211
CREATED:20241104T204636Z
LAST-MODIFIED:20241104T204636Z
UID:10000353-1783506600-1783510200@www.clrcs.com
SUMMARY:Opeongo Bowldrome
DESCRIPTION:Join a game for only $4.25!!
URL:https://www.clrcs.com/event/opeongo-bowldrome/2026-07-08/
LOCATION:Opeongo Bowldrome\, 233 Raglan St. S.\, Renfrew\, ON\, K7V1R3\, Canada
END:VEVENT
BEGIN:VEVENT
DTSTART;TZID=America/Toronto:20260708T133000
DTEND;TZID=America/Toronto:20260708T143000
DTSTAMP:20260422T185211
CREATED:20250702T154446Z
LAST-MODIFIED:20250702T154447Z
UID:10000614-1783517400-1783521000@www.clrcs.com
SUMMARY:Free Bingo
DESCRIPTION:Free Bingo every Wednesday at Ma-Te-Way Park at the splash pad. (myFM Centre)
URL:https://www.clrcs.com/event/free-bingo-2/2026-07-08/
LOCATION:myFM Centre\, 1 Ma-te-way Park Drive\, Renfrew\, Ontario\, K7V 4J4\, Canada
END:VEVENT
BEGIN:VEVENT
DTSTART;TZID=America/Toronto:20260709T133000
DTEND;TZID=America/Toronto:20260709T143000
DTSTAMP:20260422T185211
CREATED:20241105T152548Z
LAST-MODIFIED:20241105T152548Z
UID:10001136-1783603800-1783607400@www.clrcs.com
SUMMARY:Billiards
DESCRIPTION:Free drop in Billiards every Thursday at the Royal Canadian Legion Renfrew.
URL:https://www.clrcs.com/event/billiards/2026-07-09/
LOCATION:Royal Canadian Legion Branch #148\, 30 Raglan St. S.\, Renfrew\, ON\, K7V1P7\, Canada
END:VEVENT
BEGIN:VEVENT
DTSTART;TZID=America/Toronto:20260710T131500
DTEND;TZID=America/Toronto:20260710T143000
DTSTAMP:20260422T185211
CREATED:20241105T152731Z
LAST-MODIFIED:20241105T152731Z
UID:10001397-1783689300-1783693800@www.clrcs.com
SUMMARY:Bowling
DESCRIPTION:Only $4.25 per game!
URL:https://www.clrcs.com/event/bowling/2026-07-10/
LOCATION:Opeongo Bowldrome\, 233 Raglan St. S.\, Renfrew\, ON\, K7V1R3\, Canada
END:VEVENT
BEGIN:VEVENT
DTSTART;TZID=America/Toronto:20260713T130000
DTEND;TZID=America/Toronto:20260713T140000
DTSTAMP:20260422T185211
CREATED:20241104T204044Z
LAST-MODIFIED:20241104T204227Z
UID:10000093-1783947600-1783951200@www.clrcs.com
SUMMARY:Renfrew Legion Seniors Darts
DESCRIPTION:Come out for an afternoon of fun and friendship!
URL:https://www.clrcs.com/event/225234/2026-07-13/
LOCATION:Royal Canadian Legion Branch #148\, 30 Raglan St. S.\, Renfrew\, ON\, K7V1P7\, Canada
END:VEVENT
BEGIN:VEVENT
DTSTART;TZID=America/Toronto:20260715T103000
DTEND;TZID=America/Toronto:20260715T113000
DTSTAMP:20260422T185211
CREATED:20241104T204636Z
LAST-MODIFIED:20241104T204636Z
UID:10000354-1784111400-1784115000@www.clrcs.com
SUMMARY:Opeongo Bowldrome
DESCRIPTION:Join a game for only $4.25!!
URL:https://www.clrcs.com/event/opeongo-bowldrome/2026-07-15/
LOCATION:Opeongo Bowldrome\, 233 Raglan St. S.\, Renfrew\, ON\, K7V1R3\, Canada
END:VEVENT
BEGIN:VEVENT
DTSTART;TZID=America/Toronto:20260715T133000
DTEND;TZID=America/Toronto:20260715T143000
DTSTAMP:20260422T185211
CREATED:20250702T154446Z
LAST-MODIFIED:20250702T154447Z
UID:10000615-1784122200-1784125800@www.clrcs.com
SUMMARY:Free Bingo
DESCRIPTION:Free Bingo every Wednesday at Ma-Te-Way Park at the splash pad. (myFM Centre)
URL:https://www.clrcs.com/event/free-bingo-2/2026-07-15/
LOCATION:myFM Centre\, 1 Ma-te-way Park Drive\, Renfrew\, Ontario\, K7V 4J4\, Canada
END:VEVENT
BEGIN:VEVENT
DTSTART;TZID=America/Toronto:20260716T133000
DTEND;TZID=America/Toronto:20260716T143000
DTSTAMP:20260422T185211
CREATED:20241105T152548Z
LAST-MODIFIED:20241105T152548Z
UID:10001137-1784208600-1784212200@www.clrcs.com
SUMMARY:Billiards
DESCRIPTION:Free drop in Billiards every Thursday at the Royal Canadian Legion Renfrew.
URL:https://www.clrcs.com/event/billiards/2026-07-16/
LOCATION:Royal Canadian Legion Branch #148\, 30 Raglan St. S.\, Renfrew\, ON\, K7V1P7\, Canada
END:VEVENT
BEGIN:VEVENT
DTSTART;TZID=America/Toronto:20260717T131500
DTEND;TZID=America/Toronto:20260717T143000
DTSTAMP:20260422T185211
CREATED:20241105T152731Z
LAST-MODIFIED:20241105T152731Z
UID:10001398-1784294100-1784298600@www.clrcs.com
SUMMARY:Bowling
DESCRIPTION:Only $4.25 per game!
URL:https://www.clrcs.com/event/bowling/2026-07-17/
LOCATION:Opeongo Bowldrome\, 233 Raglan St. S.\, Renfrew\, ON\, K7V1R3\, Canada
END:VEVENT
BEGIN:VEVENT
DTSTART;TZID=America/Toronto:20260720T130000
DTEND;TZID=America/Toronto:20260720T140000
DTSTAMP:20260422T185211
CREATED:20241104T204044Z
LAST-MODIFIED:20241104T204227Z
UID:10000094-1784552400-1784556000@www.clrcs.com
SUMMARY:Renfrew Legion Seniors Darts
DESCRIPTION:Come out for an afternoon of fun and friendship!
URL:https://www.clrcs.com/event/225234/2026-07-20/
LOCATION:Royal Canadian Legion Branch #148\, 30 Raglan St. S.\, Renfrew\, ON\, K7V1P7\, Canada
END:VEVENT
BEGIN:VEVENT
DTSTART;TZID=America/Toronto:20260722T103000
DTEND;TZID=America/Toronto:20260722T113000
DTSTAMP:20260422T185211
CREATED:20241104T204636Z
LAST-MODIFIED:20241104T204636Z
UID:10000355-1784716200-1784719800@www.clrcs.com
SUMMARY:Opeongo Bowldrome
DESCRIPTION:Join a game for only $4.25!!
URL:https://www.clrcs.com/event/opeongo-bowldrome/2026-07-22/
LOCATION:Opeongo Bowldrome\, 233 Raglan St. S.\, Renfrew\, ON\, K7V1R3\, Canada
END:VEVENT
BEGIN:VEVENT
DTSTART;TZID=America/Toronto:20260722T133000
DTEND;TZID=America/Toronto:20260722T143000
DTSTAMP:20260422T185211
CREATED:20250702T154446Z
LAST-MODIFIED:20250702T154447Z
UID:10000616-1784727000-1784730600@www.clrcs.com
SUMMARY:Free Bingo
DESCRIPTION:Free Bingo every Wednesday at Ma-Te-Way Park at the splash pad. (myFM Centre)
URL:https://www.clrcs.com/event/free-bingo-2/2026-07-22/
LOCATION:myFM Centre\, 1 Ma-te-way Park Drive\, Renfrew\, Ontario\, K7V 4J4\, Canada
END:VEVENT
END:VCALENDAR