BEGIN:VCALENDAR
VERSION:2.0
PRODID:-//CLRCS - ECPv6.15.20//NONSGML v1.0//EN
CALSCALE:GREGORIAN
METHOD:PUBLISH
X-WR-CALNAME:CLRCS
X-ORIGINAL-URL:https://www.clrcs.com
X-WR-CALDESC:Events for CLRCS
REFRESH-INTERVAL;VALUE=DURATION:PT1H
X-Robots-Tag:noindex
X-PUBLISHED-TTL:PT1H
BEGIN:VTIMEZONE
TZID:America/Toronto
BEGIN:DAYLIGHT
TZOFFSETFROM:-0500
TZOFFSETTO:-0400
TZNAME:EDT
DTSTART:20260308T070000
END:DAYLIGHT
BEGIN:STANDARD
TZOFFSETFROM:-0400
TZOFFSETTO:-0500
TZNAME:EST
DTSTART:20261101T060000
END:STANDARD
BEGIN:DAYLIGHT
TZOFFSETFROM:-0500
TZOFFSETTO:-0400
TZNAME:EDT
DTSTART:20270314T070000
END:DAYLIGHT
BEGIN:STANDARD
TZOFFSETFROM:-0400
TZOFFSETTO:-0500
TZNAME:EST
DTSTART:20271107T060000
END:STANDARD
BEGIN:DAYLIGHT
TZOFFSETFROM:-0500
TZOFFSETTO:-0400
TZNAME:EDT
DTSTART:20280312T070000
END:DAYLIGHT
BEGIN:STANDARD
TZOFFSETFROM:-0400
TZOFFSETTO:-0500
TZNAME:EST
DTSTART:20281105T060000
END:STANDARD
END:VTIMEZONE
BEGIN:VEVENT
DTSTART;TZID=America/Toronto:20271015T131500
DTEND;TZID=America/Toronto:20271015T143000
DTSTAMP:20260425T101926
CREATED:20241105T152731Z
LAST-MODIFIED:20241105T152731Z
UID:10001463-1823606100-1823610600@www.clrcs.com
SUMMARY:Bowling
DESCRIPTION:Only $4.25 per game!
URL:https://www.clrcs.com/event/bowling/2027-10-15/
LOCATION:Opeongo Bowldrome\, 233 Raglan St. S.\, Renfrew\, ON\, K7V1R3\, Canada
END:VEVENT
BEGIN:VEVENT
DTSTART;TZID=America/Toronto:20271018T130000
DTEND;TZID=America/Toronto:20271018T140000
DTSTAMP:20260425T101926
CREATED:20241104T204044Z
LAST-MODIFIED:20241104T204227Z
UID:10000159-1823864400-1823868000@www.clrcs.com
SUMMARY:Renfrew Legion Seniors Darts
DESCRIPTION:Come out for an afternoon of fun and friendship!
URL:https://www.clrcs.com/event/225234/2027-10-18/
LOCATION:Royal Canadian Legion Branch #148\, 30 Raglan St. S.\, Renfrew\, ON\, K7V1P7\, Canada
END:VEVENT
BEGIN:VEVENT
DTSTART;TZID=America/Toronto:20271020T103000
DTEND;TZID=America/Toronto:20271020T113000
DTSTAMP:20260425T101926
CREATED:20241104T204636Z
LAST-MODIFIED:20241104T204636Z
UID:10000420-1824028200-1824031800@www.clrcs.com
SUMMARY:Opeongo Bowldrome
DESCRIPTION:Join a game for only $4.25!!
URL:https://www.clrcs.com/event/opeongo-bowldrome/2027-10-20/
LOCATION:Opeongo Bowldrome\, 233 Raglan St. S.\, Renfrew\, ON\, K7V1R3\, Canada
END:VEVENT
BEGIN:VEVENT
DTSTART;TZID=America/Toronto:20271020T133000
DTEND;TZID=America/Toronto:20271020T143000
DTSTAMP:20260425T101926
CREATED:20250702T154446Z
LAST-MODIFIED:20250702T154447Z
UID:10000681-1824039000-1824042600@www.clrcs.com
SUMMARY:Free Bingo
DESCRIPTION:Free Bingo every Wednesday at Ma-Te-Way Park at the splash pad. (myFM Centre)
URL:https://www.clrcs.com/event/free-bingo-2/2027-10-20/
LOCATION:myFM Centre\, 1 Ma-te-way Park Drive\, Renfrew\, Ontario\, K7V 4J4\, Canada
END:VEVENT
BEGIN:VEVENT
DTSTART;TZID=America/Toronto:20271021T133000
DTEND;TZID=America/Toronto:20271021T143000
DTSTAMP:20260425T101926
CREATED:20241105T152548Z
LAST-MODIFIED:20241105T152548Z
UID:10001203-1824125400-1824129000@www.clrcs.com
SUMMARY:Billiards
DESCRIPTION:Free drop in Billiards every Thursday at the Royal Canadian Legion Renfrew.
URL:https://www.clrcs.com/event/billiards/2027-10-21/
LOCATION:Royal Canadian Legion Branch #148\, 30 Raglan St. S.\, Renfrew\, ON\, K7V1P7\, Canada
END:VEVENT
BEGIN:VEVENT
DTSTART;TZID=America/Toronto:20271022T131500
DTEND;TZID=America/Toronto:20271022T143000
DTSTAMP:20260425T101926
CREATED:20241105T152731Z
LAST-MODIFIED:20241105T152731Z
UID:10001464-1824210900-1824215400@www.clrcs.com
SUMMARY:Bowling
DESCRIPTION:Only $4.25 per game!
URL:https://www.clrcs.com/event/bowling/2027-10-22/
LOCATION:Opeongo Bowldrome\, 233 Raglan St. S.\, Renfrew\, ON\, K7V1R3\, Canada
END:VEVENT
BEGIN:VEVENT
DTSTART;TZID=America/Toronto:20271025T130000
DTEND;TZID=America/Toronto:20271025T140000
DTSTAMP:20260425T101926
CREATED:20241104T204044Z
LAST-MODIFIED:20241104T204227Z
UID:10000160-1824469200-1824472800@www.clrcs.com
SUMMARY:Renfrew Legion Seniors Darts
DESCRIPTION:Come out for an afternoon of fun and friendship!
URL:https://www.clrcs.com/event/225234/2027-10-25/
LOCATION:Royal Canadian Legion Branch #148\, 30 Raglan St. S.\, Renfrew\, ON\, K7V1P7\, Canada
END:VEVENT
BEGIN:VEVENT
DTSTART;TZID=America/Toronto:20271027T103000
DTEND;TZID=America/Toronto:20271027T113000
DTSTAMP:20260425T101926
CREATED:20241104T204636Z
LAST-MODIFIED:20241104T204636Z
UID:10000421-1824633000-1824636600@www.clrcs.com
SUMMARY:Opeongo Bowldrome
DESCRIPTION:Join a game for only $4.25!!
URL:https://www.clrcs.com/event/opeongo-bowldrome/2027-10-27/
LOCATION:Opeongo Bowldrome\, 233 Raglan St. S.\, Renfrew\, ON\, K7V1R3\, Canada
END:VEVENT
BEGIN:VEVENT
DTSTART;TZID=America/Toronto:20271027T133000
DTEND;TZID=America/Toronto:20271027T143000
DTSTAMP:20260425T101926
CREATED:20250702T154446Z
LAST-MODIFIED:20250702T154447Z
UID:10000682-1824643800-1824647400@www.clrcs.com
SUMMARY:Free Bingo
DESCRIPTION:Free Bingo every Wednesday at Ma-Te-Way Park at the splash pad. (myFM Centre)
URL:https://www.clrcs.com/event/free-bingo-2/2027-10-27/
LOCATION:myFM Centre\, 1 Ma-te-way Park Drive\, Renfrew\, Ontario\, K7V 4J4\, Canada
END:VEVENT
BEGIN:VEVENT
DTSTART;TZID=America/Toronto:20271028T133000
DTEND;TZID=America/Toronto:20271028T143000
DTSTAMP:20260425T101926
CREATED:20241105T152548Z
LAST-MODIFIED:20241105T152548Z
UID:10001204-1824730200-1824733800@www.clrcs.com
SUMMARY:Billiards
DESCRIPTION:Free drop in Billiards every Thursday at the Royal Canadian Legion Renfrew.
URL:https://www.clrcs.com/event/billiards/2027-10-28/
LOCATION:Royal Canadian Legion Branch #148\, 30 Raglan St. S.\, Renfrew\, ON\, K7V1P7\, Canada
END:VEVENT
BEGIN:VEVENT
DTSTART;TZID=America/Toronto:20271029T131500
DTEND;TZID=America/Toronto:20271029T143000
DTSTAMP:20260425T101926
CREATED:20241105T152731Z
LAST-MODIFIED:20241105T152731Z
UID:10001465-1824815700-1824820200@www.clrcs.com
SUMMARY:Bowling
DESCRIPTION:Only $4.25 per game!
URL:https://www.clrcs.com/event/bowling/2027-10-29/
LOCATION:Opeongo Bowldrome\, 233 Raglan St. S.\, Renfrew\, ON\, K7V1R3\, Canada
END:VEVENT
BEGIN:VEVENT
DTSTART;TZID=America/Toronto:20271101T130000
DTEND;TZID=America/Toronto:20271101T140000
DTSTAMP:20260425T101926
CREATED:20241104T204044Z
LAST-MODIFIED:20241104T204227Z
UID:10000161-1825074000-1825077600@www.clrcs.com
SUMMARY:Renfrew Legion Seniors Darts
DESCRIPTION:Come out for an afternoon of fun and friendship!
URL:https://www.clrcs.com/event/225234/2027-11-01/
LOCATION:Royal Canadian Legion Branch #148\, 30 Raglan St. S.\, Renfrew\, ON\, K7V1P7\, Canada
END:VEVENT
BEGIN:VEVENT
DTSTART;TZID=America/Toronto:20271103T103000
DTEND;TZID=America/Toronto:20271103T113000
DTSTAMP:20260425T101926
CREATED:20241104T204636Z
LAST-MODIFIED:20241104T204636Z
UID:10000422-1825237800-1825241400@www.clrcs.com
SUMMARY:Opeongo Bowldrome
DESCRIPTION:Join a game for only $4.25!!
URL:https://www.clrcs.com/event/opeongo-bowldrome/2027-11-03/
LOCATION:Opeongo Bowldrome\, 233 Raglan St. S.\, Renfrew\, ON\, K7V1R3\, Canada
END:VEVENT
BEGIN:VEVENT
DTSTART;TZID=America/Toronto:20271103T133000
DTEND;TZID=America/Toronto:20271103T143000
DTSTAMP:20260425T101926
CREATED:20250702T154446Z
LAST-MODIFIED:20250702T154447Z
UID:10000683-1825248600-1825252200@www.clrcs.com
SUMMARY:Free Bingo
DESCRIPTION:Free Bingo every Wednesday at Ma-Te-Way Park at the splash pad. (myFM Centre)
URL:https://www.clrcs.com/event/free-bingo-2/2027-11-03/
LOCATION:myFM Centre\, 1 Ma-te-way Park Drive\, Renfrew\, Ontario\, K7V 4J4\, Canada
END:VEVENT
BEGIN:VEVENT
DTSTART;TZID=America/Toronto:20271104T133000
DTEND;TZID=America/Toronto:20271104T143000
DTSTAMP:20260425T101926
CREATED:20241105T152548Z
LAST-MODIFIED:20241105T152548Z
UID:10001205-1825335000-1825338600@www.clrcs.com
SUMMARY:Billiards
DESCRIPTION:Free drop in Billiards every Thursday at the Royal Canadian Legion Renfrew.
URL:https://www.clrcs.com/event/billiards/2027-11-04/
LOCATION:Royal Canadian Legion Branch #148\, 30 Raglan St. S.\, Renfrew\, ON\, K7V1P7\, Canada
END:VEVENT
BEGIN:VEVENT
DTSTART;TZID=America/Toronto:20271105T131500
DTEND;TZID=America/Toronto:20271105T143000
DTSTAMP:20260425T101926
CREATED:20241105T152731Z
LAST-MODIFIED:20241105T152731Z
UID:10001466-1825420500-1825425000@www.clrcs.com
SUMMARY:Bowling
DESCRIPTION:Only $4.25 per game!
URL:https://www.clrcs.com/event/bowling/2027-11-05/
LOCATION:Opeongo Bowldrome\, 233 Raglan St. S.\, Renfrew\, ON\, K7V1R3\, Canada
END:VEVENT
BEGIN:VEVENT
DTSTART;TZID=America/Toronto:20271108T130000
DTEND;TZID=America/Toronto:20271108T140000
DTSTAMP:20260425T101926
CREATED:20241104T204044Z
LAST-MODIFIED:20241104T204227Z
UID:10000162-1825678800-1825682400@www.clrcs.com
SUMMARY:Renfrew Legion Seniors Darts
DESCRIPTION:Come out for an afternoon of fun and friendship!
URL:https://www.clrcs.com/event/225234/2027-11-08/
LOCATION:Royal Canadian Legion Branch #148\, 30 Raglan St. S.\, Renfrew\, ON\, K7V1P7\, Canada
END:VEVENT
BEGIN:VEVENT
DTSTART;TZID=America/Toronto:20271110T103000
DTEND;TZID=America/Toronto:20271110T113000
DTSTAMP:20260425T101926
CREATED:20241104T204636Z
LAST-MODIFIED:20241104T204636Z
UID:10000423-1825842600-1825846200@www.clrcs.com
SUMMARY:Opeongo Bowldrome
DESCRIPTION:Join a game for only $4.25!!
URL:https://www.clrcs.com/event/opeongo-bowldrome/2027-11-10/
LOCATION:Opeongo Bowldrome\, 233 Raglan St. S.\, Renfrew\, ON\, K7V1R3\, Canada
END:VEVENT
BEGIN:VEVENT
DTSTART;TZID=America/Toronto:20271110T133000
DTEND;TZID=America/Toronto:20271110T143000
DTSTAMP:20260425T101926
CREATED:20250702T154446Z
LAST-MODIFIED:20250702T154447Z
UID:10000684-1825853400-1825857000@www.clrcs.com
SUMMARY:Free Bingo
DESCRIPTION:Free Bingo every Wednesday at Ma-Te-Way Park at the splash pad. (myFM Centre)
URL:https://www.clrcs.com/event/free-bingo-2/2027-11-10/
LOCATION:myFM Centre\, 1 Ma-te-way Park Drive\, Renfrew\, Ontario\, K7V 4J4\, Canada
END:VEVENT
BEGIN:VEVENT
DTSTART;TZID=America/Toronto:20271111T133000
DTEND;TZID=America/Toronto:20271111T143000
DTSTAMP:20260425T101926
CREATED:20241105T152548Z
LAST-MODIFIED:20241105T152548Z
UID:10001206-1825939800-1825943400@www.clrcs.com
SUMMARY:Billiards
DESCRIPTION:Free drop in Billiards every Thursday at the Royal Canadian Legion Renfrew.
URL:https://www.clrcs.com/event/billiards/2027-11-11/
LOCATION:Royal Canadian Legion Branch #148\, 30 Raglan St. S.\, Renfrew\, ON\, K7V1P7\, Canada
END:VEVENT
BEGIN:VEVENT
DTSTART;TZID=America/Toronto:20271112T131500
DTEND;TZID=America/Toronto:20271112T143000
DTSTAMP:20260425T101926
CREATED:20241105T152731Z
LAST-MODIFIED:20241105T152731Z
UID:10001467-1826025300-1826029800@www.clrcs.com
SUMMARY:Bowling
DESCRIPTION:Only $4.25 per game!
URL:https://www.clrcs.com/event/bowling/2027-11-12/
LOCATION:Opeongo Bowldrome\, 233 Raglan St. S.\, Renfrew\, ON\, K7V1R3\, Canada
END:VEVENT
BEGIN:VEVENT
DTSTART;TZID=America/Toronto:20271115T130000
DTEND;TZID=America/Toronto:20271115T140000
DTSTAMP:20260425T101926
CREATED:20241104T204044Z
LAST-MODIFIED:20241104T204227Z
UID:10000163-1826283600-1826287200@www.clrcs.com
SUMMARY:Renfrew Legion Seniors Darts
DESCRIPTION:Come out for an afternoon of fun and friendship!
URL:https://www.clrcs.com/event/225234/2027-11-15/
LOCATION:Royal Canadian Legion Branch #148\, 30 Raglan St. S.\, Renfrew\, ON\, K7V1P7\, Canada
END:VEVENT
BEGIN:VEVENT
DTSTART;TZID=America/Toronto:20271117T103000
DTEND;TZID=America/Toronto:20271117T113000
DTSTAMP:20260425T101926
CREATED:20241104T204636Z
LAST-MODIFIED:20241104T204636Z
UID:10000424-1826447400-1826451000@www.clrcs.com
SUMMARY:Opeongo Bowldrome
DESCRIPTION:Join a game for only $4.25!!
URL:https://www.clrcs.com/event/opeongo-bowldrome/2027-11-17/
LOCATION:Opeongo Bowldrome\, 233 Raglan St. S.\, Renfrew\, ON\, K7V1R3\, Canada
END:VEVENT
BEGIN:VEVENT
DTSTART;TZID=America/Toronto:20271117T133000
DTEND;TZID=America/Toronto:20271117T143000
DTSTAMP:20260425T101926
CREATED:20250702T154446Z
LAST-MODIFIED:20250702T154447Z
UID:10000685-1826458200-1826461800@www.clrcs.com
SUMMARY:Free Bingo
DESCRIPTION:Free Bingo every Wednesday at Ma-Te-Way Park at the splash pad. (myFM Centre)
URL:https://www.clrcs.com/event/free-bingo-2/2027-11-17/
LOCATION:myFM Centre\, 1 Ma-te-way Park Drive\, Renfrew\, Ontario\, K7V 4J4\, Canada
END:VEVENT
BEGIN:VEVENT
DTSTART;TZID=America/Toronto:20271118T133000
DTEND;TZID=America/Toronto:20271118T143000
DTSTAMP:20260425T101926
CREATED:20241105T152548Z
LAST-MODIFIED:20241105T152548Z
UID:10001207-1826544600-1826548200@www.clrcs.com
SUMMARY:Billiards
DESCRIPTION:Free drop in Billiards every Thursday at the Royal Canadian Legion Renfrew.
URL:https://www.clrcs.com/event/billiards/2027-11-18/
LOCATION:Royal Canadian Legion Branch #148\, 30 Raglan St. S.\, Renfrew\, ON\, K7V1P7\, Canada
END:VEVENT
BEGIN:VEVENT
DTSTART;TZID=America/Toronto:20271119T131500
DTEND;TZID=America/Toronto:20271119T143000
DTSTAMP:20260425T101926
CREATED:20241105T152731Z
LAST-MODIFIED:20241105T152731Z
UID:10001468-1826630100-1826634600@www.clrcs.com
SUMMARY:Bowling
DESCRIPTION:Only $4.25 per game!
URL:https://www.clrcs.com/event/bowling/2027-11-19/
LOCATION:Opeongo Bowldrome\, 233 Raglan St. S.\, Renfrew\, ON\, K7V1R3\, Canada
END:VEVENT
BEGIN:VEVENT
DTSTART;TZID=America/Toronto:20271122T130000
DTEND;TZID=America/Toronto:20271122T140000
DTSTAMP:20260425T101926
CREATED:20241104T204044Z
LAST-MODIFIED:20241104T204227Z
UID:10000164-1826888400-1826892000@www.clrcs.com
SUMMARY:Renfrew Legion Seniors Darts
DESCRIPTION:Come out for an afternoon of fun and friendship!
URL:https://www.clrcs.com/event/225234/2027-11-22/
LOCATION:Royal Canadian Legion Branch #148\, 30 Raglan St. S.\, Renfrew\, ON\, K7V1P7\, Canada
END:VEVENT
BEGIN:VEVENT
DTSTART;TZID=America/Toronto:20271124T103000
DTEND;TZID=America/Toronto:20271124T113000
DTSTAMP:20260425T101926
CREATED:20241104T204636Z
LAST-MODIFIED:20241104T204636Z
UID:10000425-1827052200-1827055800@www.clrcs.com
SUMMARY:Opeongo Bowldrome
DESCRIPTION:Join a game for only $4.25!!
URL:https://www.clrcs.com/event/opeongo-bowldrome/2027-11-24/
LOCATION:Opeongo Bowldrome\, 233 Raglan St. S.\, Renfrew\, ON\, K7V1R3\, Canada
END:VEVENT
BEGIN:VEVENT
DTSTART;TZID=America/Toronto:20271124T133000
DTEND;TZID=America/Toronto:20271124T143000
DTSTAMP:20260425T101926
CREATED:20250702T154446Z
LAST-MODIFIED:20250702T154447Z
UID:10000686-1827063000-1827066600@www.clrcs.com
SUMMARY:Free Bingo
DESCRIPTION:Free Bingo every Wednesday at Ma-Te-Way Park at the splash pad. (myFM Centre)
URL:https://www.clrcs.com/event/free-bingo-2/2027-11-24/
LOCATION:myFM Centre\, 1 Ma-te-way Park Drive\, Renfrew\, Ontario\, K7V 4J4\, Canada
END:VEVENT
BEGIN:VEVENT
DTSTART;TZID=America/Toronto:20271125T133000
DTEND;TZID=America/Toronto:20271125T143000
DTSTAMP:20260425T101926
CREATED:20241105T152548Z
LAST-MODIFIED:20241105T152548Z
UID:10001208-1827149400-1827153000@www.clrcs.com
SUMMARY:Billiards
DESCRIPTION:Free drop in Billiards every Thursday at the Royal Canadian Legion Renfrew.
URL:https://www.clrcs.com/event/billiards/2027-11-25/
LOCATION:Royal Canadian Legion Branch #148\, 30 Raglan St. S.\, Renfrew\, ON\, K7V1P7\, Canada
END:VEVENT
END:VCALENDAR