BEGIN:VCALENDAR
VERSION:2.0
PRODID:-//CLRCS - ECPv6.15.20//NONSGML v1.0//EN
CALSCALE:GREGORIAN
METHOD:PUBLISH
X-WR-CALNAME:CLRCS
X-ORIGINAL-URL:https://www.clrcs.com
X-WR-CALDESC:Events for CLRCS
REFRESH-INTERVAL;VALUE=DURATION:PT1H
X-Robots-Tag:noindex
X-PUBLISHED-TTL:PT1H
BEGIN:VTIMEZONE
TZID:America/Toronto
BEGIN:DAYLIGHT
TZOFFSETFROM:-0500
TZOFFSETTO:-0400
TZNAME:EDT
DTSTART:20260308T070000
END:DAYLIGHT
BEGIN:STANDARD
TZOFFSETFROM:-0400
TZOFFSETTO:-0500
TZNAME:EST
DTSTART:20261101T060000
END:STANDARD
BEGIN:DAYLIGHT
TZOFFSETFROM:-0500
TZOFFSETTO:-0400
TZNAME:EDT
DTSTART:20270314T070000
END:DAYLIGHT
BEGIN:STANDARD
TZOFFSETFROM:-0400
TZOFFSETTO:-0500
TZNAME:EST
DTSTART:20271107T060000
END:STANDARD
BEGIN:DAYLIGHT
TZOFFSETFROM:-0500
TZOFFSETTO:-0400
TZNAME:EDT
DTSTART:20280312T070000
END:DAYLIGHT
BEGIN:STANDARD
TZOFFSETFROM:-0400
TZOFFSETTO:-0500
TZNAME:EST
DTSTART:20281105T060000
END:STANDARD
END:VTIMEZONE
BEGIN:VEVENT
DTSTART;TZID=America/Toronto:20270513T133000
DTEND;TZID=America/Toronto:20270513T143000
DTSTAMP:20260424T112109
CREATED:20241105T152548Z
LAST-MODIFIED:20241105T152548Z
UID:10001180-1810215000-1810218600@www.clrcs.com
SUMMARY:Billiards
DESCRIPTION:Free drop in Billiards every Thursday at the Royal Canadian Legion Renfrew.
URL:https://www.clrcs.com/event/billiards/2027-05-13/
LOCATION:Royal Canadian Legion Branch #148\, 30 Raglan St. S.\, Renfrew\, ON\, K7V1P7\, Canada
END:VEVENT
BEGIN:VEVENT
DTSTART;TZID=America/Toronto:20270514T131500
DTEND;TZID=America/Toronto:20270514T143000
DTSTAMP:20260424T112109
CREATED:20241105T152731Z
LAST-MODIFIED:20241105T152731Z
UID:10001441-1810300500-1810305000@www.clrcs.com
SUMMARY:Bowling
DESCRIPTION:Only $4.25 per game!
URL:https://www.clrcs.com/event/bowling/2027-05-14/
LOCATION:Opeongo Bowldrome\, 233 Raglan St. S.\, Renfrew\, ON\, K7V1R3\, Canada
END:VEVENT
BEGIN:VEVENT
DTSTART;TZID=America/Toronto:20270517T130000
DTEND;TZID=America/Toronto:20270517T140000
DTSTAMP:20260424T112109
CREATED:20241104T204044Z
LAST-MODIFIED:20241104T204227Z
UID:10000137-1810558800-1810562400@www.clrcs.com
SUMMARY:Renfrew Legion Seniors Darts
DESCRIPTION:Come out for an afternoon of fun and friendship!
URL:https://www.clrcs.com/event/225234/2027-05-17/
LOCATION:Royal Canadian Legion Branch #148\, 30 Raglan St. S.\, Renfrew\, ON\, K7V1P7\, Canada
END:VEVENT
BEGIN:VEVENT
DTSTART;TZID=America/Toronto:20270519T103000
DTEND;TZID=America/Toronto:20270519T113000
DTSTAMP:20260424T112109
CREATED:20241104T204636Z
LAST-MODIFIED:20241104T204636Z
UID:10000398-1810722600-1810726200@www.clrcs.com
SUMMARY:Opeongo Bowldrome
DESCRIPTION:Join a game for only $4.25!!
URL:https://www.clrcs.com/event/opeongo-bowldrome/2027-05-19/
LOCATION:Opeongo Bowldrome\, 233 Raglan St. S.\, Renfrew\, ON\, K7V1R3\, Canada
END:VEVENT
BEGIN:VEVENT
DTSTART;TZID=America/Toronto:20270519T133000
DTEND;TZID=America/Toronto:20270519T143000
DTSTAMP:20260424T112109
CREATED:20250702T154446Z
LAST-MODIFIED:20250702T154447Z
UID:10000659-1810733400-1810737000@www.clrcs.com
SUMMARY:Free Bingo
DESCRIPTION:Free Bingo every Wednesday at Ma-Te-Way Park at the splash pad. (myFM Centre)
URL:https://www.clrcs.com/event/free-bingo-2/2027-05-19/
LOCATION:myFM Centre\, 1 Ma-te-way Park Drive\, Renfrew\, Ontario\, K7V 4J4\, Canada
END:VEVENT
BEGIN:VEVENT
DTSTART;TZID=America/Toronto:20270520T133000
DTEND;TZID=America/Toronto:20270520T143000
DTSTAMP:20260424T112109
CREATED:20241105T152548Z
LAST-MODIFIED:20241105T152548Z
UID:10001181-1810819800-1810823400@www.clrcs.com
SUMMARY:Billiards
DESCRIPTION:Free drop in Billiards every Thursday at the Royal Canadian Legion Renfrew.
URL:https://www.clrcs.com/event/billiards/2027-05-20/
LOCATION:Royal Canadian Legion Branch #148\, 30 Raglan St. S.\, Renfrew\, ON\, K7V1P7\, Canada
END:VEVENT
BEGIN:VEVENT
DTSTART;TZID=America/Toronto:20270521T131500
DTEND;TZID=America/Toronto:20270521T143000
DTSTAMP:20260424T112109
CREATED:20241105T152731Z
LAST-MODIFIED:20241105T152731Z
UID:10001442-1810905300-1810909800@www.clrcs.com
SUMMARY:Bowling
DESCRIPTION:Only $4.25 per game!
URL:https://www.clrcs.com/event/bowling/2027-05-21/
LOCATION:Opeongo Bowldrome\, 233 Raglan St. S.\, Renfrew\, ON\, K7V1R3\, Canada
END:VEVENT
BEGIN:VEVENT
DTSTART;TZID=America/Toronto:20270524T130000
DTEND;TZID=America/Toronto:20270524T140000
DTSTAMP:20260424T112109
CREATED:20241104T204044Z
LAST-MODIFIED:20241104T204227Z
UID:10000138-1811163600-1811167200@www.clrcs.com
SUMMARY:Renfrew Legion Seniors Darts
DESCRIPTION:Come out for an afternoon of fun and friendship!
URL:https://www.clrcs.com/event/225234/2027-05-24/
LOCATION:Royal Canadian Legion Branch #148\, 30 Raglan St. S.\, Renfrew\, ON\, K7V1P7\, Canada
END:VEVENT
BEGIN:VEVENT
DTSTART;TZID=America/Toronto:20270526T103000
DTEND;TZID=America/Toronto:20270526T113000
DTSTAMP:20260424T112109
CREATED:20241104T204636Z
LAST-MODIFIED:20241104T204636Z
UID:10000399-1811327400-1811331000@www.clrcs.com
SUMMARY:Opeongo Bowldrome
DESCRIPTION:Join a game for only $4.25!!
URL:https://www.clrcs.com/event/opeongo-bowldrome/2027-05-26/
LOCATION:Opeongo Bowldrome\, 233 Raglan St. S.\, Renfrew\, ON\, K7V1R3\, Canada
END:VEVENT
BEGIN:VEVENT
DTSTART;TZID=America/Toronto:20270526T133000
DTEND;TZID=America/Toronto:20270526T143000
DTSTAMP:20260424T112109
CREATED:20250702T154446Z
LAST-MODIFIED:20250702T154447Z
UID:10000660-1811338200-1811341800@www.clrcs.com
SUMMARY:Free Bingo
DESCRIPTION:Free Bingo every Wednesday at Ma-Te-Way Park at the splash pad. (myFM Centre)
URL:https://www.clrcs.com/event/free-bingo-2/2027-05-26/
LOCATION:myFM Centre\, 1 Ma-te-way Park Drive\, Renfrew\, Ontario\, K7V 4J4\, Canada
END:VEVENT
BEGIN:VEVENT
DTSTART;TZID=America/Toronto:20270527T133000
DTEND;TZID=America/Toronto:20270527T143000
DTSTAMP:20260424T112109
CREATED:20241105T152548Z
LAST-MODIFIED:20241105T152548Z
UID:10001182-1811424600-1811428200@www.clrcs.com
SUMMARY:Billiards
DESCRIPTION:Free drop in Billiards every Thursday at the Royal Canadian Legion Renfrew.
URL:https://www.clrcs.com/event/billiards/2027-05-27/
LOCATION:Royal Canadian Legion Branch #148\, 30 Raglan St. S.\, Renfrew\, ON\, K7V1P7\, Canada
END:VEVENT
BEGIN:VEVENT
DTSTART;TZID=America/Toronto:20270528T131500
DTEND;TZID=America/Toronto:20270528T143000
DTSTAMP:20260424T112109
CREATED:20241105T152731Z
LAST-MODIFIED:20241105T152731Z
UID:10001443-1811510100-1811514600@www.clrcs.com
SUMMARY:Bowling
DESCRIPTION:Only $4.25 per game!
URL:https://www.clrcs.com/event/bowling/2027-05-28/
LOCATION:Opeongo Bowldrome\, 233 Raglan St. S.\, Renfrew\, ON\, K7V1R3\, Canada
END:VEVENT
BEGIN:VEVENT
DTSTART;TZID=America/Toronto:20270531T130000
DTEND;TZID=America/Toronto:20270531T140000
DTSTAMP:20260424T112109
CREATED:20241104T204044Z
LAST-MODIFIED:20241104T204227Z
UID:10000139-1811768400-1811772000@www.clrcs.com
SUMMARY:Renfrew Legion Seniors Darts
DESCRIPTION:Come out for an afternoon of fun and friendship!
URL:https://www.clrcs.com/event/225234/2027-05-31/
LOCATION:Royal Canadian Legion Branch #148\, 30 Raglan St. S.\, Renfrew\, ON\, K7V1P7\, Canada
END:VEVENT
BEGIN:VEVENT
DTSTART;TZID=America/Toronto:20270602T103000
DTEND;TZID=America/Toronto:20270602T113000
DTSTAMP:20260424T112109
CREATED:20241104T204636Z
LAST-MODIFIED:20241104T204636Z
UID:10000400-1811932200-1811935800@www.clrcs.com
SUMMARY:Opeongo Bowldrome
DESCRIPTION:Join a game for only $4.25!!
URL:https://www.clrcs.com/event/opeongo-bowldrome/2027-06-02/
LOCATION:Opeongo Bowldrome\, 233 Raglan St. S.\, Renfrew\, ON\, K7V1R3\, Canada
END:VEVENT
BEGIN:VEVENT
DTSTART;TZID=America/Toronto:20270602T133000
DTEND;TZID=America/Toronto:20270602T143000
DTSTAMP:20260424T112109
CREATED:20250702T154446Z
LAST-MODIFIED:20250702T154447Z
UID:10000661-1811943000-1811946600@www.clrcs.com
SUMMARY:Free Bingo
DESCRIPTION:Free Bingo every Wednesday at Ma-Te-Way Park at the splash pad. (myFM Centre)
URL:https://www.clrcs.com/event/free-bingo-2/2027-06-02/
LOCATION:myFM Centre\, 1 Ma-te-way Park Drive\, Renfrew\, Ontario\, K7V 4J4\, Canada
END:VEVENT
BEGIN:VEVENT
DTSTART;TZID=America/Toronto:20270603T133000
DTEND;TZID=America/Toronto:20270603T143000
DTSTAMP:20260424T112109
CREATED:20241105T152548Z
LAST-MODIFIED:20241105T152548Z
UID:10001183-1812029400-1812033000@www.clrcs.com
SUMMARY:Billiards
DESCRIPTION:Free drop in Billiards every Thursday at the Royal Canadian Legion Renfrew.
URL:https://www.clrcs.com/event/billiards/2027-06-03/
LOCATION:Royal Canadian Legion Branch #148\, 30 Raglan St. S.\, Renfrew\, ON\, K7V1P7\, Canada
END:VEVENT
BEGIN:VEVENT
DTSTART;TZID=America/Toronto:20270604T131500
DTEND;TZID=America/Toronto:20270604T143000
DTSTAMP:20260424T112109
CREATED:20241105T152731Z
LAST-MODIFIED:20241105T152731Z
UID:10001444-1812114900-1812119400@www.clrcs.com
SUMMARY:Bowling
DESCRIPTION:Only $4.25 per game!
URL:https://www.clrcs.com/event/bowling/2027-06-04/
LOCATION:Opeongo Bowldrome\, 233 Raglan St. S.\, Renfrew\, ON\, K7V1R3\, Canada
END:VEVENT
BEGIN:VEVENT
DTSTART;TZID=America/Toronto:20270607T130000
DTEND;TZID=America/Toronto:20270607T140000
DTSTAMP:20260424T112109
CREATED:20241104T204044Z
LAST-MODIFIED:20241104T204227Z
UID:10000140-1812373200-1812376800@www.clrcs.com
SUMMARY:Renfrew Legion Seniors Darts
DESCRIPTION:Come out for an afternoon of fun and friendship!
URL:https://www.clrcs.com/event/225234/2027-06-07/
LOCATION:Royal Canadian Legion Branch #148\, 30 Raglan St. S.\, Renfrew\, ON\, K7V1P7\, Canada
END:VEVENT
BEGIN:VEVENT
DTSTART;TZID=America/Toronto:20270609T103000
DTEND;TZID=America/Toronto:20270609T113000
DTSTAMP:20260424T112109
CREATED:20241104T204636Z
LAST-MODIFIED:20241104T204636Z
UID:10000401-1812537000-1812540600@www.clrcs.com
SUMMARY:Opeongo Bowldrome
DESCRIPTION:Join a game for only $4.25!!
URL:https://www.clrcs.com/event/opeongo-bowldrome/2027-06-09/
LOCATION:Opeongo Bowldrome\, 233 Raglan St. S.\, Renfrew\, ON\, K7V1R3\, Canada
END:VEVENT
BEGIN:VEVENT
DTSTART;TZID=America/Toronto:20270609T133000
DTEND;TZID=America/Toronto:20270609T143000
DTSTAMP:20260424T112109
CREATED:20250702T154446Z
LAST-MODIFIED:20250702T154447Z
UID:10000662-1812547800-1812551400@www.clrcs.com
SUMMARY:Free Bingo
DESCRIPTION:Free Bingo every Wednesday at Ma-Te-Way Park at the splash pad. (myFM Centre)
URL:https://www.clrcs.com/event/free-bingo-2/2027-06-09/
LOCATION:myFM Centre\, 1 Ma-te-way Park Drive\, Renfrew\, Ontario\, K7V 4J4\, Canada
END:VEVENT
BEGIN:VEVENT
DTSTART;TZID=America/Toronto:20270610T133000
DTEND;TZID=America/Toronto:20270610T143000
DTSTAMP:20260424T112109
CREATED:20241105T152548Z
LAST-MODIFIED:20241105T152548Z
UID:10001184-1812634200-1812637800@www.clrcs.com
SUMMARY:Billiards
DESCRIPTION:Free drop in Billiards every Thursday at the Royal Canadian Legion Renfrew.
URL:https://www.clrcs.com/event/billiards/2027-06-10/
LOCATION:Royal Canadian Legion Branch #148\, 30 Raglan St. S.\, Renfrew\, ON\, K7V1P7\, Canada
END:VEVENT
BEGIN:VEVENT
DTSTART;TZID=America/Toronto:20270611T131500
DTEND;TZID=America/Toronto:20270611T143000
DTSTAMP:20260424T112109
CREATED:20241105T152731Z
LAST-MODIFIED:20241105T152731Z
UID:10001445-1812719700-1812724200@www.clrcs.com
SUMMARY:Bowling
DESCRIPTION:Only $4.25 per game!
URL:https://www.clrcs.com/event/bowling/2027-06-11/
LOCATION:Opeongo Bowldrome\, 233 Raglan St. S.\, Renfrew\, ON\, K7V1R3\, Canada
END:VEVENT
BEGIN:VEVENT
DTSTART;TZID=America/Toronto:20270614T130000
DTEND;TZID=America/Toronto:20270614T140000
DTSTAMP:20260424T112109
CREATED:20241104T204044Z
LAST-MODIFIED:20241104T204227Z
UID:10000141-1812978000-1812981600@www.clrcs.com
SUMMARY:Renfrew Legion Seniors Darts
DESCRIPTION:Come out for an afternoon of fun and friendship!
URL:https://www.clrcs.com/event/225234/2027-06-14/
LOCATION:Royal Canadian Legion Branch #148\, 30 Raglan St. S.\, Renfrew\, ON\, K7V1P7\, Canada
END:VEVENT
BEGIN:VEVENT
DTSTART;TZID=America/Toronto:20270616T103000
DTEND;TZID=America/Toronto:20270616T113000
DTSTAMP:20260424T112109
CREATED:20241104T204636Z
LAST-MODIFIED:20241104T204636Z
UID:10000402-1813141800-1813145400@www.clrcs.com
SUMMARY:Opeongo Bowldrome
DESCRIPTION:Join a game for only $4.25!!
URL:https://www.clrcs.com/event/opeongo-bowldrome/2027-06-16/
LOCATION:Opeongo Bowldrome\, 233 Raglan St. S.\, Renfrew\, ON\, K7V1R3\, Canada
END:VEVENT
BEGIN:VEVENT
DTSTART;TZID=America/Toronto:20270616T133000
DTEND;TZID=America/Toronto:20270616T143000
DTSTAMP:20260424T112109
CREATED:20250702T154446Z
LAST-MODIFIED:20250702T154447Z
UID:10000663-1813152600-1813156200@www.clrcs.com
SUMMARY:Free Bingo
DESCRIPTION:Free Bingo every Wednesday at Ma-Te-Way Park at the splash pad. (myFM Centre)
URL:https://www.clrcs.com/event/free-bingo-2/2027-06-16/
LOCATION:myFM Centre\, 1 Ma-te-way Park Drive\, Renfrew\, Ontario\, K7V 4J4\, Canada
END:VEVENT
BEGIN:VEVENT
DTSTART;TZID=America/Toronto:20270617T133000
DTEND;TZID=America/Toronto:20270617T143000
DTSTAMP:20260424T112109
CREATED:20241105T152548Z
LAST-MODIFIED:20241105T152548Z
UID:10001185-1813239000-1813242600@www.clrcs.com
SUMMARY:Billiards
DESCRIPTION:Free drop in Billiards every Thursday at the Royal Canadian Legion Renfrew.
URL:https://www.clrcs.com/event/billiards/2027-06-17/
LOCATION:Royal Canadian Legion Branch #148\, 30 Raglan St. S.\, Renfrew\, ON\, K7V1P7\, Canada
END:VEVENT
BEGIN:VEVENT
DTSTART;TZID=America/Toronto:20270618T131500
DTEND;TZID=America/Toronto:20270618T143000
DTSTAMP:20260424T112109
CREATED:20241105T152731Z
LAST-MODIFIED:20241105T152731Z
UID:10001446-1813324500-1813329000@www.clrcs.com
SUMMARY:Bowling
DESCRIPTION:Only $4.25 per game!
URL:https://www.clrcs.com/event/bowling/2027-06-18/
LOCATION:Opeongo Bowldrome\, 233 Raglan St. S.\, Renfrew\, ON\, K7V1R3\, Canada
END:VEVENT
BEGIN:VEVENT
DTSTART;TZID=America/Toronto:20270621T130000
DTEND;TZID=America/Toronto:20270621T140000
DTSTAMP:20260424T112109
CREATED:20241104T204044Z
LAST-MODIFIED:20241104T204227Z
UID:10000142-1813582800-1813586400@www.clrcs.com
SUMMARY:Renfrew Legion Seniors Darts
DESCRIPTION:Come out for an afternoon of fun and friendship!
URL:https://www.clrcs.com/event/225234/2027-06-21/
LOCATION:Royal Canadian Legion Branch #148\, 30 Raglan St. S.\, Renfrew\, ON\, K7V1P7\, Canada
END:VEVENT
BEGIN:VEVENT
DTSTART;TZID=America/Toronto:20270623T103000
DTEND;TZID=America/Toronto:20270623T113000
DTSTAMP:20260424T112109
CREATED:20241104T204636Z
LAST-MODIFIED:20241104T204636Z
UID:10000403-1813746600-1813750200@www.clrcs.com
SUMMARY:Opeongo Bowldrome
DESCRIPTION:Join a game for only $4.25!!
URL:https://www.clrcs.com/event/opeongo-bowldrome/2027-06-23/
LOCATION:Opeongo Bowldrome\, 233 Raglan St. S.\, Renfrew\, ON\, K7V1R3\, Canada
END:VEVENT
BEGIN:VEVENT
DTSTART;TZID=America/Toronto:20270623T133000
DTEND;TZID=America/Toronto:20270623T143000
DTSTAMP:20260424T112109
CREATED:20250702T154446Z
LAST-MODIFIED:20250702T154447Z
UID:10000664-1813757400-1813761000@www.clrcs.com
SUMMARY:Free Bingo
DESCRIPTION:Free Bingo every Wednesday at Ma-Te-Way Park at the splash pad. (myFM Centre)
URL:https://www.clrcs.com/event/free-bingo-2/2027-06-23/
LOCATION:myFM Centre\, 1 Ma-te-way Park Drive\, Renfrew\, Ontario\, K7V 4J4\, Canada
END:VEVENT
END:VCALENDAR