BEGIN:VCALENDAR
VERSION:2.0
PRODID:-//CLRCS - ECPv6.15.20//NONSGML v1.0//EN
CALSCALE:GREGORIAN
METHOD:PUBLISH
X-WR-CALNAME:CLRCS
X-ORIGINAL-URL:https://www.clrcs.com
X-WR-CALDESC:Events for CLRCS
REFRESH-INTERVAL;VALUE=DURATION:PT1H
X-Robots-Tag:noindex
X-PUBLISHED-TTL:PT1H
BEGIN:VTIMEZONE
TZID:America/Toronto
BEGIN:DAYLIGHT
TZOFFSETFROM:-0500
TZOFFSETTO:-0400
TZNAME:EDT
DTSTART:20260308T070000
END:DAYLIGHT
BEGIN:STANDARD
TZOFFSETFROM:-0400
TZOFFSETTO:-0500
TZNAME:EST
DTSTART:20261101T060000
END:STANDARD
BEGIN:DAYLIGHT
TZOFFSETFROM:-0500
TZOFFSETTO:-0400
TZNAME:EDT
DTSTART:20270314T070000
END:DAYLIGHT
BEGIN:STANDARD
TZOFFSETFROM:-0400
TZOFFSETTO:-0500
TZNAME:EST
DTSTART:20271107T060000
END:STANDARD
BEGIN:DAYLIGHT
TZOFFSETFROM:-0500
TZOFFSETTO:-0400
TZNAME:EDT
DTSTART:20280312T070000
END:DAYLIGHT
BEGIN:STANDARD
TZOFFSETFROM:-0400
TZOFFSETTO:-0500
TZNAME:EST
DTSTART:20281105T060000
END:STANDARD
END:VTIMEZONE
BEGIN:VEVENT
DTSTART;TZID=America/Toronto:20270128T133000
DTEND;TZID=America/Toronto:20270128T143000
DTSTAMP:20260423T202318
CREATED:20241105T152548Z
LAST-MODIFIED:20241105T152548Z
UID:10001165-1801143000-1801146600@www.clrcs.com
SUMMARY:Billiards
DESCRIPTION:Free drop in Billiards every Thursday at the Royal Canadian Legion Renfrew.
URL:https://www.clrcs.com/event/billiards/2027-01-28/
LOCATION:Royal Canadian Legion Branch #148\, 30 Raglan St. S.\, Renfrew\, ON\, K7V1P7\, Canada
END:VEVENT
BEGIN:VEVENT
DTSTART;TZID=America/Toronto:20270129T131500
DTEND;TZID=America/Toronto:20270129T143000
DTSTAMP:20260423T202318
CREATED:20241105T152731Z
LAST-MODIFIED:20241105T152731Z
UID:10001426-1801228500-1801233000@www.clrcs.com
SUMMARY:Bowling
DESCRIPTION:Only $4.25 per game!
URL:https://www.clrcs.com/event/bowling/2027-01-29/
LOCATION:Opeongo Bowldrome\, 233 Raglan St. S.\, Renfrew\, ON\, K7V1R3\, Canada
END:VEVENT
BEGIN:VEVENT
DTSTART;TZID=America/Toronto:20270201T130000
DTEND;TZID=America/Toronto:20270201T140000
DTSTAMP:20260423T202318
CREATED:20241104T204044Z
LAST-MODIFIED:20241104T204227Z
UID:10000122-1801486800-1801490400@www.clrcs.com
SUMMARY:Renfrew Legion Seniors Darts
DESCRIPTION:Come out for an afternoon of fun and friendship!
URL:https://www.clrcs.com/event/225234/2027-02-01/
LOCATION:Royal Canadian Legion Branch #148\, 30 Raglan St. S.\, Renfrew\, ON\, K7V1P7\, Canada
END:VEVENT
BEGIN:VEVENT
DTSTART;TZID=America/Toronto:20270203T103000
DTEND;TZID=America/Toronto:20270203T113000
DTSTAMP:20260423T202318
CREATED:20241104T204636Z
LAST-MODIFIED:20241104T204636Z
UID:10000383-1801650600-1801654200@www.clrcs.com
SUMMARY:Opeongo Bowldrome
DESCRIPTION:Join a game for only $4.25!!
URL:https://www.clrcs.com/event/opeongo-bowldrome/2027-02-03/
LOCATION:Opeongo Bowldrome\, 233 Raglan St. S.\, Renfrew\, ON\, K7V1R3\, Canada
END:VEVENT
BEGIN:VEVENT
DTSTART;TZID=America/Toronto:20270203T133000
DTEND;TZID=America/Toronto:20270203T143000
DTSTAMP:20260423T202318
CREATED:20250702T154446Z
LAST-MODIFIED:20250702T154447Z
UID:10000644-1801661400-1801665000@www.clrcs.com
SUMMARY:Free Bingo
DESCRIPTION:Free Bingo every Wednesday at Ma-Te-Way Park at the splash pad. (myFM Centre)
URL:https://www.clrcs.com/event/free-bingo-2/2027-02-03/
LOCATION:myFM Centre\, 1 Ma-te-way Park Drive\, Renfrew\, Ontario\, K7V 4J4\, Canada
END:VEVENT
BEGIN:VEVENT
DTSTART;TZID=America/Toronto:20270204T133000
DTEND;TZID=America/Toronto:20270204T143000
DTSTAMP:20260423T202318
CREATED:20241105T152548Z
LAST-MODIFIED:20241105T152548Z
UID:10001166-1801747800-1801751400@www.clrcs.com
SUMMARY:Billiards
DESCRIPTION:Free drop in Billiards every Thursday at the Royal Canadian Legion Renfrew.
URL:https://www.clrcs.com/event/billiards/2027-02-04/
LOCATION:Royal Canadian Legion Branch #148\, 30 Raglan St. S.\, Renfrew\, ON\, K7V1P7\, Canada
END:VEVENT
BEGIN:VEVENT
DTSTART;TZID=America/Toronto:20270205T131500
DTEND;TZID=America/Toronto:20270205T143000
DTSTAMP:20260423T202318
CREATED:20241105T152731Z
LAST-MODIFIED:20241105T152731Z
UID:10001427-1801833300-1801837800@www.clrcs.com
SUMMARY:Bowling
DESCRIPTION:Only $4.25 per game!
URL:https://www.clrcs.com/event/bowling/2027-02-05/
LOCATION:Opeongo Bowldrome\, 233 Raglan St. S.\, Renfrew\, ON\, K7V1R3\, Canada
END:VEVENT
BEGIN:VEVENT
DTSTART;TZID=America/Toronto:20270208T130000
DTEND;TZID=America/Toronto:20270208T140000
DTSTAMP:20260423T202318
CREATED:20241104T204044Z
LAST-MODIFIED:20241104T204227Z
UID:10000123-1802091600-1802095200@www.clrcs.com
SUMMARY:Renfrew Legion Seniors Darts
DESCRIPTION:Come out for an afternoon of fun and friendship!
URL:https://www.clrcs.com/event/225234/2027-02-08/
LOCATION:Royal Canadian Legion Branch #148\, 30 Raglan St. S.\, Renfrew\, ON\, K7V1P7\, Canada
END:VEVENT
BEGIN:VEVENT
DTSTART;TZID=America/Toronto:20270210T103000
DTEND;TZID=America/Toronto:20270210T113000
DTSTAMP:20260423T202318
CREATED:20241104T204636Z
LAST-MODIFIED:20241104T204636Z
UID:10000384-1802255400-1802259000@www.clrcs.com
SUMMARY:Opeongo Bowldrome
DESCRIPTION:Join a game for only $4.25!!
URL:https://www.clrcs.com/event/opeongo-bowldrome/2027-02-10/
LOCATION:Opeongo Bowldrome\, 233 Raglan St. S.\, Renfrew\, ON\, K7V1R3\, Canada
END:VEVENT
BEGIN:VEVENT
DTSTART;TZID=America/Toronto:20270210T133000
DTEND;TZID=America/Toronto:20270210T143000
DTSTAMP:20260423T202319
CREATED:20250702T154446Z
LAST-MODIFIED:20250702T154447Z
UID:10000645-1802266200-1802269800@www.clrcs.com
SUMMARY:Free Bingo
DESCRIPTION:Free Bingo every Wednesday at Ma-Te-Way Park at the splash pad. (myFM Centre)
URL:https://www.clrcs.com/event/free-bingo-2/2027-02-10/
LOCATION:myFM Centre\, 1 Ma-te-way Park Drive\, Renfrew\, Ontario\, K7V 4J4\, Canada
END:VEVENT
BEGIN:VEVENT
DTSTART;TZID=America/Toronto:20270211T133000
DTEND;TZID=America/Toronto:20270211T143000
DTSTAMP:20260423T202319
CREATED:20241105T152548Z
LAST-MODIFIED:20241105T152548Z
UID:10001167-1802352600-1802356200@www.clrcs.com
SUMMARY:Billiards
DESCRIPTION:Free drop in Billiards every Thursday at the Royal Canadian Legion Renfrew.
URL:https://www.clrcs.com/event/billiards/2027-02-11/
LOCATION:Royal Canadian Legion Branch #148\, 30 Raglan St. S.\, Renfrew\, ON\, K7V1P7\, Canada
END:VEVENT
BEGIN:VEVENT
DTSTART;TZID=America/Toronto:20270212T131500
DTEND;TZID=America/Toronto:20270212T143000
DTSTAMP:20260423T202319
CREATED:20241105T152731Z
LAST-MODIFIED:20241105T152731Z
UID:10001428-1802438100-1802442600@www.clrcs.com
SUMMARY:Bowling
DESCRIPTION:Only $4.25 per game!
URL:https://www.clrcs.com/event/bowling/2027-02-12/
LOCATION:Opeongo Bowldrome\, 233 Raglan St. S.\, Renfrew\, ON\, K7V1R3\, Canada
END:VEVENT
BEGIN:VEVENT
DTSTART;TZID=America/Toronto:20270215T130000
DTEND;TZID=America/Toronto:20270215T140000
DTSTAMP:20260423T202319
CREATED:20241104T204044Z
LAST-MODIFIED:20241104T204227Z
UID:10000124-1802696400-1802700000@www.clrcs.com
SUMMARY:Renfrew Legion Seniors Darts
DESCRIPTION:Come out for an afternoon of fun and friendship!
URL:https://www.clrcs.com/event/225234/2027-02-15/
LOCATION:Royal Canadian Legion Branch #148\, 30 Raglan St. S.\, Renfrew\, ON\, K7V1P7\, Canada
END:VEVENT
BEGIN:VEVENT
DTSTART;TZID=America/Toronto:20270217T103000
DTEND;TZID=America/Toronto:20270217T113000
DTSTAMP:20260423T202319
CREATED:20241104T204636Z
LAST-MODIFIED:20241104T204636Z
UID:10000385-1802860200-1802863800@www.clrcs.com
SUMMARY:Opeongo Bowldrome
DESCRIPTION:Join a game for only $4.25!!
URL:https://www.clrcs.com/event/opeongo-bowldrome/2027-02-17/
LOCATION:Opeongo Bowldrome\, 233 Raglan St. S.\, Renfrew\, ON\, K7V1R3\, Canada
END:VEVENT
BEGIN:VEVENT
DTSTART;TZID=America/Toronto:20270217T133000
DTEND;TZID=America/Toronto:20270217T143000
DTSTAMP:20260423T202319
CREATED:20250702T154446Z
LAST-MODIFIED:20250702T154447Z
UID:10000646-1802871000-1802874600@www.clrcs.com
SUMMARY:Free Bingo
DESCRIPTION:Free Bingo every Wednesday at Ma-Te-Way Park at the splash pad. (myFM Centre)
URL:https://www.clrcs.com/event/free-bingo-2/2027-02-17/
LOCATION:myFM Centre\, 1 Ma-te-way Park Drive\, Renfrew\, Ontario\, K7V 4J4\, Canada
END:VEVENT
BEGIN:VEVENT
DTSTART;TZID=America/Toronto:20270218T133000
DTEND;TZID=America/Toronto:20270218T143000
DTSTAMP:20260423T202319
CREATED:20241105T152548Z
LAST-MODIFIED:20241105T152548Z
UID:10001168-1802957400-1802961000@www.clrcs.com
SUMMARY:Billiards
DESCRIPTION:Free drop in Billiards every Thursday at the Royal Canadian Legion Renfrew.
URL:https://www.clrcs.com/event/billiards/2027-02-18/
LOCATION:Royal Canadian Legion Branch #148\, 30 Raglan St. S.\, Renfrew\, ON\, K7V1P7\, Canada
END:VEVENT
BEGIN:VEVENT
DTSTART;TZID=America/Toronto:20270219T131500
DTEND;TZID=America/Toronto:20270219T143000
DTSTAMP:20260423T202319
CREATED:20241105T152731Z
LAST-MODIFIED:20241105T152731Z
UID:10001429-1803042900-1803047400@www.clrcs.com
SUMMARY:Bowling
DESCRIPTION:Only $4.25 per game!
URL:https://www.clrcs.com/event/bowling/2027-02-19/
LOCATION:Opeongo Bowldrome\, 233 Raglan St. S.\, Renfrew\, ON\, K7V1R3\, Canada
END:VEVENT
BEGIN:VEVENT
DTSTART;TZID=America/Toronto:20270222T130000
DTEND;TZID=America/Toronto:20270222T140000
DTSTAMP:20260423T202319
CREATED:20241104T204044Z
LAST-MODIFIED:20241104T204227Z
UID:10000125-1803301200-1803304800@www.clrcs.com
SUMMARY:Renfrew Legion Seniors Darts
DESCRIPTION:Come out for an afternoon of fun and friendship!
URL:https://www.clrcs.com/event/225234/2027-02-22/
LOCATION:Royal Canadian Legion Branch #148\, 30 Raglan St. S.\, Renfrew\, ON\, K7V1P7\, Canada
END:VEVENT
BEGIN:VEVENT
DTSTART;TZID=America/Toronto:20270224T103000
DTEND;TZID=America/Toronto:20270224T113000
DTSTAMP:20260423T202319
CREATED:20241104T204636Z
LAST-MODIFIED:20241104T204636Z
UID:10000386-1803465000-1803468600@www.clrcs.com
SUMMARY:Opeongo Bowldrome
DESCRIPTION:Join a game for only $4.25!!
URL:https://www.clrcs.com/event/opeongo-bowldrome/2027-02-24/
LOCATION:Opeongo Bowldrome\, 233 Raglan St. S.\, Renfrew\, ON\, K7V1R3\, Canada
END:VEVENT
BEGIN:VEVENT
DTSTART;TZID=America/Toronto:20270224T133000
DTEND;TZID=America/Toronto:20270224T143000
DTSTAMP:20260423T202319
CREATED:20250702T154446Z
LAST-MODIFIED:20250702T154447Z
UID:10000647-1803475800-1803479400@www.clrcs.com
SUMMARY:Free Bingo
DESCRIPTION:Free Bingo every Wednesday at Ma-Te-Way Park at the splash pad. (myFM Centre)
URL:https://www.clrcs.com/event/free-bingo-2/2027-02-24/
LOCATION:myFM Centre\, 1 Ma-te-way Park Drive\, Renfrew\, Ontario\, K7V 4J4\, Canada
END:VEVENT
BEGIN:VEVENT
DTSTART;TZID=America/Toronto:20270225T133000
DTEND;TZID=America/Toronto:20270225T143000
DTSTAMP:20260423T202319
CREATED:20241105T152548Z
LAST-MODIFIED:20241105T152548Z
UID:10001169-1803562200-1803565800@www.clrcs.com
SUMMARY:Billiards
DESCRIPTION:Free drop in Billiards every Thursday at the Royal Canadian Legion Renfrew.
URL:https://www.clrcs.com/event/billiards/2027-02-25/
LOCATION:Royal Canadian Legion Branch #148\, 30 Raglan St. S.\, Renfrew\, ON\, K7V1P7\, Canada
END:VEVENT
BEGIN:VEVENT
DTSTART;TZID=America/Toronto:20270226T131500
DTEND;TZID=America/Toronto:20270226T143000
DTSTAMP:20260423T202319
CREATED:20241105T152731Z
LAST-MODIFIED:20241105T152731Z
UID:10001430-1803647700-1803652200@www.clrcs.com
SUMMARY:Bowling
DESCRIPTION:Only $4.25 per game!
URL:https://www.clrcs.com/event/bowling/2027-02-26/
LOCATION:Opeongo Bowldrome\, 233 Raglan St. S.\, Renfrew\, ON\, K7V1R3\, Canada
END:VEVENT
BEGIN:VEVENT
DTSTART;TZID=America/Toronto:20270301T130000
DTEND;TZID=America/Toronto:20270301T140000
DTSTAMP:20260423T202319
CREATED:20241104T204044Z
LAST-MODIFIED:20241104T204227Z
UID:10000126-1803906000-1803909600@www.clrcs.com
SUMMARY:Renfrew Legion Seniors Darts
DESCRIPTION:Come out for an afternoon of fun and friendship!
URL:https://www.clrcs.com/event/225234/2027-03-01/
LOCATION:Royal Canadian Legion Branch #148\, 30 Raglan St. S.\, Renfrew\, ON\, K7V1P7\, Canada
END:VEVENT
BEGIN:VEVENT
DTSTART;TZID=America/Toronto:20270303T103000
DTEND;TZID=America/Toronto:20270303T113000
DTSTAMP:20260423T202319
CREATED:20241104T204636Z
LAST-MODIFIED:20241104T204636Z
UID:10000387-1804069800-1804073400@www.clrcs.com
SUMMARY:Opeongo Bowldrome
DESCRIPTION:Join a game for only $4.25!!
URL:https://www.clrcs.com/event/opeongo-bowldrome/2027-03-03/
LOCATION:Opeongo Bowldrome\, 233 Raglan St. S.\, Renfrew\, ON\, K7V1R3\, Canada
END:VEVENT
BEGIN:VEVENT
DTSTART;TZID=America/Toronto:20270303T133000
DTEND;TZID=America/Toronto:20270303T143000
DTSTAMP:20260423T202319
CREATED:20250702T154446Z
LAST-MODIFIED:20250702T154447Z
UID:10000648-1804080600-1804084200@www.clrcs.com
SUMMARY:Free Bingo
DESCRIPTION:Free Bingo every Wednesday at Ma-Te-Way Park at the splash pad. (myFM Centre)
URL:https://www.clrcs.com/event/free-bingo-2/2027-03-03/
LOCATION:myFM Centre\, 1 Ma-te-way Park Drive\, Renfrew\, Ontario\, K7V 4J4\, Canada
END:VEVENT
BEGIN:VEVENT
DTSTART;TZID=America/Toronto:20270304T133000
DTEND;TZID=America/Toronto:20270304T143000
DTSTAMP:20260423T202319
CREATED:20241105T152548Z
LAST-MODIFIED:20241105T152548Z
UID:10001170-1804167000-1804170600@www.clrcs.com
SUMMARY:Billiards
DESCRIPTION:Free drop in Billiards every Thursday at the Royal Canadian Legion Renfrew.
URL:https://www.clrcs.com/event/billiards/2027-03-04/
LOCATION:Royal Canadian Legion Branch #148\, 30 Raglan St. S.\, Renfrew\, ON\, K7V1P7\, Canada
END:VEVENT
BEGIN:VEVENT
DTSTART;TZID=America/Toronto:20270305T131500
DTEND;TZID=America/Toronto:20270305T143000
DTSTAMP:20260423T202319
CREATED:20241105T152731Z
LAST-MODIFIED:20241105T152731Z
UID:10001431-1804252500-1804257000@www.clrcs.com
SUMMARY:Bowling
DESCRIPTION:Only $4.25 per game!
URL:https://www.clrcs.com/event/bowling/2027-03-05/
LOCATION:Opeongo Bowldrome\, 233 Raglan St. S.\, Renfrew\, ON\, K7V1R3\, Canada
END:VEVENT
BEGIN:VEVENT
DTSTART;TZID=America/Toronto:20270308T130000
DTEND;TZID=America/Toronto:20270308T140000
DTSTAMP:20260423T202319
CREATED:20241104T204044Z
LAST-MODIFIED:20241104T204227Z
UID:10000127-1804510800-1804514400@www.clrcs.com
SUMMARY:Renfrew Legion Seniors Darts
DESCRIPTION:Come out for an afternoon of fun and friendship!
URL:https://www.clrcs.com/event/225234/2027-03-08/
LOCATION:Royal Canadian Legion Branch #148\, 30 Raglan St. S.\, Renfrew\, ON\, K7V1P7\, Canada
END:VEVENT
BEGIN:VEVENT
DTSTART;TZID=America/Toronto:20270310T103000
DTEND;TZID=America/Toronto:20270310T113000
DTSTAMP:20260423T202319
CREATED:20241104T204636Z
LAST-MODIFIED:20241104T204636Z
UID:10000388-1804674600-1804678200@www.clrcs.com
SUMMARY:Opeongo Bowldrome
DESCRIPTION:Join a game for only $4.25!!
URL:https://www.clrcs.com/event/opeongo-bowldrome/2027-03-10/
LOCATION:Opeongo Bowldrome\, 233 Raglan St. S.\, Renfrew\, ON\, K7V1R3\, Canada
END:VEVENT
BEGIN:VEVENT
DTSTART;TZID=America/Toronto:20270310T133000
DTEND;TZID=America/Toronto:20270310T143000
DTSTAMP:20260423T202319
CREATED:20250702T154446Z
LAST-MODIFIED:20250702T154447Z
UID:10000649-1804685400-1804689000@www.clrcs.com
SUMMARY:Free Bingo
DESCRIPTION:Free Bingo every Wednesday at Ma-Te-Way Park at the splash pad. (myFM Centre)
URL:https://www.clrcs.com/event/free-bingo-2/2027-03-10/
LOCATION:myFM Centre\, 1 Ma-te-way Park Drive\, Renfrew\, Ontario\, K7V 4J4\, Canada
END:VEVENT
END:VCALENDAR