BEGIN:VCALENDAR
VERSION:2.0
PRODID:-//CLRCS - ECPv6.15.20//NONSGML v1.0//EN
CALSCALE:GREGORIAN
METHOD:PUBLISH
X-WR-CALNAME:CLRCS
X-ORIGINAL-URL:https://www.clrcs.com
X-WR-CALDESC:Events for CLRCS
REFRESH-INTERVAL;VALUE=DURATION:PT1H
X-Robots-Tag:noindex
X-PUBLISHED-TTL:PT1H
BEGIN:VTIMEZONE
TZID:America/Toronto
BEGIN:DAYLIGHT
TZOFFSETFROM:-0500
TZOFFSETTO:-0400
TZNAME:EDT
DTSTART:20260308T070000
END:DAYLIGHT
BEGIN:STANDARD
TZOFFSETFROM:-0400
TZOFFSETTO:-0500
TZNAME:EST
DTSTART:20261101T060000
END:STANDARD
BEGIN:DAYLIGHT
TZOFFSETFROM:-0500
TZOFFSETTO:-0400
TZNAME:EDT
DTSTART:20270314T070000
END:DAYLIGHT
BEGIN:STANDARD
TZOFFSETFROM:-0400
TZOFFSETTO:-0500
TZNAME:EST
DTSTART:20271107T060000
END:STANDARD
BEGIN:DAYLIGHT
TZOFFSETFROM:-0500
TZOFFSETTO:-0400
TZNAME:EDT
DTSTART:20280312T070000
END:DAYLIGHT
BEGIN:STANDARD
TZOFFSETFROM:-0400
TZOFFSETTO:-0500
TZNAME:EST
DTSTART:20281105T060000
END:STANDARD
END:VTIMEZONE
BEGIN:VEVENT
DTSTART;TZID=America/Toronto:20270305T131500
DTEND;TZID=America/Toronto:20270305T143000
DTSTAMP:20260423T194910
CREATED:20241105T152731Z
LAST-MODIFIED:20241105T152731Z
UID:10001431-1804252500-1804257000@www.clrcs.com
SUMMARY:Bowling
DESCRIPTION:Only $4.25 per game!
URL:https://www.clrcs.com/event/bowling/2027-03-05/
LOCATION:Opeongo Bowldrome\, 233 Raglan St. S.\, Renfrew\, ON\, K7V1R3\, Canada
END:VEVENT
BEGIN:VEVENT
DTSTART;TZID=America/Toronto:20270308T130000
DTEND;TZID=America/Toronto:20270308T140000
DTSTAMP:20260423T194910
CREATED:20241104T204044Z
LAST-MODIFIED:20241104T204227Z
UID:10000127-1804510800-1804514400@www.clrcs.com
SUMMARY:Renfrew Legion Seniors Darts
DESCRIPTION:Come out for an afternoon of fun and friendship!
URL:https://www.clrcs.com/event/225234/2027-03-08/
LOCATION:Royal Canadian Legion Branch #148\, 30 Raglan St. S.\, Renfrew\, ON\, K7V1P7\, Canada
END:VEVENT
BEGIN:VEVENT
DTSTART;TZID=America/Toronto:20270310T103000
DTEND;TZID=America/Toronto:20270310T113000
DTSTAMP:20260423T194910
CREATED:20241104T204636Z
LAST-MODIFIED:20241104T204636Z
UID:10000388-1804674600-1804678200@www.clrcs.com
SUMMARY:Opeongo Bowldrome
DESCRIPTION:Join a game for only $4.25!!
URL:https://www.clrcs.com/event/opeongo-bowldrome/2027-03-10/
LOCATION:Opeongo Bowldrome\, 233 Raglan St. S.\, Renfrew\, ON\, K7V1R3\, Canada
END:VEVENT
BEGIN:VEVENT
DTSTART;TZID=America/Toronto:20270310T133000
DTEND;TZID=America/Toronto:20270310T143000
DTSTAMP:20260423T194910
CREATED:20250702T154446Z
LAST-MODIFIED:20250702T154447Z
UID:10000649-1804685400-1804689000@www.clrcs.com
SUMMARY:Free Bingo
DESCRIPTION:Free Bingo every Wednesday at Ma-Te-Way Park at the splash pad. (myFM Centre)
URL:https://www.clrcs.com/event/free-bingo-2/2027-03-10/
LOCATION:myFM Centre\, 1 Ma-te-way Park Drive\, Renfrew\, Ontario\, K7V 4J4\, Canada
END:VEVENT
BEGIN:VEVENT
DTSTART;TZID=America/Toronto:20270311T133000
DTEND;TZID=America/Toronto:20270311T143000
DTSTAMP:20260423T194910
CREATED:20241105T152548Z
LAST-MODIFIED:20241105T152548Z
UID:10001171-1804771800-1804775400@www.clrcs.com
SUMMARY:Billiards
DESCRIPTION:Free drop in Billiards every Thursday at the Royal Canadian Legion Renfrew.
URL:https://www.clrcs.com/event/billiards/2027-03-11/
LOCATION:Royal Canadian Legion Branch #148\, 30 Raglan St. S.\, Renfrew\, ON\, K7V1P7\, Canada
END:VEVENT
BEGIN:VEVENT
DTSTART;TZID=America/Toronto:20270312T131500
DTEND;TZID=America/Toronto:20270312T143000
DTSTAMP:20260423T194910
CREATED:20241105T152731Z
LAST-MODIFIED:20241105T152731Z
UID:10001432-1804857300-1804861800@www.clrcs.com
SUMMARY:Bowling
DESCRIPTION:Only $4.25 per game!
URL:https://www.clrcs.com/event/bowling/2027-03-12/
LOCATION:Opeongo Bowldrome\, 233 Raglan St. S.\, Renfrew\, ON\, K7V1R3\, Canada
END:VEVENT
BEGIN:VEVENT
DTSTART;TZID=America/Toronto:20270315T130000
DTEND;TZID=America/Toronto:20270315T140000
DTSTAMP:20260423T194910
CREATED:20241104T204044Z
LAST-MODIFIED:20241104T204227Z
UID:10000128-1805115600-1805119200@www.clrcs.com
SUMMARY:Renfrew Legion Seniors Darts
DESCRIPTION:Come out for an afternoon of fun and friendship!
URL:https://www.clrcs.com/event/225234/2027-03-15/
LOCATION:Royal Canadian Legion Branch #148\, 30 Raglan St. S.\, Renfrew\, ON\, K7V1P7\, Canada
END:VEVENT
BEGIN:VEVENT
DTSTART;TZID=America/Toronto:20270317T103000
DTEND;TZID=America/Toronto:20270317T113000
DTSTAMP:20260423T194910
CREATED:20241104T204636Z
LAST-MODIFIED:20241104T204636Z
UID:10000389-1805279400-1805283000@www.clrcs.com
SUMMARY:Opeongo Bowldrome
DESCRIPTION:Join a game for only $4.25!!
URL:https://www.clrcs.com/event/opeongo-bowldrome/2027-03-17/
LOCATION:Opeongo Bowldrome\, 233 Raglan St. S.\, Renfrew\, ON\, K7V1R3\, Canada
END:VEVENT
BEGIN:VEVENT
DTSTART;TZID=America/Toronto:20270317T133000
DTEND;TZID=America/Toronto:20270317T143000
DTSTAMP:20260423T194910
CREATED:20250702T154446Z
LAST-MODIFIED:20250702T154447Z
UID:10000650-1805290200-1805293800@www.clrcs.com
SUMMARY:Free Bingo
DESCRIPTION:Free Bingo every Wednesday at Ma-Te-Way Park at the splash pad. (myFM Centre)
URL:https://www.clrcs.com/event/free-bingo-2/2027-03-17/
LOCATION:myFM Centre\, 1 Ma-te-way Park Drive\, Renfrew\, Ontario\, K7V 4J4\, Canada
END:VEVENT
BEGIN:VEVENT
DTSTART;TZID=America/Toronto:20270318T133000
DTEND;TZID=America/Toronto:20270318T143000
DTSTAMP:20260423T194910
CREATED:20241105T152548Z
LAST-MODIFIED:20241105T152548Z
UID:10001172-1805376600-1805380200@www.clrcs.com
SUMMARY:Billiards
DESCRIPTION:Free drop in Billiards every Thursday at the Royal Canadian Legion Renfrew.
URL:https://www.clrcs.com/event/billiards/2027-03-18/
LOCATION:Royal Canadian Legion Branch #148\, 30 Raglan St. S.\, Renfrew\, ON\, K7V1P7\, Canada
END:VEVENT
BEGIN:VEVENT
DTSTART;TZID=America/Toronto:20270319T131500
DTEND;TZID=America/Toronto:20270319T143000
DTSTAMP:20260423T194910
CREATED:20241105T152731Z
LAST-MODIFIED:20241105T152731Z
UID:10001433-1805462100-1805466600@www.clrcs.com
SUMMARY:Bowling
DESCRIPTION:Only $4.25 per game!
URL:https://www.clrcs.com/event/bowling/2027-03-19/
LOCATION:Opeongo Bowldrome\, 233 Raglan St. S.\, Renfrew\, ON\, K7V1R3\, Canada
END:VEVENT
BEGIN:VEVENT
DTSTART;TZID=America/Toronto:20270322T130000
DTEND;TZID=America/Toronto:20270322T140000
DTSTAMP:20260423T194910
CREATED:20241104T204044Z
LAST-MODIFIED:20241104T204227Z
UID:10000129-1805720400-1805724000@www.clrcs.com
SUMMARY:Renfrew Legion Seniors Darts
DESCRIPTION:Come out for an afternoon of fun and friendship!
URL:https://www.clrcs.com/event/225234/2027-03-22/
LOCATION:Royal Canadian Legion Branch #148\, 30 Raglan St. S.\, Renfrew\, ON\, K7V1P7\, Canada
END:VEVENT
BEGIN:VEVENT
DTSTART;TZID=America/Toronto:20270324T103000
DTEND;TZID=America/Toronto:20270324T113000
DTSTAMP:20260423T194910
CREATED:20241104T204636Z
LAST-MODIFIED:20241104T204636Z
UID:10000390-1805884200-1805887800@www.clrcs.com
SUMMARY:Opeongo Bowldrome
DESCRIPTION:Join a game for only $4.25!!
URL:https://www.clrcs.com/event/opeongo-bowldrome/2027-03-24/
LOCATION:Opeongo Bowldrome\, 233 Raglan St. S.\, Renfrew\, ON\, K7V1R3\, Canada
END:VEVENT
BEGIN:VEVENT
DTSTART;TZID=America/Toronto:20270324T133000
DTEND;TZID=America/Toronto:20270324T143000
DTSTAMP:20260423T194910
CREATED:20250702T154446Z
LAST-MODIFIED:20250702T154447Z
UID:10000651-1805895000-1805898600@www.clrcs.com
SUMMARY:Free Bingo
DESCRIPTION:Free Bingo every Wednesday at Ma-Te-Way Park at the splash pad. (myFM Centre)
URL:https://www.clrcs.com/event/free-bingo-2/2027-03-24/
LOCATION:myFM Centre\, 1 Ma-te-way Park Drive\, Renfrew\, Ontario\, K7V 4J4\, Canada
END:VEVENT
BEGIN:VEVENT
DTSTART;TZID=America/Toronto:20270325T133000
DTEND;TZID=America/Toronto:20270325T143000
DTSTAMP:20260423T194910
CREATED:20241105T152548Z
LAST-MODIFIED:20241105T152548Z
UID:10001173-1805981400-1805985000@www.clrcs.com
SUMMARY:Billiards
DESCRIPTION:Free drop in Billiards every Thursday at the Royal Canadian Legion Renfrew.
URL:https://www.clrcs.com/event/billiards/2027-03-25/
LOCATION:Royal Canadian Legion Branch #148\, 30 Raglan St. S.\, Renfrew\, ON\, K7V1P7\, Canada
END:VEVENT
BEGIN:VEVENT
DTSTART;TZID=America/Toronto:20270326T131500
DTEND;TZID=America/Toronto:20270326T143000
DTSTAMP:20260423T194910
CREATED:20241105T152731Z
LAST-MODIFIED:20241105T152731Z
UID:10001434-1806066900-1806071400@www.clrcs.com
SUMMARY:Bowling
DESCRIPTION:Only $4.25 per game!
URL:https://www.clrcs.com/event/bowling/2027-03-26/
LOCATION:Opeongo Bowldrome\, 233 Raglan St. S.\, Renfrew\, ON\, K7V1R3\, Canada
END:VEVENT
BEGIN:VEVENT
DTSTART;TZID=America/Toronto:20270329T130000
DTEND;TZID=America/Toronto:20270329T140000
DTSTAMP:20260423T194910
CREATED:20241104T204044Z
LAST-MODIFIED:20241104T204227Z
UID:10000130-1806325200-1806328800@www.clrcs.com
SUMMARY:Renfrew Legion Seniors Darts
DESCRIPTION:Come out for an afternoon of fun and friendship!
URL:https://www.clrcs.com/event/225234/2027-03-29/
LOCATION:Royal Canadian Legion Branch #148\, 30 Raglan St. S.\, Renfrew\, ON\, K7V1P7\, Canada
END:VEVENT
BEGIN:VEVENT
DTSTART;TZID=America/Toronto:20270331T103000
DTEND;TZID=America/Toronto:20270331T113000
DTSTAMP:20260423T194910
CREATED:20241104T204636Z
LAST-MODIFIED:20241104T204636Z
UID:10000391-1806489000-1806492600@www.clrcs.com
SUMMARY:Opeongo Bowldrome
DESCRIPTION:Join a game for only $4.25!!
URL:https://www.clrcs.com/event/opeongo-bowldrome/2027-03-31/
LOCATION:Opeongo Bowldrome\, 233 Raglan St. S.\, Renfrew\, ON\, K7V1R3\, Canada
END:VEVENT
BEGIN:VEVENT
DTSTART;TZID=America/Toronto:20270331T133000
DTEND;TZID=America/Toronto:20270331T143000
DTSTAMP:20260423T194910
CREATED:20250702T154446Z
LAST-MODIFIED:20250702T154447Z
UID:10000652-1806499800-1806503400@www.clrcs.com
SUMMARY:Free Bingo
DESCRIPTION:Free Bingo every Wednesday at Ma-Te-Way Park at the splash pad. (myFM Centre)
URL:https://www.clrcs.com/event/free-bingo-2/2027-03-31/
LOCATION:myFM Centre\, 1 Ma-te-way Park Drive\, Renfrew\, Ontario\, K7V 4J4\, Canada
END:VEVENT
BEGIN:VEVENT
DTSTART;TZID=America/Toronto:20270401T133000
DTEND;TZID=America/Toronto:20270401T143000
DTSTAMP:20260423T194910
CREATED:20241105T152548Z
LAST-MODIFIED:20241105T152548Z
UID:10001174-1806586200-1806589800@www.clrcs.com
SUMMARY:Billiards
DESCRIPTION:Free drop in Billiards every Thursday at the Royal Canadian Legion Renfrew.
URL:https://www.clrcs.com/event/billiards/2027-04-01/
LOCATION:Royal Canadian Legion Branch #148\, 30 Raglan St. S.\, Renfrew\, ON\, K7V1P7\, Canada
END:VEVENT
BEGIN:VEVENT
DTSTART;TZID=America/Toronto:20270402T131500
DTEND;TZID=America/Toronto:20270402T143000
DTSTAMP:20260423T194910
CREATED:20241105T152731Z
LAST-MODIFIED:20241105T152731Z
UID:10001435-1806671700-1806676200@www.clrcs.com
SUMMARY:Bowling
DESCRIPTION:Only $4.25 per game!
URL:https://www.clrcs.com/event/bowling/2027-04-02/
LOCATION:Opeongo Bowldrome\, 233 Raglan St. S.\, Renfrew\, ON\, K7V1R3\, Canada
END:VEVENT
BEGIN:VEVENT
DTSTART;TZID=America/Toronto:20270405T130000
DTEND;TZID=America/Toronto:20270405T140000
DTSTAMP:20260423T194910
CREATED:20241104T204044Z
LAST-MODIFIED:20241104T204227Z
UID:10000131-1806930000-1806933600@www.clrcs.com
SUMMARY:Renfrew Legion Seniors Darts
DESCRIPTION:Come out for an afternoon of fun and friendship!
URL:https://www.clrcs.com/event/225234/2027-04-05/
LOCATION:Royal Canadian Legion Branch #148\, 30 Raglan St. S.\, Renfrew\, ON\, K7V1P7\, Canada
END:VEVENT
BEGIN:VEVENT
DTSTART;TZID=America/Toronto:20270407T103000
DTEND;TZID=America/Toronto:20270407T113000
DTSTAMP:20260423T194910
CREATED:20241104T204636Z
LAST-MODIFIED:20241104T204636Z
UID:10000392-1807093800-1807097400@www.clrcs.com
SUMMARY:Opeongo Bowldrome
DESCRIPTION:Join a game for only $4.25!!
URL:https://www.clrcs.com/event/opeongo-bowldrome/2027-04-07/
LOCATION:Opeongo Bowldrome\, 233 Raglan St. S.\, Renfrew\, ON\, K7V1R3\, Canada
END:VEVENT
BEGIN:VEVENT
DTSTART;TZID=America/Toronto:20270407T133000
DTEND;TZID=America/Toronto:20270407T143000
DTSTAMP:20260423T194910
CREATED:20250702T154446Z
LAST-MODIFIED:20250702T154447Z
UID:10000653-1807104600-1807108200@www.clrcs.com
SUMMARY:Free Bingo
DESCRIPTION:Free Bingo every Wednesday at Ma-Te-Way Park at the splash pad. (myFM Centre)
URL:https://www.clrcs.com/event/free-bingo-2/2027-04-07/
LOCATION:myFM Centre\, 1 Ma-te-way Park Drive\, Renfrew\, Ontario\, K7V 4J4\, Canada
END:VEVENT
BEGIN:VEVENT
DTSTART;TZID=America/Toronto:20270408T133000
DTEND;TZID=America/Toronto:20270408T143000
DTSTAMP:20260423T194910
CREATED:20241105T152548Z
LAST-MODIFIED:20241105T152548Z
UID:10001175-1807191000-1807194600@www.clrcs.com
SUMMARY:Billiards
DESCRIPTION:Free drop in Billiards every Thursday at the Royal Canadian Legion Renfrew.
URL:https://www.clrcs.com/event/billiards/2027-04-08/
LOCATION:Royal Canadian Legion Branch #148\, 30 Raglan St. S.\, Renfrew\, ON\, K7V1P7\, Canada
END:VEVENT
BEGIN:VEVENT
DTSTART;TZID=America/Toronto:20270409T131500
DTEND;TZID=America/Toronto:20270409T143000
DTSTAMP:20260423T194910
CREATED:20241105T152731Z
LAST-MODIFIED:20241105T152731Z
UID:10001436-1807276500-1807281000@www.clrcs.com
SUMMARY:Bowling
DESCRIPTION:Only $4.25 per game!
URL:https://www.clrcs.com/event/bowling/2027-04-09/
LOCATION:Opeongo Bowldrome\, 233 Raglan St. S.\, Renfrew\, ON\, K7V1R3\, Canada
END:VEVENT
BEGIN:VEVENT
DTSTART;TZID=America/Toronto:20270412T130000
DTEND;TZID=America/Toronto:20270412T140000
DTSTAMP:20260423T194910
CREATED:20241104T204044Z
LAST-MODIFIED:20241104T204227Z
UID:10000132-1807534800-1807538400@www.clrcs.com
SUMMARY:Renfrew Legion Seniors Darts
DESCRIPTION:Come out for an afternoon of fun and friendship!
URL:https://www.clrcs.com/event/225234/2027-04-12/
LOCATION:Royal Canadian Legion Branch #148\, 30 Raglan St. S.\, Renfrew\, ON\, K7V1P7\, Canada
END:VEVENT
BEGIN:VEVENT
DTSTART;TZID=America/Toronto:20270414T103000
DTEND;TZID=America/Toronto:20270414T113000
DTSTAMP:20260423T194910
CREATED:20241104T204636Z
LAST-MODIFIED:20241104T204636Z
UID:10000393-1807698600-1807702200@www.clrcs.com
SUMMARY:Opeongo Bowldrome
DESCRIPTION:Join a game for only $4.25!!
URL:https://www.clrcs.com/event/opeongo-bowldrome/2027-04-14/
LOCATION:Opeongo Bowldrome\, 233 Raglan St. S.\, Renfrew\, ON\, K7V1R3\, Canada
END:VEVENT
BEGIN:VEVENT
DTSTART;TZID=America/Toronto:20270414T133000
DTEND;TZID=America/Toronto:20270414T143000
DTSTAMP:20260423T194910
CREATED:20250702T154446Z
LAST-MODIFIED:20250702T154447Z
UID:10000654-1807709400-1807713000@www.clrcs.com
SUMMARY:Free Bingo
DESCRIPTION:Free Bingo every Wednesday at Ma-Te-Way Park at the splash pad. (myFM Centre)
URL:https://www.clrcs.com/event/free-bingo-2/2027-04-14/
LOCATION:myFM Centre\, 1 Ma-te-way Park Drive\, Renfrew\, Ontario\, K7V 4J4\, Canada
END:VEVENT
BEGIN:VEVENT
DTSTART;TZID=America/Toronto:20270415T133000
DTEND;TZID=America/Toronto:20270415T143000
DTSTAMP:20260423T194910
CREATED:20241105T152548Z
LAST-MODIFIED:20241105T152548Z
UID:10001176-1807795800-1807799400@www.clrcs.com
SUMMARY:Billiards
DESCRIPTION:Free drop in Billiards every Thursday at the Royal Canadian Legion Renfrew.
URL:https://www.clrcs.com/event/billiards/2027-04-15/
LOCATION:Royal Canadian Legion Branch #148\, 30 Raglan St. S.\, Renfrew\, ON\, K7V1P7\, Canada
END:VEVENT
END:VCALENDAR