BEGIN:VCALENDAR
VERSION:2.0
PRODID:-//CLRCS - ECPv6.15.20//NONSGML v1.0//EN
CALSCALE:GREGORIAN
METHOD:PUBLISH
X-WR-CALNAME:CLRCS
X-ORIGINAL-URL:https://www.clrcs.com
X-WR-CALDESC:Events for CLRCS
REFRESH-INTERVAL;VALUE=DURATION:PT1H
X-Robots-Tag:noindex
X-PUBLISHED-TTL:PT1H
BEGIN:VTIMEZONE
TZID:America/Toronto
BEGIN:DAYLIGHT
TZOFFSETFROM:-0500
TZOFFSETTO:-0400
TZNAME:EDT
DTSTART:20240310T070000
END:DAYLIGHT
BEGIN:STANDARD
TZOFFSETFROM:-0400
TZOFFSETTO:-0500
TZNAME:EST
DTSTART:20241103T060000
END:STANDARD
BEGIN:DAYLIGHT
TZOFFSETFROM:-0500
TZOFFSETTO:-0400
TZNAME:EDT
DTSTART:20250309T070000
END:DAYLIGHT
BEGIN:STANDARD
TZOFFSETFROM:-0400
TZOFFSETTO:-0500
TZNAME:EST
DTSTART:20251102T060000
END:STANDARD
BEGIN:DAYLIGHT
TZOFFSETFROM:-0500
TZOFFSETTO:-0400
TZNAME:EDT
DTSTART:20260308T070000
END:DAYLIGHT
BEGIN:STANDARD
TZOFFSETFROM:-0400
TZOFFSETTO:-0500
TZNAME:EST
DTSTART:20261101T060000
END:STANDARD
END:VTIMEZONE
BEGIN:VEVENT
DTSTART;TZID=America/Toronto:20250821T133000
DTEND;TZID=America/Toronto:20250821T143000
DTSTAMP:20260423T070259
CREATED:20241105T152548Z
LAST-MODIFIED:20241105T152548Z
UID:10001090-1755783000-1755786600@www.clrcs.com
SUMMARY:Billiards
DESCRIPTION:Free drop in Billiards every Thursday at the Royal Canadian Legion Renfrew.
URL:https://www.clrcs.com/event/billiards/2025-08-21/
LOCATION:Royal Canadian Legion Branch #148\, 30 Raglan St. S.\, Renfrew\, ON\, K7V1P7\, Canada
END:VEVENT
BEGIN:VEVENT
DTSTART;TZID=America/Toronto:20250820T133000
DTEND;TZID=America/Toronto:20250820T143000
DTSTAMP:20260423T070259
CREATED:20250702T154446Z
LAST-MODIFIED:20250702T154447Z
UID:10000568-1755696600-1755700200@www.clrcs.com
SUMMARY:Free Bingo
DESCRIPTION:Free Bingo every Wednesday at Ma-Te-Way Park at the splash pad. (myFM Centre)
URL:https://www.clrcs.com/event/free-bingo-2/2025-08-20/
LOCATION:myFM Centre\, 1 Ma-te-way Park Drive\, Renfrew\, Ontario\, K7V 4J4\, Canada
END:VEVENT
BEGIN:VEVENT
DTSTART;TZID=America/Toronto:20250820T103000
DTEND;TZID=America/Toronto:20250820T113000
DTSTAMP:20260423T070259
CREATED:20241104T204636Z
LAST-MODIFIED:20241104T204636Z
UID:10000307-1755685800-1755689400@www.clrcs.com
SUMMARY:Opeongo Bowldrome
DESCRIPTION:Join a game for only $4.25!!
URL:https://www.clrcs.com/event/opeongo-bowldrome/2025-08-20/
LOCATION:Opeongo Bowldrome\, 233 Raglan St. S.\, Renfrew\, ON\, K7V1R3\, Canada
END:VEVENT
BEGIN:VEVENT
DTSTART;TZID=America/Toronto:20250818T130000
DTEND;TZID=America/Toronto:20250818T140000
DTSTAMP:20260423T070259
CREATED:20241104T204044Z
LAST-MODIFIED:20241104T204227Z
UID:10000046-1755522000-1755525600@www.clrcs.com
SUMMARY:Renfrew Legion Seniors Darts
DESCRIPTION:Come out for an afternoon of fun and friendship!
URL:https://www.clrcs.com/event/225234/2025-08-18/
LOCATION:Royal Canadian Legion Branch #148\, 30 Raglan St. S.\, Renfrew\, ON\, K7V1P7\, Canada
END:VEVENT
BEGIN:VEVENT
DTSTART;TZID=America/Toronto:20250815T131500
DTEND;TZID=America/Toronto:20250815T143000
DTSTAMP:20260423T070259
CREATED:20241105T152731Z
LAST-MODIFIED:20241105T152731Z
UID:10001350-1755263700-1755268200@www.clrcs.com
SUMMARY:Bowling
DESCRIPTION:Only $4.25 per game!
URL:https://www.clrcs.com/event/bowling/2025-08-15/
LOCATION:Opeongo Bowldrome\, 233 Raglan St. S.\, Renfrew\, ON\, K7V1R3\, Canada
END:VEVENT
BEGIN:VEVENT
DTSTART;TZID=America/Toronto:20250814T133000
DTEND;TZID=America/Toronto:20250814T143000
DTSTAMP:20260423T070259
CREATED:20241105T152548Z
LAST-MODIFIED:20241105T152548Z
UID:10001089-1755178200-1755181800@www.clrcs.com
SUMMARY:Billiards
DESCRIPTION:Free drop in Billiards every Thursday at the Royal Canadian Legion Renfrew.
URL:https://www.clrcs.com/event/billiards/2025-08-14/
LOCATION:Royal Canadian Legion Branch #148\, 30 Raglan St. S.\, Renfrew\, ON\, K7V1P7\, Canada
END:VEVENT
BEGIN:VEVENT
DTSTART;TZID=America/Toronto:20250813T133000
DTEND;TZID=America/Toronto:20250813T143000
DTSTAMP:20260423T070259
CREATED:20250702T154446Z
LAST-MODIFIED:20250702T154447Z
UID:10000567-1755091800-1755095400@www.clrcs.com
SUMMARY:Free Bingo
DESCRIPTION:Free Bingo every Wednesday at Ma-Te-Way Park at the splash pad. (myFM Centre)
URL:https://www.clrcs.com/event/free-bingo-2/2025-08-13/
LOCATION:myFM Centre\, 1 Ma-te-way Park Drive\, Renfrew\, Ontario\, K7V 4J4\, Canada
END:VEVENT
BEGIN:VEVENT
DTSTART;TZID=America/Toronto:20250813T103000
DTEND;TZID=America/Toronto:20250813T113000
DTSTAMP:20260423T070259
CREATED:20241104T204636Z
LAST-MODIFIED:20241104T204636Z
UID:10000306-1755081000-1755084600@www.clrcs.com
SUMMARY:Opeongo Bowldrome
DESCRIPTION:Join a game for only $4.25!!
URL:https://www.clrcs.com/event/opeongo-bowldrome/2025-08-13/
LOCATION:Opeongo Bowldrome\, 233 Raglan St. S.\, Renfrew\, ON\, K7V1R3\, Canada
END:VEVENT
BEGIN:VEVENT
DTSTART;TZID=America/Toronto:20250811T130000
DTEND;TZID=America/Toronto:20250811T140000
DTSTAMP:20260423T070259
CREATED:20241104T204044Z
LAST-MODIFIED:20241104T204227Z
UID:10000045-1754917200-1754920800@www.clrcs.com
SUMMARY:Renfrew Legion Seniors Darts
DESCRIPTION:Come out for an afternoon of fun and friendship!
URL:https://www.clrcs.com/event/225234/2025-08-11/
LOCATION:Royal Canadian Legion Branch #148\, 30 Raglan St. S.\, Renfrew\, ON\, K7V1P7\, Canada
END:VEVENT
BEGIN:VEVENT
DTSTART;TZID=America/Toronto:20250808T131500
DTEND;TZID=America/Toronto:20250808T143000
DTSTAMP:20260423T070259
CREATED:20241105T152731Z
LAST-MODIFIED:20241105T152731Z
UID:10001349-1754658900-1754663400@www.clrcs.com
SUMMARY:Bowling
DESCRIPTION:Only $4.25 per game!
URL:https://www.clrcs.com/event/bowling/2025-08-08/
LOCATION:Opeongo Bowldrome\, 233 Raglan St. S.\, Renfrew\, ON\, K7V1R3\, Canada
END:VEVENT
BEGIN:VEVENT
DTSTART;TZID=America/Toronto:20250807T133000
DTEND;TZID=America/Toronto:20250807T143000
DTSTAMP:20260423T070259
CREATED:20241105T152548Z
LAST-MODIFIED:20241105T152548Z
UID:10001088-1754573400-1754577000@www.clrcs.com
SUMMARY:Billiards
DESCRIPTION:Free drop in Billiards every Thursday at the Royal Canadian Legion Renfrew.
URL:https://www.clrcs.com/event/billiards/2025-08-07/
LOCATION:Royal Canadian Legion Branch #148\, 30 Raglan St. S.\, Renfrew\, ON\, K7V1P7\, Canada
END:VEVENT
BEGIN:VEVENT
DTSTART;TZID=America/Toronto:20250806T133000
DTEND;TZID=America/Toronto:20250806T143000
DTSTAMP:20260423T070259
CREATED:20250702T154446Z
LAST-MODIFIED:20250702T154447Z
UID:10000566-1754487000-1754490600@www.clrcs.com
SUMMARY:Free Bingo
DESCRIPTION:Free Bingo every Wednesday at Ma-Te-Way Park at the splash pad. (myFM Centre)
URL:https://www.clrcs.com/event/free-bingo-2/2025-08-06/
LOCATION:myFM Centre\, 1 Ma-te-way Park Drive\, Renfrew\, Ontario\, K7V 4J4\, Canada
END:VEVENT
BEGIN:VEVENT
DTSTART;TZID=America/Toronto:20250806T103000
DTEND;TZID=America/Toronto:20250806T113000
DTSTAMP:20260423T070259
CREATED:20241104T204636Z
LAST-MODIFIED:20241104T204636Z
UID:10000305-1754476200-1754479800@www.clrcs.com
SUMMARY:Opeongo Bowldrome
DESCRIPTION:Join a game for only $4.25!!
URL:https://www.clrcs.com/event/opeongo-bowldrome/2025-08-06/
LOCATION:Opeongo Bowldrome\, 233 Raglan St. S.\, Renfrew\, ON\, K7V1R3\, Canada
END:VEVENT
BEGIN:VEVENT
DTSTART;TZID=America/Toronto:20250804T130000
DTEND;TZID=America/Toronto:20250804T140000
DTSTAMP:20260423T070259
CREATED:20241104T204044Z
LAST-MODIFIED:20241104T204227Z
UID:10000044-1754312400-1754316000@www.clrcs.com
SUMMARY:Renfrew Legion Seniors Darts
DESCRIPTION:Come out for an afternoon of fun and friendship!
URL:https://www.clrcs.com/event/225234/2025-08-04/
LOCATION:Royal Canadian Legion Branch #148\, 30 Raglan St. S.\, Renfrew\, ON\, K7V1P7\, Canada
END:VEVENT
BEGIN:VEVENT
DTSTART;TZID=America/Toronto:20250801T131500
DTEND;TZID=America/Toronto:20250801T143000
DTSTAMP:20260423T070259
CREATED:20241105T152731Z
LAST-MODIFIED:20241105T152731Z
UID:10001348-1754054100-1754058600@www.clrcs.com
SUMMARY:Bowling
DESCRIPTION:Only $4.25 per game!
URL:https://www.clrcs.com/event/bowling/2025-08-01/
LOCATION:Opeongo Bowldrome\, 233 Raglan St. S.\, Renfrew\, ON\, K7V1R3\, Canada
END:VEVENT
BEGIN:VEVENT
DTSTART;TZID=America/Toronto:20250731T133000
DTEND;TZID=America/Toronto:20250731T143000
DTSTAMP:20260423T070259
CREATED:20241105T152548Z
LAST-MODIFIED:20241105T152548Z
UID:10001087-1753968600-1753972200@www.clrcs.com
SUMMARY:Billiards
DESCRIPTION:Free drop in Billiards every Thursday at the Royal Canadian Legion Renfrew.
URL:https://www.clrcs.com/event/billiards/2025-07-31/
LOCATION:Royal Canadian Legion Branch #148\, 30 Raglan St. S.\, Renfrew\, ON\, K7V1P7\, Canada
END:VEVENT
BEGIN:VEVENT
DTSTART;TZID=America/Toronto:20250730T133000
DTEND;TZID=America/Toronto:20250730T143000
DTSTAMP:20260423T070259
CREATED:20250702T154446Z
LAST-MODIFIED:20250702T154447Z
UID:10000565-1753882200-1753885800@www.clrcs.com
SUMMARY:Free Bingo
DESCRIPTION:Free Bingo every Wednesday at Ma-Te-Way Park at the splash pad. (myFM Centre)
URL:https://www.clrcs.com/event/free-bingo-2/2025-07-30/
LOCATION:myFM Centre\, 1 Ma-te-way Park Drive\, Renfrew\, Ontario\, K7V 4J4\, Canada
END:VEVENT
BEGIN:VEVENT
DTSTART;TZID=America/Toronto:20250730T103000
DTEND;TZID=America/Toronto:20250730T113000
DTSTAMP:20260423T070259
CREATED:20241104T204636Z
LAST-MODIFIED:20241104T204636Z
UID:10000304-1753871400-1753875000@www.clrcs.com
SUMMARY:Opeongo Bowldrome
DESCRIPTION:Join a game for only $4.25!!
URL:https://www.clrcs.com/event/opeongo-bowldrome/2025-07-30/
LOCATION:Opeongo Bowldrome\, 233 Raglan St. S.\, Renfrew\, ON\, K7V1R3\, Canada
END:VEVENT
BEGIN:VEVENT
DTSTART;TZID=America/Toronto:20250728T130000
DTEND;TZID=America/Toronto:20250728T140000
DTSTAMP:20260423T070259
CREATED:20241104T204044Z
LAST-MODIFIED:20241104T204227Z
UID:10000043-1753707600-1753711200@www.clrcs.com
SUMMARY:Renfrew Legion Seniors Darts
DESCRIPTION:Come out for an afternoon of fun and friendship!
URL:https://www.clrcs.com/event/225234/2025-07-28/
LOCATION:Royal Canadian Legion Branch #148\, 30 Raglan St. S.\, Renfrew\, ON\, K7V1P7\, Canada
END:VEVENT
BEGIN:VEVENT
DTSTART;TZID=America/Toronto:20250725T131500
DTEND;TZID=America/Toronto:20250725T143000
DTSTAMP:20260423T070259
CREATED:20241105T152731Z
LAST-MODIFIED:20241105T152731Z
UID:10001347-1753449300-1753453800@www.clrcs.com
SUMMARY:Bowling
DESCRIPTION:Only $4.25 per game!
URL:https://www.clrcs.com/event/bowling/2025-07-25/
LOCATION:Opeongo Bowldrome\, 233 Raglan St. S.\, Renfrew\, ON\, K7V1R3\, Canada
END:VEVENT
BEGIN:VEVENT
DTSTART;TZID=America/Toronto:20250724T133000
DTEND;TZID=America/Toronto:20250724T143000
DTSTAMP:20260423T070259
CREATED:20241105T152548Z
LAST-MODIFIED:20241105T152548Z
UID:10001086-1753363800-1753367400@www.clrcs.com
SUMMARY:Billiards
DESCRIPTION:Free drop in Billiards every Thursday at the Royal Canadian Legion Renfrew.
URL:https://www.clrcs.com/event/billiards/2025-07-24/
LOCATION:Royal Canadian Legion Branch #148\, 30 Raglan St. S.\, Renfrew\, ON\, K7V1P7\, Canada
END:VEVENT
BEGIN:VEVENT
DTSTART;TZID=America/Toronto:20250723T133000
DTEND;TZID=America/Toronto:20250723T143000
DTSTAMP:20260423T070259
CREATED:20250702T154446Z
LAST-MODIFIED:20250702T154447Z
UID:10000564-1753277400-1753281000@www.clrcs.com
SUMMARY:Free Bingo
DESCRIPTION:Free Bingo every Wednesday at Ma-Te-Way Park at the splash pad. (myFM Centre)
URL:https://www.clrcs.com/event/free-bingo-2/2025-07-23/
LOCATION:myFM Centre\, 1 Ma-te-way Park Drive\, Renfrew\, Ontario\, K7V 4J4\, Canada
END:VEVENT
BEGIN:VEVENT
DTSTART;TZID=America/Toronto:20250723T103000
DTEND;TZID=America/Toronto:20250723T113000
DTSTAMP:20260423T070259
CREATED:20241104T204636Z
LAST-MODIFIED:20241104T204636Z
UID:10000303-1753266600-1753270200@www.clrcs.com
SUMMARY:Opeongo Bowldrome
DESCRIPTION:Join a game for only $4.25!!
URL:https://www.clrcs.com/event/opeongo-bowldrome/2025-07-23/
LOCATION:Opeongo Bowldrome\, 233 Raglan St. S.\, Renfrew\, ON\, K7V1R3\, Canada
END:VEVENT
BEGIN:VEVENT
DTSTART;TZID=America/Toronto:20250721T130000
DTEND;TZID=America/Toronto:20250721T140000
DTSTAMP:20260423T070259
CREATED:20241104T204044Z
LAST-MODIFIED:20241104T204227Z
UID:10000042-1753102800-1753106400@www.clrcs.com
SUMMARY:Renfrew Legion Seniors Darts
DESCRIPTION:Come out for an afternoon of fun and friendship!
URL:https://www.clrcs.com/event/225234/2025-07-21/
LOCATION:Royal Canadian Legion Branch #148\, 30 Raglan St. S.\, Renfrew\, ON\, K7V1P7\, Canada
END:VEVENT
BEGIN:VEVENT
DTSTART;TZID=America/Toronto:20250718T131500
DTEND;TZID=America/Toronto:20250718T143000
DTSTAMP:20260423T070259
CREATED:20241105T152731Z
LAST-MODIFIED:20241105T152731Z
UID:10001346-1752844500-1752849000@www.clrcs.com
SUMMARY:Bowling
DESCRIPTION:Only $4.25 per game!
URL:https://www.clrcs.com/event/bowling/2025-07-18/
LOCATION:Opeongo Bowldrome\, 233 Raglan St. S.\, Renfrew\, ON\, K7V1R3\, Canada
END:VEVENT
BEGIN:VEVENT
DTSTART;TZID=America/Toronto:20250717T133000
DTEND;TZID=America/Toronto:20250717T143000
DTSTAMP:20260423T070259
CREATED:20241105T152548Z
LAST-MODIFIED:20241105T152548Z
UID:10001085-1752759000-1752762600@www.clrcs.com
SUMMARY:Billiards
DESCRIPTION:Free drop in Billiards every Thursday at the Royal Canadian Legion Renfrew.
URL:https://www.clrcs.com/event/billiards/2025-07-17/
LOCATION:Royal Canadian Legion Branch #148\, 30 Raglan St. S.\, Renfrew\, ON\, K7V1P7\, Canada
END:VEVENT
BEGIN:VEVENT
DTSTART;TZID=America/Toronto:20250716T133000
DTEND;TZID=America/Toronto:20250716T143000
DTSTAMP:20260423T070259
CREATED:20250702T154446Z
LAST-MODIFIED:20250702T154447Z
UID:10000563-1752672600-1752676200@www.clrcs.com
SUMMARY:Free Bingo
DESCRIPTION:Free Bingo every Wednesday at Ma-Te-Way Park at the splash pad. (myFM Centre)
URL:https://www.clrcs.com/event/free-bingo-2/2025-07-16/
LOCATION:myFM Centre\, 1 Ma-te-way Park Drive\, Renfrew\, Ontario\, K7V 4J4\, Canada
END:VEVENT
BEGIN:VEVENT
DTSTART;TZID=America/Toronto:20250716T103000
DTEND;TZID=America/Toronto:20250716T113000
DTSTAMP:20260423T070259
CREATED:20241104T204636Z
LAST-MODIFIED:20241104T204636Z
UID:10000302-1752661800-1752665400@www.clrcs.com
SUMMARY:Opeongo Bowldrome
DESCRIPTION:Join a game for only $4.25!!
URL:https://www.clrcs.com/event/opeongo-bowldrome/2025-07-16/
LOCATION:Opeongo Bowldrome\, 233 Raglan St. S.\, Renfrew\, ON\, K7V1R3\, Canada
END:VEVENT
BEGIN:VEVENT
DTSTART;TZID=America/Toronto:20250714T130000
DTEND;TZID=America/Toronto:20250714T140000
DTSTAMP:20260423T070259
CREATED:20241104T204044Z
LAST-MODIFIED:20241104T204227Z
UID:10000041-1752498000-1752501600@www.clrcs.com
SUMMARY:Renfrew Legion Seniors Darts
DESCRIPTION:Come out for an afternoon of fun and friendship!
URL:https://www.clrcs.com/event/225234/2025-07-14/
LOCATION:Royal Canadian Legion Branch #148\, 30 Raglan St. S.\, Renfrew\, ON\, K7V1P7\, Canada
END:VEVENT
BEGIN:VEVENT
DTSTART;TZID=America/Toronto:20250711T131500
DTEND;TZID=America/Toronto:20250711T143000
DTSTAMP:20260423T070259
CREATED:20241105T152731Z
LAST-MODIFIED:20241105T152731Z
UID:10001345-1752239700-1752244200@www.clrcs.com
SUMMARY:Bowling
DESCRIPTION:Only $4.25 per game!
URL:https://www.clrcs.com/event/bowling/2025-07-11/
LOCATION:Opeongo Bowldrome\, 233 Raglan St. S.\, Renfrew\, ON\, K7V1R3\, Canada
END:VEVENT
END:VCALENDAR