BEGIN:VCALENDAR
VERSION:2.0
PRODID:-//CLRCS - ECPv6.15.20//NONSGML v1.0//EN
CALSCALE:GREGORIAN
METHOD:PUBLISH
X-ORIGINAL-URL:https://www.clrcs.com
X-WR-CALDESC:Events for CLRCS
REFRESH-INTERVAL;VALUE=DURATION:PT1H
X-Robots-Tag:noindex
X-PUBLISHED-TTL:PT1H
BEGIN:VTIMEZONE
TZID:America/Toronto
BEGIN:DAYLIGHT
TZOFFSETFROM:-0500
TZOFFSETTO:-0400
TZNAME:EDT
DTSTART:20250309T070000
END:DAYLIGHT
BEGIN:STANDARD
TZOFFSETFROM:-0400
TZOFFSETTO:-0500
TZNAME:EST
DTSTART:20251102T060000
END:STANDARD
BEGIN:DAYLIGHT
TZOFFSETFROM:-0500
TZOFFSETTO:-0400
TZNAME:EDT
DTSTART:20260308T070000
END:DAYLIGHT
BEGIN:STANDARD
TZOFFSETFROM:-0400
TZOFFSETTO:-0500
TZNAME:EST
DTSTART:20261101T060000
END:STANDARD
BEGIN:DAYLIGHT
TZOFFSETFROM:-0500
TZOFFSETTO:-0400
TZNAME:EDT
DTSTART:20270314T070000
END:DAYLIGHT
BEGIN:STANDARD
TZOFFSETFROM:-0400
TZOFFSETTO:-0500
TZNAME:EST
DTSTART:20271107T060000
END:STANDARD
END:VTIMEZONE
BEGIN:VEVENT
DTSTART;TZID=America/Toronto:20261028T133000
DTEND;TZID=America/Toronto:20261028T143000
DTSTAMP:20260423T043946
CREATED:20250702T154446Z
LAST-MODIFIED:20250702T154447Z
UID:10000630-1793194200-1793197800@www.clrcs.com
SUMMARY:Free Bingo
DESCRIPTION:Free Bingo every Wednesday at Ma-Te-Way Park at the splash pad. (myFM Centre)
URL:https://www.clrcs.com/event/free-bingo-2/2026-10-28/
LOCATION:myFM Centre\, 1 Ma-te-way Park Drive\, Renfrew\, Ontario\, K7V 4J4\, Canada
END:VEVENT
BEGIN:VEVENT
DTSTART;TZID=America/Toronto:20261029T133000
DTEND;TZID=America/Toronto:20261029T143000
DTSTAMP:20260423T043946
CREATED:20241105T152548Z
LAST-MODIFIED:20241105T152548Z
UID:10001152-1793280600-1793284200@www.clrcs.com
SUMMARY:Billiards
DESCRIPTION:Free drop in Billiards every Thursday at the Royal Canadian Legion Renfrew.
URL:https://www.clrcs.com/event/billiards/2026-10-29/
LOCATION:Royal Canadian Legion Branch #148\, 30 Raglan St. S.\, Renfrew\, ON\, K7V1P7\, Canada
END:VEVENT
BEGIN:VEVENT
DTSTART;TZID=America/Toronto:20261030T131500
DTEND;TZID=America/Toronto:20261030T143000
DTSTAMP:20260423T043946
CREATED:20241105T152731Z
LAST-MODIFIED:20241105T152731Z
UID:10001413-1793366100-1793370600@www.clrcs.com
SUMMARY:Bowling
DESCRIPTION:Only $4.25 per game!
URL:https://www.clrcs.com/event/bowling/2026-10-30/
LOCATION:Opeongo Bowldrome\, 233 Raglan St. S.\, Renfrew\, ON\, K7V1R3\, Canada
END:VEVENT
BEGIN:VEVENT
DTSTART;TZID=America/Toronto:20261102T130000
DTEND;TZID=America/Toronto:20261102T140000
DTSTAMP:20260423T043946
CREATED:20241104T204044Z
LAST-MODIFIED:20241104T204227Z
UID:10000109-1793624400-1793628000@www.clrcs.com
SUMMARY:Renfrew Legion Seniors Darts
DESCRIPTION:Come out for an afternoon of fun and friendship!
URL:https://www.clrcs.com/event/225234/2026-11-02/
LOCATION:Royal Canadian Legion Branch #148\, 30 Raglan St. S.\, Renfrew\, ON\, K7V1P7\, Canada
END:VEVENT
BEGIN:VEVENT
DTSTART;TZID=America/Toronto:20261104T103000
DTEND;TZID=America/Toronto:20261104T113000
DTSTAMP:20260423T043946
CREATED:20241104T204636Z
LAST-MODIFIED:20241104T204636Z
UID:10000370-1793788200-1793791800@www.clrcs.com
SUMMARY:Opeongo Bowldrome
DESCRIPTION:Join a game for only $4.25!!
URL:https://www.clrcs.com/event/opeongo-bowldrome/2026-11-04/
LOCATION:Opeongo Bowldrome\, 233 Raglan St. S.\, Renfrew\, ON\, K7V1R3\, Canada
END:VEVENT
BEGIN:VEVENT
DTSTART;TZID=America/Toronto:20261104T133000
DTEND;TZID=America/Toronto:20261104T143000
DTSTAMP:20260423T043946
CREATED:20250702T154446Z
LAST-MODIFIED:20250702T154447Z
UID:10000631-1793799000-1793802600@www.clrcs.com
SUMMARY:Free Bingo
DESCRIPTION:Free Bingo every Wednesday at Ma-Te-Way Park at the splash pad. (myFM Centre)
URL:https://www.clrcs.com/event/free-bingo-2/2026-11-04/
LOCATION:myFM Centre\, 1 Ma-te-way Park Drive\, Renfrew\, Ontario\, K7V 4J4\, Canada
END:VEVENT
BEGIN:VEVENT
DTSTART;TZID=America/Toronto:20261105T133000
DTEND;TZID=America/Toronto:20261105T143000
DTSTAMP:20260423T043946
CREATED:20241105T152548Z
LAST-MODIFIED:20241105T152548Z
UID:10001153-1793885400-1793889000@www.clrcs.com
SUMMARY:Billiards
DESCRIPTION:Free drop in Billiards every Thursday at the Royal Canadian Legion Renfrew.
URL:https://www.clrcs.com/event/billiards/2026-11-05/
LOCATION:Royal Canadian Legion Branch #148\, 30 Raglan St. S.\, Renfrew\, ON\, K7V1P7\, Canada
END:VEVENT
BEGIN:VEVENT
DTSTART;TZID=America/Toronto:20261106T131500
DTEND;TZID=America/Toronto:20261106T143000
DTSTAMP:20260423T043946
CREATED:20241105T152731Z
LAST-MODIFIED:20241105T152731Z
UID:10001414-1793970900-1793975400@www.clrcs.com
SUMMARY:Bowling
DESCRIPTION:Only $4.25 per game!
URL:https://www.clrcs.com/event/bowling/2026-11-06/
LOCATION:Opeongo Bowldrome\, 233 Raglan St. S.\, Renfrew\, ON\, K7V1R3\, Canada
END:VEVENT
BEGIN:VEVENT
DTSTART;TZID=America/Toronto:20261109T130000
DTEND;TZID=America/Toronto:20261109T140000
DTSTAMP:20260423T043946
CREATED:20241104T204044Z
LAST-MODIFIED:20241104T204227Z
UID:10000110-1794229200-1794232800@www.clrcs.com
SUMMARY:Renfrew Legion Seniors Darts
DESCRIPTION:Come out for an afternoon of fun and friendship!
URL:https://www.clrcs.com/event/225234/2026-11-09/
LOCATION:Royal Canadian Legion Branch #148\, 30 Raglan St. S.\, Renfrew\, ON\, K7V1P7\, Canada
END:VEVENT
BEGIN:VEVENT
DTSTART;TZID=America/Toronto:20261111T103000
DTEND;TZID=America/Toronto:20261111T113000
DTSTAMP:20260423T043946
CREATED:20241104T204636Z
LAST-MODIFIED:20241104T204636Z
UID:10000371-1794393000-1794396600@www.clrcs.com
SUMMARY:Opeongo Bowldrome
DESCRIPTION:Join a game for only $4.25!!
URL:https://www.clrcs.com/event/opeongo-bowldrome/2026-11-11/
LOCATION:Opeongo Bowldrome\, 233 Raglan St. S.\, Renfrew\, ON\, K7V1R3\, Canada
END:VEVENT
BEGIN:VEVENT
DTSTART;TZID=America/Toronto:20261111T133000
DTEND;TZID=America/Toronto:20261111T143000
DTSTAMP:20260423T043946
CREATED:20250702T154446Z
LAST-MODIFIED:20250702T154447Z
UID:10000632-1794403800-1794407400@www.clrcs.com
SUMMARY:Free Bingo
DESCRIPTION:Free Bingo every Wednesday at Ma-Te-Way Park at the splash pad. (myFM Centre)
URL:https://www.clrcs.com/event/free-bingo-2/2026-11-11/
LOCATION:myFM Centre\, 1 Ma-te-way Park Drive\, Renfrew\, Ontario\, K7V 4J4\, Canada
END:VEVENT
BEGIN:VEVENT
DTSTART;TZID=America/Toronto:20261112T133000
DTEND;TZID=America/Toronto:20261112T143000
DTSTAMP:20260423T043946
CREATED:20241105T152548Z
LAST-MODIFIED:20241105T152548Z
UID:10001154-1794490200-1794493800@www.clrcs.com
SUMMARY:Billiards
DESCRIPTION:Free drop in Billiards every Thursday at the Royal Canadian Legion Renfrew.
URL:https://www.clrcs.com/event/billiards/2026-11-12/
LOCATION:Royal Canadian Legion Branch #148\, 30 Raglan St. S.\, Renfrew\, ON\, K7V1P7\, Canada
END:VEVENT
BEGIN:VEVENT
DTSTART;TZID=America/Toronto:20261113T131500
DTEND;TZID=America/Toronto:20261113T143000
DTSTAMP:20260423T043946
CREATED:20241105T152731Z
LAST-MODIFIED:20241105T152731Z
UID:10001415-1794575700-1794580200@www.clrcs.com
SUMMARY:Bowling
DESCRIPTION:Only $4.25 per game!
URL:https://www.clrcs.com/event/bowling/2026-11-13/
LOCATION:Opeongo Bowldrome\, 233 Raglan St. S.\, Renfrew\, ON\, K7V1R3\, Canada
END:VEVENT
BEGIN:VEVENT
DTSTART;TZID=America/Toronto:20261116T130000
DTEND;TZID=America/Toronto:20261116T140000
DTSTAMP:20260423T043946
CREATED:20241104T204044Z
LAST-MODIFIED:20241104T204227Z
UID:10000111-1794834000-1794837600@www.clrcs.com
SUMMARY:Renfrew Legion Seniors Darts
DESCRIPTION:Come out for an afternoon of fun and friendship!
URL:https://www.clrcs.com/event/225234/2026-11-16/
LOCATION:Royal Canadian Legion Branch #148\, 30 Raglan St. S.\, Renfrew\, ON\, K7V1P7\, Canada
END:VEVENT
BEGIN:VEVENT
DTSTART;TZID=America/Toronto:20261118T103000
DTEND;TZID=America/Toronto:20261118T113000
DTSTAMP:20260423T043946
CREATED:20241104T204636Z
LAST-MODIFIED:20241104T204636Z
UID:10000372-1794997800-1795001400@www.clrcs.com
SUMMARY:Opeongo Bowldrome
DESCRIPTION:Join a game for only $4.25!!
URL:https://www.clrcs.com/event/opeongo-bowldrome/2026-11-18/
LOCATION:Opeongo Bowldrome\, 233 Raglan St. S.\, Renfrew\, ON\, K7V1R3\, Canada
END:VEVENT
BEGIN:VEVENT
DTSTART;TZID=America/Toronto:20261118T133000
DTEND;TZID=America/Toronto:20261118T143000
DTSTAMP:20260423T043946
CREATED:20250702T154446Z
LAST-MODIFIED:20250702T154447Z
UID:10000633-1795008600-1795012200@www.clrcs.com
SUMMARY:Free Bingo
DESCRIPTION:Free Bingo every Wednesday at Ma-Te-Way Park at the splash pad. (myFM Centre)
URL:https://www.clrcs.com/event/free-bingo-2/2026-11-18/
LOCATION:myFM Centre\, 1 Ma-te-way Park Drive\, Renfrew\, Ontario\, K7V 4J4\, Canada
END:VEVENT
BEGIN:VEVENT
DTSTART;TZID=America/Toronto:20261119T133000
DTEND;TZID=America/Toronto:20261119T143000
DTSTAMP:20260423T043946
CREATED:20241105T152548Z
LAST-MODIFIED:20241105T152548Z
UID:10001155-1795095000-1795098600@www.clrcs.com
SUMMARY:Billiards
DESCRIPTION:Free drop in Billiards every Thursday at the Royal Canadian Legion Renfrew.
URL:https://www.clrcs.com/event/billiards/2026-11-19/
LOCATION:Royal Canadian Legion Branch #148\, 30 Raglan St. S.\, Renfrew\, ON\, K7V1P7\, Canada
END:VEVENT
BEGIN:VEVENT
DTSTART;TZID=America/Toronto:20261120T131500
DTEND;TZID=America/Toronto:20261120T143000
DTSTAMP:20260423T043946
CREATED:20241105T152731Z
LAST-MODIFIED:20241105T152731Z
UID:10001416-1795180500-1795185000@www.clrcs.com
SUMMARY:Bowling
DESCRIPTION:Only $4.25 per game!
URL:https://www.clrcs.com/event/bowling/2026-11-20/
LOCATION:Opeongo Bowldrome\, 233 Raglan St. S.\, Renfrew\, ON\, K7V1R3\, Canada
END:VEVENT
BEGIN:VEVENT
DTSTART;TZID=America/Toronto:20261123T130000
DTEND;TZID=America/Toronto:20261123T140000
DTSTAMP:20260423T043946
CREATED:20241104T204044Z
LAST-MODIFIED:20241104T204227Z
UID:10000112-1795438800-1795442400@www.clrcs.com
SUMMARY:Renfrew Legion Seniors Darts
DESCRIPTION:Come out for an afternoon of fun and friendship!
URL:https://www.clrcs.com/event/225234/2026-11-23/
LOCATION:Royal Canadian Legion Branch #148\, 30 Raglan St. S.\, Renfrew\, ON\, K7V1P7\, Canada
END:VEVENT
BEGIN:VEVENT
DTSTART;TZID=America/Toronto:20261125T103000
DTEND;TZID=America/Toronto:20261125T113000
DTSTAMP:20260423T043946
CREATED:20241104T204636Z
LAST-MODIFIED:20241104T204636Z
UID:10000373-1795602600-1795606200@www.clrcs.com
SUMMARY:Opeongo Bowldrome
DESCRIPTION:Join a game for only $4.25!!
URL:https://www.clrcs.com/event/opeongo-bowldrome/2026-11-25/
LOCATION:Opeongo Bowldrome\, 233 Raglan St. S.\, Renfrew\, ON\, K7V1R3\, Canada
END:VEVENT
BEGIN:VEVENT
DTSTART;TZID=America/Toronto:20261125T133000
DTEND;TZID=America/Toronto:20261125T143000
DTSTAMP:20260423T043946
CREATED:20250702T154446Z
LAST-MODIFIED:20250702T154447Z
UID:10000634-1795613400-1795617000@www.clrcs.com
SUMMARY:Free Bingo
DESCRIPTION:Free Bingo every Wednesday at Ma-Te-Way Park at the splash pad. (myFM Centre)
URL:https://www.clrcs.com/event/free-bingo-2/2026-11-25/
LOCATION:myFM Centre\, 1 Ma-te-way Park Drive\, Renfrew\, Ontario\, K7V 4J4\, Canada
END:VEVENT
BEGIN:VEVENT
DTSTART;TZID=America/Toronto:20261126T133000
DTEND;TZID=America/Toronto:20261126T143000
DTSTAMP:20260423T043946
CREATED:20241105T152548Z
LAST-MODIFIED:20241105T152548Z
UID:10001156-1795699800-1795703400@www.clrcs.com
SUMMARY:Billiards
DESCRIPTION:Free drop in Billiards every Thursday at the Royal Canadian Legion Renfrew.
URL:https://www.clrcs.com/event/billiards/2026-11-26/
LOCATION:Royal Canadian Legion Branch #148\, 30 Raglan St. S.\, Renfrew\, ON\, K7V1P7\, Canada
END:VEVENT
BEGIN:VEVENT
DTSTART;TZID=America/Toronto:20261127T131500
DTEND;TZID=America/Toronto:20261127T143000
DTSTAMP:20260423T043946
CREATED:20241105T152731Z
LAST-MODIFIED:20241105T152731Z
UID:10001417-1795785300-1795789800@www.clrcs.com
SUMMARY:Bowling
DESCRIPTION:Only $4.25 per game!
URL:https://www.clrcs.com/event/bowling/2026-11-27/
LOCATION:Opeongo Bowldrome\, 233 Raglan St. S.\, Renfrew\, ON\, K7V1R3\, Canada
END:VEVENT
BEGIN:VEVENT
DTSTART;TZID=America/Toronto:20261130T130000
DTEND;TZID=America/Toronto:20261130T140000
DTSTAMP:20260423T043946
CREATED:20241104T204044Z
LAST-MODIFIED:20241104T204227Z
UID:10000113-1796043600-1796047200@www.clrcs.com
SUMMARY:Renfrew Legion Seniors Darts
DESCRIPTION:Come out for an afternoon of fun and friendship!
URL:https://www.clrcs.com/event/225234/2026-11-30/
LOCATION:Royal Canadian Legion Branch #148\, 30 Raglan St. S.\, Renfrew\, ON\, K7V1P7\, Canada
END:VEVENT
BEGIN:VEVENT
DTSTART;TZID=America/Toronto:20261202T103000
DTEND;TZID=America/Toronto:20261202T113000
DTSTAMP:20260423T043946
CREATED:20241104T204636Z
LAST-MODIFIED:20241104T204636Z
UID:10000374-1796207400-1796211000@www.clrcs.com
SUMMARY:Opeongo Bowldrome
DESCRIPTION:Join a game for only $4.25!!
URL:https://www.clrcs.com/event/opeongo-bowldrome/2026-12-02/
LOCATION:Opeongo Bowldrome\, 233 Raglan St. S.\, Renfrew\, ON\, K7V1R3\, Canada
END:VEVENT
BEGIN:VEVENT
DTSTART;TZID=America/Toronto:20261202T133000
DTEND;TZID=America/Toronto:20261202T143000
DTSTAMP:20260423T043946
CREATED:20250702T154446Z
LAST-MODIFIED:20250702T154447Z
UID:10000635-1796218200-1796221800@www.clrcs.com
SUMMARY:Free Bingo
DESCRIPTION:Free Bingo every Wednesday at Ma-Te-Way Park at the splash pad. (myFM Centre)
URL:https://www.clrcs.com/event/free-bingo-2/2026-12-02/
LOCATION:myFM Centre\, 1 Ma-te-way Park Drive\, Renfrew\, Ontario\, K7V 4J4\, Canada
END:VEVENT
BEGIN:VEVENT
DTSTART;TZID=America/Toronto:20261203T133000
DTEND;TZID=America/Toronto:20261203T143000
DTSTAMP:20260423T043946
CREATED:20241105T152548Z
LAST-MODIFIED:20241105T152548Z
UID:10001157-1796304600-1796308200@www.clrcs.com
SUMMARY:Billiards
DESCRIPTION:Free drop in Billiards every Thursday at the Royal Canadian Legion Renfrew.
URL:https://www.clrcs.com/event/billiards/2026-12-03/
LOCATION:Royal Canadian Legion Branch #148\, 30 Raglan St. S.\, Renfrew\, ON\, K7V1P7\, Canada
END:VEVENT
BEGIN:VEVENT
DTSTART;TZID=America/Toronto:20261204T131500
DTEND;TZID=America/Toronto:20261204T143000
DTSTAMP:20260423T043946
CREATED:20241105T152731Z
LAST-MODIFIED:20241105T152731Z
UID:10001418-1796390100-1796394600@www.clrcs.com
SUMMARY:Bowling
DESCRIPTION:Only $4.25 per game!
URL:https://www.clrcs.com/event/bowling/2026-12-04/
LOCATION:Opeongo Bowldrome\, 233 Raglan St. S.\, Renfrew\, ON\, K7V1R3\, Canada
END:VEVENT
BEGIN:VEVENT
DTSTART;TZID=America/Toronto:20261207T130000
DTEND;TZID=America/Toronto:20261207T140000
DTSTAMP:20260423T043946
CREATED:20241104T204044Z
LAST-MODIFIED:20241104T204227Z
UID:10000114-1796648400-1796652000@www.clrcs.com
SUMMARY:Renfrew Legion Seniors Darts
DESCRIPTION:Come out for an afternoon of fun and friendship!
URL:https://www.clrcs.com/event/225234/2026-12-07/
LOCATION:Royal Canadian Legion Branch #148\, 30 Raglan St. S.\, Renfrew\, ON\, K7V1P7\, Canada
END:VEVENT
BEGIN:VEVENT
DTSTART;TZID=America/Toronto:20261209T103000
DTEND;TZID=America/Toronto:20261209T113000
DTSTAMP:20260423T043946
CREATED:20241104T204636Z
LAST-MODIFIED:20241104T204636Z
UID:10000375-1796812200-1796815800@www.clrcs.com
SUMMARY:Opeongo Bowldrome
DESCRIPTION:Join a game for only $4.25!!
URL:https://www.clrcs.com/event/opeongo-bowldrome/2026-12-09/
LOCATION:Opeongo Bowldrome\, 233 Raglan St. S.\, Renfrew\, ON\, K7V1R3\, Canada
END:VEVENT
END:VCALENDAR