BEGIN:VCALENDAR
VERSION:2.0
PRODID:-//CLRCS - ECPv6.15.20//NONSGML v1.0//EN
CALSCALE:GREGORIAN
METHOD:PUBLISH
X-WR-CALNAME:CLRCS
X-ORIGINAL-URL:https://www.clrcs.com
X-WR-CALDESC:Events for CLRCS
REFRESH-INTERVAL;VALUE=DURATION:PT1H
X-Robots-Tag:noindex
X-PUBLISHED-TTL:PT1H
BEGIN:VTIMEZONE
TZID:America/Toronto
BEGIN:DAYLIGHT
TZOFFSETFROM:-0500
TZOFFSETTO:-0400
TZNAME:EDT
DTSTART:20270314T070000
END:DAYLIGHT
BEGIN:STANDARD
TZOFFSETFROM:-0400
TZOFFSETTO:-0500
TZNAME:EST
DTSTART:20271107T060000
END:STANDARD
BEGIN:DAYLIGHT
TZOFFSETFROM:-0500
TZOFFSETTO:-0400
TZNAME:EDT
DTSTART:20280312T070000
END:DAYLIGHT
BEGIN:STANDARD
TZOFFSETFROM:-0400
TZOFFSETTO:-0500
TZNAME:EST
DTSTART:20281105T060000
END:STANDARD
BEGIN:DAYLIGHT
TZOFFSETFROM:-0500
TZOFFSETTO:-0400
TZNAME:EDT
DTSTART:20290311T070000
END:DAYLIGHT
BEGIN:STANDARD
TZOFFSETFROM:-0400
TZOFFSETTO:-0500
TZNAME:EST
DTSTART:20291104T060000
END:STANDARD
END:VTIMEZONE
BEGIN:VEVENT
DTSTART;TZID=America/Toronto:20280503T133000
DTEND;TZID=America/Toronto:20280503T143000
DTSTAMP:20260425T180947
CREATED:20250702T154446Z
LAST-MODIFIED:20250702T154447Z
UID:10000709-1840973400-1840977000@www.clrcs.com
SUMMARY:Free Bingo
DESCRIPTION:Free Bingo every Wednesday at Ma-Te-Way Park at the splash pad. (myFM Centre)
URL:https://www.clrcs.com/event/free-bingo-2/2028-05-03/
LOCATION:myFM Centre\, 1 Ma-te-way Park Drive\, Renfrew\, Ontario\, K7V 4J4\, Canada
END:VEVENT
BEGIN:VEVENT
DTSTART;TZID=America/Toronto:20280504T133000
DTEND;TZID=America/Toronto:20280504T143000
DTSTAMP:20260425T180947
CREATED:20241105T152548Z
LAST-MODIFIED:20241105T152548Z
UID:10001231-1841059800-1841063400@www.clrcs.com
SUMMARY:Billiards
DESCRIPTION:Free drop in Billiards every Thursday at the Royal Canadian Legion Renfrew.
URL:https://www.clrcs.com/event/billiards/2028-05-04/
LOCATION:Royal Canadian Legion Branch #148\, 30 Raglan St. S.\, Renfrew\, ON\, K7V1P7\, Canada
END:VEVENT
BEGIN:VEVENT
DTSTART;TZID=America/Toronto:20280505T131500
DTEND;TZID=America/Toronto:20280505T143000
DTSTAMP:20260425T180947
CREATED:20241105T152731Z
LAST-MODIFIED:20241105T152731Z
UID:10001492-1841145300-1841149800@www.clrcs.com
SUMMARY:Bowling
DESCRIPTION:Only $4.25 per game!
URL:https://www.clrcs.com/event/bowling/2028-05-05/
LOCATION:Opeongo Bowldrome\, 233 Raglan St. S.\, Renfrew\, ON\, K7V1R3\, Canada
END:VEVENT
BEGIN:VEVENT
DTSTART;TZID=America/Toronto:20280508T130000
DTEND;TZID=America/Toronto:20280508T140000
DTSTAMP:20260425T180947
CREATED:20241104T204044Z
LAST-MODIFIED:20241104T204227Z
UID:10000188-1841403600-1841407200@www.clrcs.com
SUMMARY:Renfrew Legion Seniors Darts
DESCRIPTION:Come out for an afternoon of fun and friendship!
URL:https://www.clrcs.com/event/225234/2028-05-08/
LOCATION:Royal Canadian Legion Branch #148\, 30 Raglan St. S.\, Renfrew\, ON\, K7V1P7\, Canada
END:VEVENT
BEGIN:VEVENT
DTSTART;TZID=America/Toronto:20280510T103000
DTEND;TZID=America/Toronto:20280510T113000
DTSTAMP:20260425T180947
CREATED:20241104T204636Z
LAST-MODIFIED:20241104T204636Z
UID:10000449-1841567400-1841571000@www.clrcs.com
SUMMARY:Opeongo Bowldrome
DESCRIPTION:Join a game for only $4.25!!
URL:https://www.clrcs.com/event/opeongo-bowldrome/2028-05-10/
LOCATION:Opeongo Bowldrome\, 233 Raglan St. S.\, Renfrew\, ON\, K7V1R3\, Canada
END:VEVENT
BEGIN:VEVENT
DTSTART;TZID=America/Toronto:20280510T133000
DTEND;TZID=America/Toronto:20280510T143000
DTSTAMP:20260425T180947
CREATED:20250702T154446Z
LAST-MODIFIED:20250702T154447Z
UID:10000710-1841578200-1841581800@www.clrcs.com
SUMMARY:Free Bingo
DESCRIPTION:Free Bingo every Wednesday at Ma-Te-Way Park at the splash pad. (myFM Centre)
URL:https://www.clrcs.com/event/free-bingo-2/2028-05-10/
LOCATION:myFM Centre\, 1 Ma-te-way Park Drive\, Renfrew\, Ontario\, K7V 4J4\, Canada
END:VEVENT
BEGIN:VEVENT
DTSTART;TZID=America/Toronto:20280511T133000
DTEND;TZID=America/Toronto:20280511T143000
DTSTAMP:20260425T180947
CREATED:20241105T152548Z
LAST-MODIFIED:20241105T152548Z
UID:10001232-1841664600-1841668200@www.clrcs.com
SUMMARY:Billiards
DESCRIPTION:Free drop in Billiards every Thursday at the Royal Canadian Legion Renfrew.
URL:https://www.clrcs.com/event/billiards/2028-05-11/
LOCATION:Royal Canadian Legion Branch #148\, 30 Raglan St. S.\, Renfrew\, ON\, K7V1P7\, Canada
END:VEVENT
BEGIN:VEVENT
DTSTART;TZID=America/Toronto:20280512T131500
DTEND;TZID=America/Toronto:20280512T143000
DTSTAMP:20260425T180947
CREATED:20241105T152731Z
LAST-MODIFIED:20241105T152731Z
UID:10001493-1841750100-1841754600@www.clrcs.com
SUMMARY:Bowling
DESCRIPTION:Only $4.25 per game!
URL:https://www.clrcs.com/event/bowling/2028-05-12/
LOCATION:Opeongo Bowldrome\, 233 Raglan St. S.\, Renfrew\, ON\, K7V1R3\, Canada
END:VEVENT
BEGIN:VEVENT
DTSTART;TZID=America/Toronto:20280515T130000
DTEND;TZID=America/Toronto:20280515T140000
DTSTAMP:20260425T180947
CREATED:20241104T204044Z
LAST-MODIFIED:20241104T204227Z
UID:10000189-1842008400-1842012000@www.clrcs.com
SUMMARY:Renfrew Legion Seniors Darts
DESCRIPTION:Come out for an afternoon of fun and friendship!
URL:https://www.clrcs.com/event/225234/2028-05-15/
LOCATION:Royal Canadian Legion Branch #148\, 30 Raglan St. S.\, Renfrew\, ON\, K7V1P7\, Canada
END:VEVENT
BEGIN:VEVENT
DTSTART;TZID=America/Toronto:20280517T103000
DTEND;TZID=America/Toronto:20280517T113000
DTSTAMP:20260425T180947
CREATED:20241104T204636Z
LAST-MODIFIED:20241104T204636Z
UID:10000450-1842172200-1842175800@www.clrcs.com
SUMMARY:Opeongo Bowldrome
DESCRIPTION:Join a game for only $4.25!!
URL:https://www.clrcs.com/event/opeongo-bowldrome/2028-05-17/
LOCATION:Opeongo Bowldrome\, 233 Raglan St. S.\, Renfrew\, ON\, K7V1R3\, Canada
END:VEVENT
BEGIN:VEVENT
DTSTART;TZID=America/Toronto:20280517T133000
DTEND;TZID=America/Toronto:20280517T143000
DTSTAMP:20260425T180947
CREATED:20250702T154446Z
LAST-MODIFIED:20250702T154447Z
UID:10000711-1842183000-1842186600@www.clrcs.com
SUMMARY:Free Bingo
DESCRIPTION:Free Bingo every Wednesday at Ma-Te-Way Park at the splash pad. (myFM Centre)
URL:https://www.clrcs.com/event/free-bingo-2/2028-05-17/
LOCATION:myFM Centre\, 1 Ma-te-way Park Drive\, Renfrew\, Ontario\, K7V 4J4\, Canada
END:VEVENT
BEGIN:VEVENT
DTSTART;TZID=America/Toronto:20280518T133000
DTEND;TZID=America/Toronto:20280518T143000
DTSTAMP:20260425T180947
CREATED:20241105T152548Z
LAST-MODIFIED:20241105T152548Z
UID:10001233-1842269400-1842273000@www.clrcs.com
SUMMARY:Billiards
DESCRIPTION:Free drop in Billiards every Thursday at the Royal Canadian Legion Renfrew.
URL:https://www.clrcs.com/event/billiards/2028-05-18/
LOCATION:Royal Canadian Legion Branch #148\, 30 Raglan St. S.\, Renfrew\, ON\, K7V1P7\, Canada
END:VEVENT
BEGIN:VEVENT
DTSTART;TZID=America/Toronto:20280519T131500
DTEND;TZID=America/Toronto:20280519T143000
DTSTAMP:20260425T180947
CREATED:20241105T152731Z
LAST-MODIFIED:20241105T152731Z
UID:10001494-1842354900-1842359400@www.clrcs.com
SUMMARY:Bowling
DESCRIPTION:Only $4.25 per game!
URL:https://www.clrcs.com/event/bowling/2028-05-19/
LOCATION:Opeongo Bowldrome\, 233 Raglan St. S.\, Renfrew\, ON\, K7V1R3\, Canada
END:VEVENT
BEGIN:VEVENT
DTSTART;TZID=America/Toronto:20280522T130000
DTEND;TZID=America/Toronto:20280522T140000
DTSTAMP:20260425T180947
CREATED:20241104T204044Z
LAST-MODIFIED:20241104T204227Z
UID:10000190-1842613200-1842616800@www.clrcs.com
SUMMARY:Renfrew Legion Seniors Darts
DESCRIPTION:Come out for an afternoon of fun and friendship!
URL:https://www.clrcs.com/event/225234/2028-05-22/
LOCATION:Royal Canadian Legion Branch #148\, 30 Raglan St. S.\, Renfrew\, ON\, K7V1P7\, Canada
END:VEVENT
BEGIN:VEVENT
DTSTART;TZID=America/Toronto:20280524T103000
DTEND;TZID=America/Toronto:20280524T113000
DTSTAMP:20260425T180947
CREATED:20241104T204636Z
LAST-MODIFIED:20241104T204636Z
UID:10000451-1842777000-1842780600@www.clrcs.com
SUMMARY:Opeongo Bowldrome
DESCRIPTION:Join a game for only $4.25!!
URL:https://www.clrcs.com/event/opeongo-bowldrome/2028-05-24/
LOCATION:Opeongo Bowldrome\, 233 Raglan St. S.\, Renfrew\, ON\, K7V1R3\, Canada
END:VEVENT
BEGIN:VEVENT
DTSTART;TZID=America/Toronto:20280524T133000
DTEND;TZID=America/Toronto:20280524T143000
DTSTAMP:20260425T180947
CREATED:20250702T154446Z
LAST-MODIFIED:20250702T154447Z
UID:10000712-1842787800-1842791400@www.clrcs.com
SUMMARY:Free Bingo
DESCRIPTION:Free Bingo every Wednesday at Ma-Te-Way Park at the splash pad. (myFM Centre)
URL:https://www.clrcs.com/event/free-bingo-2/2028-05-24/
LOCATION:myFM Centre\, 1 Ma-te-way Park Drive\, Renfrew\, Ontario\, K7V 4J4\, Canada
END:VEVENT
BEGIN:VEVENT
DTSTART;TZID=America/Toronto:20280525T133000
DTEND;TZID=America/Toronto:20280525T143000
DTSTAMP:20260425T180947
CREATED:20241105T152548Z
LAST-MODIFIED:20241105T152548Z
UID:10001234-1842874200-1842877800@www.clrcs.com
SUMMARY:Billiards
DESCRIPTION:Free drop in Billiards every Thursday at the Royal Canadian Legion Renfrew.
URL:https://www.clrcs.com/event/billiards/2028-05-25/
LOCATION:Royal Canadian Legion Branch #148\, 30 Raglan St. S.\, Renfrew\, ON\, K7V1P7\, Canada
END:VEVENT
BEGIN:VEVENT
DTSTART;TZID=America/Toronto:20280526T131500
DTEND;TZID=America/Toronto:20280526T143000
DTSTAMP:20260425T180947
CREATED:20241105T152731Z
LAST-MODIFIED:20241105T152731Z
UID:10001495-1842959700-1842964200@www.clrcs.com
SUMMARY:Bowling
DESCRIPTION:Only $4.25 per game!
URL:https://www.clrcs.com/event/bowling/2028-05-26/
LOCATION:Opeongo Bowldrome\, 233 Raglan St. S.\, Renfrew\, ON\, K7V1R3\, Canada
END:VEVENT
BEGIN:VEVENT
DTSTART;TZID=America/Toronto:20280529T130000
DTEND;TZID=America/Toronto:20280529T140000
DTSTAMP:20260425T180947
CREATED:20241104T204044Z
LAST-MODIFIED:20241104T204227Z
UID:10000191-1843218000-1843221600@www.clrcs.com
SUMMARY:Renfrew Legion Seniors Darts
DESCRIPTION:Come out for an afternoon of fun and friendship!
URL:https://www.clrcs.com/event/225234/2028-05-29/
LOCATION:Royal Canadian Legion Branch #148\, 30 Raglan St. S.\, Renfrew\, ON\, K7V1P7\, Canada
END:VEVENT
BEGIN:VEVENT
DTSTART;TZID=America/Toronto:20280531T103000
DTEND;TZID=America/Toronto:20280531T113000
DTSTAMP:20260425T180947
CREATED:20241104T204636Z
LAST-MODIFIED:20241104T204636Z
UID:10000452-1843381800-1843385400@www.clrcs.com
SUMMARY:Opeongo Bowldrome
DESCRIPTION:Join a game for only $4.25!!
URL:https://www.clrcs.com/event/opeongo-bowldrome/2028-05-31/
LOCATION:Opeongo Bowldrome\, 233 Raglan St. S.\, Renfrew\, ON\, K7V1R3\, Canada
END:VEVENT
BEGIN:VEVENT
DTSTART;TZID=America/Toronto:20280531T133000
DTEND;TZID=America/Toronto:20280531T143000
DTSTAMP:20260425T180947
CREATED:20250702T154446Z
LAST-MODIFIED:20250702T154447Z
UID:10000713-1843392600-1843396200@www.clrcs.com
SUMMARY:Free Bingo
DESCRIPTION:Free Bingo every Wednesday at Ma-Te-Way Park at the splash pad. (myFM Centre)
URL:https://www.clrcs.com/event/free-bingo-2/2028-05-31/
LOCATION:myFM Centre\, 1 Ma-te-way Park Drive\, Renfrew\, Ontario\, K7V 4J4\, Canada
END:VEVENT
BEGIN:VEVENT
DTSTART;TZID=America/Toronto:20280601T133000
DTEND;TZID=America/Toronto:20280601T143000
DTSTAMP:20260425T180947
CREATED:20241105T152548Z
LAST-MODIFIED:20241105T152548Z
UID:10001235-1843479000-1843482600@www.clrcs.com
SUMMARY:Billiards
DESCRIPTION:Free drop in Billiards every Thursday at the Royal Canadian Legion Renfrew.
URL:https://www.clrcs.com/event/billiards/2028-06-01/
LOCATION:Royal Canadian Legion Branch #148\, 30 Raglan St. S.\, Renfrew\, ON\, K7V1P7\, Canada
END:VEVENT
BEGIN:VEVENT
DTSTART;TZID=America/Toronto:20280602T131500
DTEND;TZID=America/Toronto:20280602T143000
DTSTAMP:20260425T180947
CREATED:20241105T152731Z
LAST-MODIFIED:20241105T152731Z
UID:10001496-1843564500-1843569000@www.clrcs.com
SUMMARY:Bowling
DESCRIPTION:Only $4.25 per game!
URL:https://www.clrcs.com/event/bowling/2028-06-02/
LOCATION:Opeongo Bowldrome\, 233 Raglan St. S.\, Renfrew\, ON\, K7V1R3\, Canada
END:VEVENT
BEGIN:VEVENT
DTSTART;TZID=America/Toronto:20280605T130000
DTEND;TZID=America/Toronto:20280605T140000
DTSTAMP:20260425T180947
CREATED:20241104T204044Z
LAST-MODIFIED:20241104T204227Z
UID:10000192-1843822800-1843826400@www.clrcs.com
SUMMARY:Renfrew Legion Seniors Darts
DESCRIPTION:Come out for an afternoon of fun and friendship!
URL:https://www.clrcs.com/event/225234/2028-06-05/
LOCATION:Royal Canadian Legion Branch #148\, 30 Raglan St. S.\, Renfrew\, ON\, K7V1P7\, Canada
END:VEVENT
BEGIN:VEVENT
DTSTART;TZID=America/Toronto:20280607T103000
DTEND;TZID=America/Toronto:20280607T113000
DTSTAMP:20260425T180947
CREATED:20241104T204636Z
LAST-MODIFIED:20241104T204636Z
UID:10000453-1843986600-1843990200@www.clrcs.com
SUMMARY:Opeongo Bowldrome
DESCRIPTION:Join a game for only $4.25!!
URL:https://www.clrcs.com/event/opeongo-bowldrome/2028-06-07/
LOCATION:Opeongo Bowldrome\, 233 Raglan St. S.\, Renfrew\, ON\, K7V1R3\, Canada
END:VEVENT
BEGIN:VEVENT
DTSTART;TZID=America/Toronto:20280607T133000
DTEND;TZID=America/Toronto:20280607T143000
DTSTAMP:20260425T180947
CREATED:20250702T154446Z
LAST-MODIFIED:20250702T154447Z
UID:10000714-1843997400-1844001000@www.clrcs.com
SUMMARY:Free Bingo
DESCRIPTION:Free Bingo every Wednesday at Ma-Te-Way Park at the splash pad. (myFM Centre)
URL:https://www.clrcs.com/event/free-bingo-2/2028-06-07/
LOCATION:myFM Centre\, 1 Ma-te-way Park Drive\, Renfrew\, Ontario\, K7V 4J4\, Canada
END:VEVENT
BEGIN:VEVENT
DTSTART;TZID=America/Toronto:20280608T133000
DTEND;TZID=America/Toronto:20280608T143000
DTSTAMP:20260425T180947
CREATED:20241105T152548Z
LAST-MODIFIED:20241105T152548Z
UID:10001236-1844083800-1844087400@www.clrcs.com
SUMMARY:Billiards
DESCRIPTION:Free drop in Billiards every Thursday at the Royal Canadian Legion Renfrew.
URL:https://www.clrcs.com/event/billiards/2028-06-08/
LOCATION:Royal Canadian Legion Branch #148\, 30 Raglan St. S.\, Renfrew\, ON\, K7V1P7\, Canada
END:VEVENT
BEGIN:VEVENT
DTSTART;TZID=America/Toronto:20280609T131500
DTEND;TZID=America/Toronto:20280609T143000
DTSTAMP:20260425T180947
CREATED:20241105T152731Z
LAST-MODIFIED:20241105T152731Z
UID:10001497-1844169300-1844173800@www.clrcs.com
SUMMARY:Bowling
DESCRIPTION:Only $4.25 per game!
URL:https://www.clrcs.com/event/bowling/2028-06-09/
LOCATION:Opeongo Bowldrome\, 233 Raglan St. S.\, Renfrew\, ON\, K7V1R3\, Canada
END:VEVENT
BEGIN:VEVENT
DTSTART;TZID=America/Toronto:20280612T130000
DTEND;TZID=America/Toronto:20280612T140000
DTSTAMP:20260425T180947
CREATED:20241104T204044Z
LAST-MODIFIED:20241104T204227Z
UID:10000193-1844427600-1844431200@www.clrcs.com
SUMMARY:Renfrew Legion Seniors Darts
DESCRIPTION:Come out for an afternoon of fun and friendship!
URL:https://www.clrcs.com/event/225234/2028-06-12/
LOCATION:Royal Canadian Legion Branch #148\, 30 Raglan St. S.\, Renfrew\, ON\, K7V1P7\, Canada
END:VEVENT
BEGIN:VEVENT
DTSTART;TZID=America/Toronto:20280614T103000
DTEND;TZID=America/Toronto:20280614T113000
DTSTAMP:20260425T180947
CREATED:20241104T204636Z
LAST-MODIFIED:20241104T204636Z
UID:10000454-1844591400-1844595000@www.clrcs.com
SUMMARY:Opeongo Bowldrome
DESCRIPTION:Join a game for only $4.25!!
URL:https://www.clrcs.com/event/opeongo-bowldrome/2028-06-14/
LOCATION:Opeongo Bowldrome\, 233 Raglan St. S.\, Renfrew\, ON\, K7V1R3\, Canada
END:VEVENT
END:VCALENDAR