BEGIN:VCALENDAR
VERSION:2.0
PRODID:-//CLRCS - ECPv6.15.20//NONSGML v1.0//EN
CALSCALE:GREGORIAN
METHOD:PUBLISH
X-WR-CALNAME:CLRCS
X-ORIGINAL-URL:https://www.clrcs.com
X-WR-CALDESC:Events for CLRCS
REFRESH-INTERVAL;VALUE=DURATION:PT1H
X-Robots-Tag:noindex
X-PUBLISHED-TTL:PT1H
BEGIN:VTIMEZONE
TZID:America/Toronto
BEGIN:DAYLIGHT
TZOFFSETFROM:-0500
TZOFFSETTO:-0400
TZNAME:EDT
DTSTART:20260308T070000
END:DAYLIGHT
BEGIN:STANDARD
TZOFFSETFROM:-0400
TZOFFSETTO:-0500
TZNAME:EST
DTSTART:20261101T060000
END:STANDARD
BEGIN:DAYLIGHT
TZOFFSETFROM:-0500
TZOFFSETTO:-0400
TZNAME:EDT
DTSTART:20270314T070000
END:DAYLIGHT
BEGIN:STANDARD
TZOFFSETFROM:-0400
TZOFFSETTO:-0500
TZNAME:EST
DTSTART:20271107T060000
END:STANDARD
BEGIN:DAYLIGHT
TZOFFSETFROM:-0500
TZOFFSETTO:-0400
TZNAME:EDT
DTSTART:20280312T070000
END:DAYLIGHT
BEGIN:STANDARD
TZOFFSETFROM:-0400
TZOFFSETTO:-0500
TZNAME:EST
DTSTART:20281105T060000
END:STANDARD
END:VTIMEZONE
BEGIN:VEVENT
DTSTART;TZID=America/Toronto:20270716T131500
DTEND;TZID=America/Toronto:20270716T143000
DTSTAMP:20260425T064937
CREATED:20241105T152731Z
LAST-MODIFIED:20241105T152731Z
UID:10001450-1815743700-1815748200@www.clrcs.com
SUMMARY:Bowling
DESCRIPTION:Only $4.25 per game!
URL:https://www.clrcs.com/event/bowling/2027-07-16/
LOCATION:Opeongo Bowldrome\, 233 Raglan St. S.\, Renfrew\, ON\, K7V1R3\, Canada
END:VEVENT
BEGIN:VEVENT
DTSTART;TZID=America/Toronto:20270719T130000
DTEND;TZID=America/Toronto:20270719T140000
DTSTAMP:20260425T064937
CREATED:20241104T204044Z
LAST-MODIFIED:20241104T204227Z
UID:10000146-1816002000-1816005600@www.clrcs.com
SUMMARY:Renfrew Legion Seniors Darts
DESCRIPTION:Come out for an afternoon of fun and friendship!
URL:https://www.clrcs.com/event/225234/2027-07-19/
LOCATION:Royal Canadian Legion Branch #148\, 30 Raglan St. S.\, Renfrew\, ON\, K7V1P7\, Canada
END:VEVENT
BEGIN:VEVENT
DTSTART;TZID=America/Toronto:20270721T103000
DTEND;TZID=America/Toronto:20270721T113000
DTSTAMP:20260425T064937
CREATED:20241104T204636Z
LAST-MODIFIED:20241104T204636Z
UID:10000407-1816165800-1816169400@www.clrcs.com
SUMMARY:Opeongo Bowldrome
DESCRIPTION:Join a game for only $4.25!!
URL:https://www.clrcs.com/event/opeongo-bowldrome/2027-07-21/
LOCATION:Opeongo Bowldrome\, 233 Raglan St. S.\, Renfrew\, ON\, K7V1R3\, Canada
END:VEVENT
BEGIN:VEVENT
DTSTART;TZID=America/Toronto:20270721T133000
DTEND;TZID=America/Toronto:20270721T143000
DTSTAMP:20260425T064937
CREATED:20250702T154446Z
LAST-MODIFIED:20250702T154447Z
UID:10000668-1816176600-1816180200@www.clrcs.com
SUMMARY:Free Bingo
DESCRIPTION:Free Bingo every Wednesday at Ma-Te-Way Park at the splash pad. (myFM Centre)
URL:https://www.clrcs.com/event/free-bingo-2/2027-07-21/
LOCATION:myFM Centre\, 1 Ma-te-way Park Drive\, Renfrew\, Ontario\, K7V 4J4\, Canada
END:VEVENT
BEGIN:VEVENT
DTSTART;TZID=America/Toronto:20270722T133000
DTEND;TZID=America/Toronto:20270722T143000
DTSTAMP:20260425T064937
CREATED:20241105T152548Z
LAST-MODIFIED:20241105T152548Z
UID:10001190-1816263000-1816266600@www.clrcs.com
SUMMARY:Billiards
DESCRIPTION:Free drop in Billiards every Thursday at the Royal Canadian Legion Renfrew.
URL:https://www.clrcs.com/event/billiards/2027-07-22/
LOCATION:Royal Canadian Legion Branch #148\, 30 Raglan St. S.\, Renfrew\, ON\, K7V1P7\, Canada
END:VEVENT
BEGIN:VEVENT
DTSTART;TZID=America/Toronto:20270723T131500
DTEND;TZID=America/Toronto:20270723T143000
DTSTAMP:20260425T064937
CREATED:20241105T152731Z
LAST-MODIFIED:20241105T152731Z
UID:10001451-1816348500-1816353000@www.clrcs.com
SUMMARY:Bowling
DESCRIPTION:Only $4.25 per game!
URL:https://www.clrcs.com/event/bowling/2027-07-23/
LOCATION:Opeongo Bowldrome\, 233 Raglan St. S.\, Renfrew\, ON\, K7V1R3\, Canada
END:VEVENT
BEGIN:VEVENT
DTSTART;TZID=America/Toronto:20270726T130000
DTEND;TZID=America/Toronto:20270726T140000
DTSTAMP:20260425T064937
CREATED:20241104T204044Z
LAST-MODIFIED:20241104T204227Z
UID:10000147-1816606800-1816610400@www.clrcs.com
SUMMARY:Renfrew Legion Seniors Darts
DESCRIPTION:Come out for an afternoon of fun and friendship!
URL:https://www.clrcs.com/event/225234/2027-07-26/
LOCATION:Royal Canadian Legion Branch #148\, 30 Raglan St. S.\, Renfrew\, ON\, K7V1P7\, Canada
END:VEVENT
BEGIN:VEVENT
DTSTART;TZID=America/Toronto:20270728T103000
DTEND;TZID=America/Toronto:20270728T113000
DTSTAMP:20260425T064937
CREATED:20241104T204636Z
LAST-MODIFIED:20241104T204636Z
UID:10000408-1816770600-1816774200@www.clrcs.com
SUMMARY:Opeongo Bowldrome
DESCRIPTION:Join a game for only $4.25!!
URL:https://www.clrcs.com/event/opeongo-bowldrome/2027-07-28/
LOCATION:Opeongo Bowldrome\, 233 Raglan St. S.\, Renfrew\, ON\, K7V1R3\, Canada
END:VEVENT
BEGIN:VEVENT
DTSTART;TZID=America/Toronto:20270728T133000
DTEND;TZID=America/Toronto:20270728T143000
DTSTAMP:20260425T064937
CREATED:20250702T154446Z
LAST-MODIFIED:20250702T154447Z
UID:10000669-1816781400-1816785000@www.clrcs.com
SUMMARY:Free Bingo
DESCRIPTION:Free Bingo every Wednesday at Ma-Te-Way Park at the splash pad. (myFM Centre)
URL:https://www.clrcs.com/event/free-bingo-2/2027-07-28/
LOCATION:myFM Centre\, 1 Ma-te-way Park Drive\, Renfrew\, Ontario\, K7V 4J4\, Canada
END:VEVENT
BEGIN:VEVENT
DTSTART;TZID=America/Toronto:20270729T133000
DTEND;TZID=America/Toronto:20270729T143000
DTSTAMP:20260425T064937
CREATED:20241105T152548Z
LAST-MODIFIED:20241105T152548Z
UID:10001191-1816867800-1816871400@www.clrcs.com
SUMMARY:Billiards
DESCRIPTION:Free drop in Billiards every Thursday at the Royal Canadian Legion Renfrew.
URL:https://www.clrcs.com/event/billiards/2027-07-29/
LOCATION:Royal Canadian Legion Branch #148\, 30 Raglan St. S.\, Renfrew\, ON\, K7V1P7\, Canada
END:VEVENT
BEGIN:VEVENT
DTSTART;TZID=America/Toronto:20270730T131500
DTEND;TZID=America/Toronto:20270730T143000
DTSTAMP:20260425T064937
CREATED:20241105T152731Z
LAST-MODIFIED:20241105T152731Z
UID:10001452-1816953300-1816957800@www.clrcs.com
SUMMARY:Bowling
DESCRIPTION:Only $4.25 per game!
URL:https://www.clrcs.com/event/bowling/2027-07-30/
LOCATION:Opeongo Bowldrome\, 233 Raglan St. S.\, Renfrew\, ON\, K7V1R3\, Canada
END:VEVENT
BEGIN:VEVENT
DTSTART;TZID=America/Toronto:20270802T130000
DTEND;TZID=America/Toronto:20270802T140000
DTSTAMP:20260425T064937
CREATED:20241104T204044Z
LAST-MODIFIED:20241104T204227Z
UID:10000148-1817211600-1817215200@www.clrcs.com
SUMMARY:Renfrew Legion Seniors Darts
DESCRIPTION:Come out for an afternoon of fun and friendship!
URL:https://www.clrcs.com/event/225234/2027-08-02/
LOCATION:Royal Canadian Legion Branch #148\, 30 Raglan St. S.\, Renfrew\, ON\, K7V1P7\, Canada
END:VEVENT
BEGIN:VEVENT
DTSTART;TZID=America/Toronto:20270804T103000
DTEND;TZID=America/Toronto:20270804T113000
DTSTAMP:20260425T064937
CREATED:20241104T204636Z
LAST-MODIFIED:20241104T204636Z
UID:10000409-1817375400-1817379000@www.clrcs.com
SUMMARY:Opeongo Bowldrome
DESCRIPTION:Join a game for only $4.25!!
URL:https://www.clrcs.com/event/opeongo-bowldrome/2027-08-04/
LOCATION:Opeongo Bowldrome\, 233 Raglan St. S.\, Renfrew\, ON\, K7V1R3\, Canada
END:VEVENT
BEGIN:VEVENT
DTSTART;TZID=America/Toronto:20270804T133000
DTEND;TZID=America/Toronto:20270804T143000
DTSTAMP:20260425T064937
CREATED:20250702T154446Z
LAST-MODIFIED:20250702T154447Z
UID:10000670-1817386200-1817389800@www.clrcs.com
SUMMARY:Free Bingo
DESCRIPTION:Free Bingo every Wednesday at Ma-Te-Way Park at the splash pad. (myFM Centre)
URL:https://www.clrcs.com/event/free-bingo-2/2027-08-04/
LOCATION:myFM Centre\, 1 Ma-te-way Park Drive\, Renfrew\, Ontario\, K7V 4J4\, Canada
END:VEVENT
BEGIN:VEVENT
DTSTART;TZID=America/Toronto:20270805T133000
DTEND;TZID=America/Toronto:20270805T143000
DTSTAMP:20260425T064937
CREATED:20241105T152548Z
LAST-MODIFIED:20241105T152548Z
UID:10001192-1817472600-1817476200@www.clrcs.com
SUMMARY:Billiards
DESCRIPTION:Free drop in Billiards every Thursday at the Royal Canadian Legion Renfrew.
URL:https://www.clrcs.com/event/billiards/2027-08-05/
LOCATION:Royal Canadian Legion Branch #148\, 30 Raglan St. S.\, Renfrew\, ON\, K7V1P7\, Canada
END:VEVENT
BEGIN:VEVENT
DTSTART;TZID=America/Toronto:20270806T131500
DTEND;TZID=America/Toronto:20270806T143000
DTSTAMP:20260425T064937
CREATED:20241105T152731Z
LAST-MODIFIED:20241105T152731Z
UID:10001453-1817558100-1817562600@www.clrcs.com
SUMMARY:Bowling
DESCRIPTION:Only $4.25 per game!
URL:https://www.clrcs.com/event/bowling/2027-08-06/
LOCATION:Opeongo Bowldrome\, 233 Raglan St. S.\, Renfrew\, ON\, K7V1R3\, Canada
END:VEVENT
BEGIN:VEVENT
DTSTART;TZID=America/Toronto:20270809T130000
DTEND;TZID=America/Toronto:20270809T140000
DTSTAMP:20260425T064937
CREATED:20241104T204044Z
LAST-MODIFIED:20241104T204227Z
UID:10000149-1817816400-1817820000@www.clrcs.com
SUMMARY:Renfrew Legion Seniors Darts
DESCRIPTION:Come out for an afternoon of fun and friendship!
URL:https://www.clrcs.com/event/225234/2027-08-09/
LOCATION:Royal Canadian Legion Branch #148\, 30 Raglan St. S.\, Renfrew\, ON\, K7V1P7\, Canada
END:VEVENT
BEGIN:VEVENT
DTSTART;TZID=America/Toronto:20270811T103000
DTEND;TZID=America/Toronto:20270811T113000
DTSTAMP:20260425T064937
CREATED:20241104T204636Z
LAST-MODIFIED:20241104T204636Z
UID:10000410-1817980200-1817983800@www.clrcs.com
SUMMARY:Opeongo Bowldrome
DESCRIPTION:Join a game for only $4.25!!
URL:https://www.clrcs.com/event/opeongo-bowldrome/2027-08-11/
LOCATION:Opeongo Bowldrome\, 233 Raglan St. S.\, Renfrew\, ON\, K7V1R3\, Canada
END:VEVENT
BEGIN:VEVENT
DTSTART;TZID=America/Toronto:20270811T133000
DTEND;TZID=America/Toronto:20270811T143000
DTSTAMP:20260425T064937
CREATED:20250702T154446Z
LAST-MODIFIED:20250702T154447Z
UID:10000671-1817991000-1817994600@www.clrcs.com
SUMMARY:Free Bingo
DESCRIPTION:Free Bingo every Wednesday at Ma-Te-Way Park at the splash pad. (myFM Centre)
URL:https://www.clrcs.com/event/free-bingo-2/2027-08-11/
LOCATION:myFM Centre\, 1 Ma-te-way Park Drive\, Renfrew\, Ontario\, K7V 4J4\, Canada
END:VEVENT
BEGIN:VEVENT
DTSTART;TZID=America/Toronto:20270812T133000
DTEND;TZID=America/Toronto:20270812T143000
DTSTAMP:20260425T064937
CREATED:20241105T152548Z
LAST-MODIFIED:20241105T152548Z
UID:10001193-1818077400-1818081000@www.clrcs.com
SUMMARY:Billiards
DESCRIPTION:Free drop in Billiards every Thursday at the Royal Canadian Legion Renfrew.
URL:https://www.clrcs.com/event/billiards/2027-08-12/
LOCATION:Royal Canadian Legion Branch #148\, 30 Raglan St. S.\, Renfrew\, ON\, K7V1P7\, Canada
END:VEVENT
BEGIN:VEVENT
DTSTART;TZID=America/Toronto:20270813T131500
DTEND;TZID=America/Toronto:20270813T143000
DTSTAMP:20260425T064937
CREATED:20241105T152731Z
LAST-MODIFIED:20241105T152731Z
UID:10001454-1818162900-1818167400@www.clrcs.com
SUMMARY:Bowling
DESCRIPTION:Only $4.25 per game!
URL:https://www.clrcs.com/event/bowling/2027-08-13/
LOCATION:Opeongo Bowldrome\, 233 Raglan St. S.\, Renfrew\, ON\, K7V1R3\, Canada
END:VEVENT
BEGIN:VEVENT
DTSTART;TZID=America/Toronto:20270816T130000
DTEND;TZID=America/Toronto:20270816T140000
DTSTAMP:20260425T064937
CREATED:20241104T204044Z
LAST-MODIFIED:20241104T204227Z
UID:10000150-1818421200-1818424800@www.clrcs.com
SUMMARY:Renfrew Legion Seniors Darts
DESCRIPTION:Come out for an afternoon of fun and friendship!
URL:https://www.clrcs.com/event/225234/2027-08-16/
LOCATION:Royal Canadian Legion Branch #148\, 30 Raglan St. S.\, Renfrew\, ON\, K7V1P7\, Canada
END:VEVENT
BEGIN:VEVENT
DTSTART;TZID=America/Toronto:20270818T103000
DTEND;TZID=America/Toronto:20270818T113000
DTSTAMP:20260425T064937
CREATED:20241104T204636Z
LAST-MODIFIED:20241104T204636Z
UID:10000411-1818585000-1818588600@www.clrcs.com
SUMMARY:Opeongo Bowldrome
DESCRIPTION:Join a game for only $4.25!!
URL:https://www.clrcs.com/event/opeongo-bowldrome/2027-08-18/
LOCATION:Opeongo Bowldrome\, 233 Raglan St. S.\, Renfrew\, ON\, K7V1R3\, Canada
END:VEVENT
BEGIN:VEVENT
DTSTART;TZID=America/Toronto:20270818T133000
DTEND;TZID=America/Toronto:20270818T143000
DTSTAMP:20260425T064937
CREATED:20250702T154446Z
LAST-MODIFIED:20250702T154447Z
UID:10000672-1818595800-1818599400@www.clrcs.com
SUMMARY:Free Bingo
DESCRIPTION:Free Bingo every Wednesday at Ma-Te-Way Park at the splash pad. (myFM Centre)
URL:https://www.clrcs.com/event/free-bingo-2/2027-08-18/
LOCATION:myFM Centre\, 1 Ma-te-way Park Drive\, Renfrew\, Ontario\, K7V 4J4\, Canada
END:VEVENT
BEGIN:VEVENT
DTSTART;TZID=America/Toronto:20270819T133000
DTEND;TZID=America/Toronto:20270819T143000
DTSTAMP:20260425T064937
CREATED:20241105T152548Z
LAST-MODIFIED:20241105T152548Z
UID:10001194-1818682200-1818685800@www.clrcs.com
SUMMARY:Billiards
DESCRIPTION:Free drop in Billiards every Thursday at the Royal Canadian Legion Renfrew.
URL:https://www.clrcs.com/event/billiards/2027-08-19/
LOCATION:Royal Canadian Legion Branch #148\, 30 Raglan St. S.\, Renfrew\, ON\, K7V1P7\, Canada
END:VEVENT
BEGIN:VEVENT
DTSTART;TZID=America/Toronto:20270820T131500
DTEND;TZID=America/Toronto:20270820T143000
DTSTAMP:20260425T064937
CREATED:20241105T152731Z
LAST-MODIFIED:20241105T152731Z
UID:10001455-1818767700-1818772200@www.clrcs.com
SUMMARY:Bowling
DESCRIPTION:Only $4.25 per game!
URL:https://www.clrcs.com/event/bowling/2027-08-20/
LOCATION:Opeongo Bowldrome\, 233 Raglan St. S.\, Renfrew\, ON\, K7V1R3\, Canada
END:VEVENT
BEGIN:VEVENT
DTSTART;TZID=America/Toronto:20270823T130000
DTEND;TZID=America/Toronto:20270823T140000
DTSTAMP:20260425T064937
CREATED:20241104T204044Z
LAST-MODIFIED:20241104T204227Z
UID:10000151-1819026000-1819029600@www.clrcs.com
SUMMARY:Renfrew Legion Seniors Darts
DESCRIPTION:Come out for an afternoon of fun and friendship!
URL:https://www.clrcs.com/event/225234/2027-08-23/
LOCATION:Royal Canadian Legion Branch #148\, 30 Raglan St. S.\, Renfrew\, ON\, K7V1P7\, Canada
END:VEVENT
BEGIN:VEVENT
DTSTART;TZID=America/Toronto:20270825T103000
DTEND;TZID=America/Toronto:20270825T113000
DTSTAMP:20260425T064937
CREATED:20241104T204636Z
LAST-MODIFIED:20241104T204636Z
UID:10000412-1819189800-1819193400@www.clrcs.com
SUMMARY:Opeongo Bowldrome
DESCRIPTION:Join a game for only $4.25!!
URL:https://www.clrcs.com/event/opeongo-bowldrome/2027-08-25/
LOCATION:Opeongo Bowldrome\, 233 Raglan St. S.\, Renfrew\, ON\, K7V1R3\, Canada
END:VEVENT
BEGIN:VEVENT
DTSTART;TZID=America/Toronto:20270825T133000
DTEND;TZID=America/Toronto:20270825T143000
DTSTAMP:20260425T064937
CREATED:20250702T154446Z
LAST-MODIFIED:20250702T154447Z
UID:10000673-1819200600-1819204200@www.clrcs.com
SUMMARY:Free Bingo
DESCRIPTION:Free Bingo every Wednesday at Ma-Te-Way Park at the splash pad. (myFM Centre)
URL:https://www.clrcs.com/event/free-bingo-2/2027-08-25/
LOCATION:myFM Centre\, 1 Ma-te-way Park Drive\, Renfrew\, Ontario\, K7V 4J4\, Canada
END:VEVENT
BEGIN:VEVENT
DTSTART;TZID=America/Toronto:20270826T133000
DTEND;TZID=America/Toronto:20270826T143000
DTSTAMP:20260425T064937
CREATED:20241105T152548Z
LAST-MODIFIED:20241105T152548Z
UID:10001195-1819287000-1819290600@www.clrcs.com
SUMMARY:Billiards
DESCRIPTION:Free drop in Billiards every Thursday at the Royal Canadian Legion Renfrew.
URL:https://www.clrcs.com/event/billiards/2027-08-26/
LOCATION:Royal Canadian Legion Branch #148\, 30 Raglan St. S.\, Renfrew\, ON\, K7V1P7\, Canada
END:VEVENT
END:VCALENDAR