BEGIN:VCALENDAR
VERSION:2.0
PRODID:-//CLRCS - ECPv6.15.20//NONSGML v1.0//EN
CALSCALE:GREGORIAN
METHOD:PUBLISH
X-WR-CALNAME:CLRCS
X-ORIGINAL-URL:https://www.clrcs.com
X-WR-CALDESC:Events for CLRCS
REFRESH-INTERVAL;VALUE=DURATION:PT1H
X-Robots-Tag:noindex
X-PUBLISHED-TTL:PT1H
BEGIN:VTIMEZONE
TZID:America/Toronto
BEGIN:DAYLIGHT
TZOFFSETFROM:-0500
TZOFFSETTO:-0400
TZNAME:EDT
DTSTART:20240310T070000
END:DAYLIGHT
BEGIN:STANDARD
TZOFFSETFROM:-0400
TZOFFSETTO:-0500
TZNAME:EST
DTSTART:20241103T060000
END:STANDARD
BEGIN:DAYLIGHT
TZOFFSETFROM:-0500
TZOFFSETTO:-0400
TZNAME:EDT
DTSTART:20250309T070000
END:DAYLIGHT
BEGIN:STANDARD
TZOFFSETFROM:-0400
TZOFFSETTO:-0500
TZNAME:EST
DTSTART:20251102T060000
END:STANDARD
BEGIN:DAYLIGHT
TZOFFSETFROM:-0500
TZOFFSETTO:-0400
TZNAME:EDT
DTSTART:20260308T070000
END:DAYLIGHT
BEGIN:STANDARD
TZOFFSETFROM:-0400
TZOFFSETTO:-0500
TZNAME:EST
DTSTART:20261101T060000
END:STANDARD
END:VTIMEZONE
BEGIN:VEVENT
DTSTART;TZID=America/Toronto:20250515T133000
DTEND;TZID=America/Toronto:20250515T143000
DTSTAMP:20260423T190754
CREATED:20250514T174132Z
LAST-MODIFIED:20250514T174132Z
UID:10001588-1747315800-1747319400@www.clrcs.com
SUMMARY:Steps To Inclusion
DESCRIPTION:WEAR YOUR CL COLOURS -BLUE AND GREEN FOR A COMMUNITY INCLUSIVE WALK IN DOWNTOWN RENFREW @ 1:30 PM FROM MAIN OFFICE
URL:https://www.clrcs.com/event/steps-to-inclusion/
LOCATION:Ontario
END:VEVENT
BEGIN:VEVENT
DTSTART;TZID=America/Toronto:20250515T133000
DTEND;TZID=America/Toronto:20250515T143000
DTSTAMP:20260423T190754
CREATED:20241105T152548Z
LAST-MODIFIED:20241105T152548Z
UID:10001076-1747315800-1747319400@www.clrcs.com
SUMMARY:Billiards
DESCRIPTION:Free drop in Billiards every Thursday at the Royal Canadian Legion Renfrew.
URL:https://www.clrcs.com/event/billiards/2025-05-15/
LOCATION:Royal Canadian Legion Branch #148\, 30 Raglan St. S.\, Renfrew\, ON\, K7V1P7\, Canada
END:VEVENT
BEGIN:VEVENT
DTSTART;TZID=America/Toronto:20250514T133000
DTEND;TZID=America/Toronto:20250514T143000
DTSTAMP:20260423T190754
CREATED:20241104T204942Z
LAST-MODIFIED:20250702T154348Z
UID:10000554-1747229400-1747233000@www.clrcs.com
SUMMARY:Free Bingo
DESCRIPTION:Free Bingo every Wednesday at Ma-Te-Way Park at the splash pad. (myFM Centre)
URL:https://www.clrcs.com/event/free-bingo/2025-05-14/
LOCATION:myFM Centre\, 1 Ma-te-way Park Drive\, Renfrew\, Ontario\, K7V 4J4\, Canada
END:VEVENT
BEGIN:VEVENT
DTSTART;TZID=America/Toronto:20250514T113000
DTEND;TZID=America/Toronto:20250514T123000
DTSTAMP:20260423T190754
CREATED:20250114T153839Z
LAST-MODIFIED:20250114T153839Z
UID:10001580-1747222200-1747225800@www.clrcs.com
SUMMARY:Community Friendship Meal
DESCRIPTION:Enjoy a free lunch prepared by students of St. Joseph’s Catholic High School.
URL:https://www.clrcs.com/event/community-friendship-meal-7/
LOCATION:Our Lady of Fatima Catholic Church\, 100 Lisgar Ave.\, Renfrew\, ON\, K7V 4A6\, Canada
END:VEVENT
BEGIN:VEVENT
DTSTART;TZID=America/Toronto:20250514T103000
DTEND;TZID=America/Toronto:20250514T113000
DTSTAMP:20260423T190754
CREATED:20241104T204636Z
LAST-MODIFIED:20241104T204636Z
UID:10000293-1747218600-1747222200@www.clrcs.com
SUMMARY:Opeongo Bowldrome
DESCRIPTION:Join a game for only $4.25!!
URL:https://www.clrcs.com/event/opeongo-bowldrome/2025-05-14/
LOCATION:Opeongo Bowldrome\, 233 Raglan St. S.\, Renfrew\, ON\, K7V1R3\, Canada
END:VEVENT
BEGIN:VEVENT
DTSTART;TZID=America/Toronto:20250512T130000
DTEND;TZID=America/Toronto:20250512T140000
DTSTAMP:20260423T190754
CREATED:20241104T204044Z
LAST-MODIFIED:20241104T204227Z
UID:10000032-1747054800-1747058400@www.clrcs.com
SUMMARY:Renfrew Legion Seniors Darts
DESCRIPTION:Come out for an afternoon of fun and friendship!
URL:https://www.clrcs.com/event/225234/2025-05-12/
LOCATION:Royal Canadian Legion Branch #148\, 30 Raglan St. S.\, Renfrew\, ON\, K7V1P7\, Canada
END:VEVENT
BEGIN:VEVENT
DTSTART;TZID=America/Toronto:20250509T131500
DTEND;TZID=America/Toronto:20250509T143000
DTSTAMP:20260423T190754
CREATED:20241105T152731Z
LAST-MODIFIED:20241105T152731Z
UID:10001336-1746796500-1746801000@www.clrcs.com
SUMMARY:Bowling
DESCRIPTION:Only $4.25 per game!
URL:https://www.clrcs.com/event/bowling/2025-05-09/
LOCATION:Opeongo Bowldrome\, 233 Raglan St. S.\, Renfrew\, ON\, K7V1R3\, Canada
END:VEVENT
BEGIN:VEVENT
DTSTART;TZID=America/Toronto:20250508T133000
DTEND;TZID=America/Toronto:20250508T143000
DTSTAMP:20260423T190754
CREATED:20241105T152548Z
LAST-MODIFIED:20241105T152548Z
UID:10001075-1746711000-1746714600@www.clrcs.com
SUMMARY:Billiards
DESCRIPTION:Free drop in Billiards every Thursday at the Royal Canadian Legion Renfrew.
URL:https://www.clrcs.com/event/billiards/2025-05-08/
LOCATION:Royal Canadian Legion Branch #148\, 30 Raglan St. S.\, Renfrew\, ON\, K7V1P7\, Canada
END:VEVENT
BEGIN:VEVENT
DTSTART;TZID=America/Toronto:20250507T133000
DTEND;TZID=America/Toronto:20250507T143000
DTSTAMP:20260423T190754
CREATED:20241104T204942Z
LAST-MODIFIED:20250702T154348Z
UID:10000553-1746624600-1746628200@www.clrcs.com
SUMMARY:Free Bingo
DESCRIPTION:Free Bingo every Wednesday at Ma-Te-Way Park at the splash pad. (myFM Centre)
URL:https://www.clrcs.com/event/free-bingo/2025-05-07/
LOCATION:myFM Centre\, 1 Ma-te-way Park Drive\, Renfrew\, Ontario\, K7V 4J4\, Canada
END:VEVENT
BEGIN:VEVENT
DTSTART;TZID=America/Toronto:20250507T103000
DTEND;TZID=America/Toronto:20250507T113000
DTSTAMP:20260423T190754
CREATED:20241104T204636Z
LAST-MODIFIED:20241104T204636Z
UID:10000292-1746613800-1746617400@www.clrcs.com
SUMMARY:Opeongo Bowldrome
DESCRIPTION:Join a game for only $4.25!!
URL:https://www.clrcs.com/event/opeongo-bowldrome/2025-05-07/
LOCATION:Opeongo Bowldrome\, 233 Raglan St. S.\, Renfrew\, ON\, K7V1R3\, Canada
END:VEVENT
BEGIN:VEVENT
DTSTART;TZID=America/Toronto:20250505T130000
DTEND;TZID=America/Toronto:20250505T140000
DTSTAMP:20260423T190754
CREATED:20241104T204044Z
LAST-MODIFIED:20241104T204227Z
UID:10000031-1746450000-1746453600@www.clrcs.com
SUMMARY:Renfrew Legion Seniors Darts
DESCRIPTION:Come out for an afternoon of fun and friendship!
URL:https://www.clrcs.com/event/225234/2025-05-05/
LOCATION:Royal Canadian Legion Branch #148\, 30 Raglan St. S.\, Renfrew\, ON\, K7V1P7\, Canada
END:VEVENT
BEGIN:VEVENT
DTSTART;TZID=America/Toronto:20250502T131500
DTEND;TZID=America/Toronto:20250502T143000
DTSTAMP:20260423T190754
CREATED:20241105T152731Z
LAST-MODIFIED:20241105T152731Z
UID:10001335-1746191700-1746196200@www.clrcs.com
SUMMARY:Bowling
DESCRIPTION:Only $4.25 per game!
URL:https://www.clrcs.com/event/bowling/2025-05-02/
LOCATION:Opeongo Bowldrome\, 233 Raglan St. S.\, Renfrew\, ON\, K7V1R3\, Canada
END:VEVENT
BEGIN:VEVENT
DTSTART;TZID=America/Toronto:20250501T133000
DTEND;TZID=America/Toronto:20250501T143000
DTSTAMP:20260423T190754
CREATED:20241105T152548Z
LAST-MODIFIED:20241105T152548Z
UID:10001074-1746106200-1746109800@www.clrcs.com
SUMMARY:Billiards
DESCRIPTION:Free drop in Billiards every Thursday at the Royal Canadian Legion Renfrew.
URL:https://www.clrcs.com/event/billiards/2025-05-01/
LOCATION:Royal Canadian Legion Branch #148\, 30 Raglan St. S.\, Renfrew\, ON\, K7V1P7\, Canada
END:VEVENT
BEGIN:VEVENT
DTSTART;TZID=America/Toronto:20250430T180000
DTEND;TZID=America/Toronto:20250430T200000
DTSTAMP:20260423T190754
CREATED:20250416T160543Z
LAST-MODIFIED:20250416T160543Z
UID:10001585-1746036000-1746043200@www.clrcs.com
SUMMARY:Registered Disability Savings Program Seminar
DESCRIPTION:Ben Oakes\, Sun Life Advisor\, invites you to an exclusive seminar event: \nRegistered Disability Savings Plan \nIn this informative session\, Ben Oakes – Sun Life and Flora Kampogo CPA\, AVP Tax & Estate\, and Mackenzie Investments will be discussing the benefits of RDSPs\, and how they can help equip you with the knowledge to make the most of RDSPs. \nWhen: Wednesday\, April 30\, 2025 at 6 PM\nWhere: Renfrew Curling Rink – 95 Xavier St\, Renfrew\, ON \nAgenda for the evening \n6:00 p.m. – 6:05 p.m. Welcome\n6:05 p.m. – 6:45 p.m. RDSP Presentation\n6:45 p.m. – 7:00 p.m. Break\n7:00 p.m. – 7:40 p.m. DAP Information\n7:40 p.m. – 8:00 p.m. Q & A \nKey Topics Discussed: \n\nWho can qualify for an RDSP\nQualifications for the Disability Tax Credit\nHow does the Canada Disability Savings Grant (CDSG) and Canada Disability Savings Bond (CDSB) work\nHow to maximize grants\nAnd much more …\n\nFeel free to pass along this invitation to family members or friends who you think could benefit from learning more about RDSPs. \nClick here to register \nPlease RSVP By Friday\, April 25\, 2025 \nWe hope to see you there.
URL:https://www.clrcs.com/event/registered-disability-savings-program-seminar/
LOCATION:Renfrew Curling Rink\, 95 Xavier Street\, Renfrew\, Ontario\, K7V 1L3\, Canada
END:VEVENT
BEGIN:VEVENT
DTSTART;TZID=America/Toronto:20250430T133000
DTEND;TZID=America/Toronto:20250430T143000
DTSTAMP:20260423T190754
CREATED:20241104T204942Z
LAST-MODIFIED:20250702T154348Z
UID:10000552-1746019800-1746023400@www.clrcs.com
SUMMARY:Free Bingo
DESCRIPTION:Free Bingo every Wednesday at Ma-Te-Way Park at the splash pad. (myFM Centre)
URL:https://www.clrcs.com/event/free-bingo/2025-04-30/
LOCATION:myFM Centre\, 1 Ma-te-way Park Drive\, Renfrew\, Ontario\, K7V 4J4\, Canada
END:VEVENT
BEGIN:VEVENT
DTSTART;TZID=America/Toronto:20250430T103000
DTEND;TZID=America/Toronto:20250430T113000
DTSTAMP:20260423T190754
CREATED:20241104T204636Z
LAST-MODIFIED:20241104T204636Z
UID:10000291-1746009000-1746012600@www.clrcs.com
SUMMARY:Opeongo Bowldrome
DESCRIPTION:Join a game for only $4.25!!
URL:https://www.clrcs.com/event/opeongo-bowldrome/2025-04-30/
LOCATION:Opeongo Bowldrome\, 233 Raglan St. S.\, Renfrew\, ON\, K7V1R3\, Canada
END:VEVENT
BEGIN:VEVENT
DTSTART;TZID=America/Toronto:20250428T130000
DTEND;TZID=America/Toronto:20250428T140000
DTSTAMP:20260423T190754
CREATED:20241104T204044Z
LAST-MODIFIED:20241104T204227Z
UID:10000030-1745845200-1745848800@www.clrcs.com
SUMMARY:Renfrew Legion Seniors Darts
DESCRIPTION:Come out for an afternoon of fun and friendship!
URL:https://www.clrcs.com/event/225234/2025-04-28/
LOCATION:Royal Canadian Legion Branch #148\, 30 Raglan St. S.\, Renfrew\, ON\, K7V1P7\, Canada
END:VEVENT
BEGIN:VEVENT
DTSTART;TZID=America/Toronto:20250425T131500
DTEND;TZID=America/Toronto:20250425T143000
DTSTAMP:20260423T190754
CREATED:20241105T152731Z
LAST-MODIFIED:20241105T152731Z
UID:10001334-1745586900-1745591400@www.clrcs.com
SUMMARY:Bowling
DESCRIPTION:Only $4.25 per game!
URL:https://www.clrcs.com/event/bowling/2025-04-25/
LOCATION:Opeongo Bowldrome\, 233 Raglan St. S.\, Renfrew\, ON\, K7V1R3\, Canada
END:VEVENT
BEGIN:VEVENT
DTSTART;TZID=America/Toronto:20250424T133000
DTEND;TZID=America/Toronto:20250424T143000
DTSTAMP:20260423T190754
CREATED:20241105T152548Z
LAST-MODIFIED:20241105T152548Z
UID:10001073-1745501400-1745505000@www.clrcs.com
SUMMARY:Billiards
DESCRIPTION:Free drop in Billiards every Thursday at the Royal Canadian Legion Renfrew.
URL:https://www.clrcs.com/event/billiards/2025-04-24/
LOCATION:Royal Canadian Legion Branch #148\, 30 Raglan St. S.\, Renfrew\, ON\, K7V1P7\, Canada
END:VEVENT
BEGIN:VEVENT
DTSTART;TZID=America/Toronto:20250423T133000
DTEND;TZID=America/Toronto:20250423T143000
DTSTAMP:20260423T190754
CREATED:20241104T204942Z
LAST-MODIFIED:20250702T154348Z
UID:10000551-1745415000-1745418600@www.clrcs.com
SUMMARY:Free Bingo
DESCRIPTION:Free Bingo every Wednesday at Ma-Te-Way Park at the splash pad. (myFM Centre)
URL:https://www.clrcs.com/event/free-bingo/2025-04-23/
LOCATION:myFM Centre\, 1 Ma-te-way Park Drive\, Renfrew\, Ontario\, K7V 4J4\, Canada
END:VEVENT
BEGIN:VEVENT
DTSTART;TZID=America/Toronto:20250423T103000
DTEND;TZID=America/Toronto:20250423T113000
DTSTAMP:20260423T190754
CREATED:20241104T204636Z
LAST-MODIFIED:20241104T204636Z
UID:10000290-1745404200-1745407800@www.clrcs.com
SUMMARY:Opeongo Bowldrome
DESCRIPTION:Join a game for only $4.25!!
URL:https://www.clrcs.com/event/opeongo-bowldrome/2025-04-23/
LOCATION:Opeongo Bowldrome\, 233 Raglan St. S.\, Renfrew\, ON\, K7V1R3\, Canada
END:VEVENT
BEGIN:VEVENT
DTSTART;TZID=America/Toronto:20250421T130000
DTEND;TZID=America/Toronto:20250421T140000
DTSTAMP:20260423T190754
CREATED:20241104T204044Z
LAST-MODIFIED:20241104T204227Z
UID:10000029-1745240400-1745244000@www.clrcs.com
SUMMARY:Renfrew Legion Seniors Darts
DESCRIPTION:Come out for an afternoon of fun and friendship!
URL:https://www.clrcs.com/event/225234/2025-04-21/
LOCATION:Royal Canadian Legion Branch #148\, 30 Raglan St. S.\, Renfrew\, ON\, K7V1P7\, Canada
END:VEVENT
BEGIN:VEVENT
DTSTART;TZID=America/Toronto:20250418T131500
DTEND;TZID=America/Toronto:20250418T143000
DTSTAMP:20260423T190754
CREATED:20241105T152731Z
LAST-MODIFIED:20241105T152731Z
UID:10001333-1744982100-1744986600@www.clrcs.com
SUMMARY:Bowling
DESCRIPTION:Only $4.25 per game!
URL:https://www.clrcs.com/event/bowling/2025-04-18/
LOCATION:Opeongo Bowldrome\, 233 Raglan St. S.\, Renfrew\, ON\, K7V1R3\, Canada
END:VEVENT
BEGIN:VEVENT
DTSTART;TZID=America/Toronto:20250417T133000
DTEND;TZID=America/Toronto:20250417T143000
DTSTAMP:20260423T190754
CREATED:20241105T152548Z
LAST-MODIFIED:20241105T152548Z
UID:10001072-1744896600-1744900200@www.clrcs.com
SUMMARY:Billiards
DESCRIPTION:Free drop in Billiards every Thursday at the Royal Canadian Legion Renfrew.
URL:https://www.clrcs.com/event/billiards/2025-04-17/
LOCATION:Royal Canadian Legion Branch #148\, 30 Raglan St. S.\, Renfrew\, ON\, K7V1P7\, Canada
END:VEVENT
BEGIN:VEVENT
DTSTART;TZID=America/Toronto:20250416T133000
DTEND;TZID=America/Toronto:20250416T143000
DTSTAMP:20260423T190754
CREATED:20241104T204942Z
LAST-MODIFIED:20250702T154348Z
UID:10000550-1744810200-1744813800@www.clrcs.com
SUMMARY:Free Bingo
DESCRIPTION:Free Bingo every Wednesday at Ma-Te-Way Park at the splash pad. (myFM Centre)
URL:https://www.clrcs.com/event/free-bingo/2025-04-16/
LOCATION:myFM Centre\, 1 Ma-te-way Park Drive\, Renfrew\, Ontario\, K7V 4J4\, Canada
END:VEVENT
BEGIN:VEVENT
DTSTART;TZID=America/Toronto:20250416T103000
DTEND;TZID=America/Toronto:20250416T113000
DTSTAMP:20260423T190754
CREATED:20241104T204636Z
LAST-MODIFIED:20241104T204636Z
UID:10000289-1744799400-1744803000@www.clrcs.com
SUMMARY:Opeongo Bowldrome
DESCRIPTION:Join a game for only $4.25!!
URL:https://www.clrcs.com/event/opeongo-bowldrome/2025-04-16/
LOCATION:Opeongo Bowldrome\, 233 Raglan St. S.\, Renfrew\, ON\, K7V1R3\, Canada
END:VEVENT
BEGIN:VEVENT
DTSTART;TZID=America/Toronto:20250414T130000
DTEND;TZID=America/Toronto:20250414T140000
DTSTAMP:20260423T190754
CREATED:20241104T204044Z
LAST-MODIFIED:20241104T204227Z
UID:10000028-1744635600-1744639200@www.clrcs.com
SUMMARY:Renfrew Legion Seniors Darts
DESCRIPTION:Come out for an afternoon of fun and friendship!
URL:https://www.clrcs.com/event/225234/2025-04-14/
LOCATION:Royal Canadian Legion Branch #148\, 30 Raglan St. S.\, Renfrew\, ON\, K7V1P7\, Canada
END:VEVENT
BEGIN:VEVENT
DTSTART;TZID=America/Toronto:20250411T131500
DTEND;TZID=America/Toronto:20250411T143000
DTSTAMP:20260423T190754
CREATED:20241105T152731Z
LAST-MODIFIED:20241105T152731Z
UID:10001332-1744377300-1744381800@www.clrcs.com
SUMMARY:Bowling
DESCRIPTION:Only $4.25 per game!
URL:https://www.clrcs.com/event/bowling/2025-04-11/
LOCATION:Opeongo Bowldrome\, 233 Raglan St. S.\, Renfrew\, ON\, K7V1R3\, Canada
END:VEVENT
BEGIN:VEVENT
DTSTART;TZID=America/Toronto:20250410T133000
DTEND;TZID=America/Toronto:20250410T143000
DTSTAMP:20260423T190754
CREATED:20241105T152548Z
LAST-MODIFIED:20241105T152548Z
UID:10001071-1744291800-1744295400@www.clrcs.com
SUMMARY:Billiards
DESCRIPTION:Free drop in Billiards every Thursday at the Royal Canadian Legion Renfrew.
URL:https://www.clrcs.com/event/billiards/2025-04-10/
LOCATION:Royal Canadian Legion Branch #148\, 30 Raglan St. S.\, Renfrew\, ON\, K7V1P7\, Canada
END:VEVENT
BEGIN:VEVENT
DTSTART;TZID=America/Toronto:20250409T133000
DTEND;TZID=America/Toronto:20250409T143000
DTSTAMP:20260423T190754
CREATED:20241104T204942Z
LAST-MODIFIED:20250702T154348Z
UID:10000549-1744205400-1744209000@www.clrcs.com
SUMMARY:Free Bingo
DESCRIPTION:Free Bingo every Wednesday at Ma-Te-Way Park at the splash pad. (myFM Centre)
URL:https://www.clrcs.com/event/free-bingo/2025-04-09/
LOCATION:myFM Centre\, 1 Ma-te-way Park Drive\, Renfrew\, Ontario\, K7V 4J4\, Canada
END:VEVENT
END:VCALENDAR