BEGIN:VCALENDAR
VERSION:2.0
PRODID:-//CLRCS - ECPv6.15.20//NONSGML v1.0//EN
CALSCALE:GREGORIAN
METHOD:PUBLISH
X-ORIGINAL-URL:https://www.clrcs.com
X-WR-CALDESC:Events for CLRCS
REFRESH-INTERVAL;VALUE=DURATION:PT1H
X-Robots-Tag:noindex
X-PUBLISHED-TTL:PT1H
BEGIN:VTIMEZONE
TZID:America/Toronto
BEGIN:DAYLIGHT
TZOFFSETFROM:-0500
TZOFFSETTO:-0400
TZNAME:EDT
DTSTART:20250309T070000
END:DAYLIGHT
BEGIN:STANDARD
TZOFFSETFROM:-0400
TZOFFSETTO:-0500
TZNAME:EST
DTSTART:20251102T060000
END:STANDARD
BEGIN:DAYLIGHT
TZOFFSETFROM:-0500
TZOFFSETTO:-0400
TZNAME:EDT
DTSTART:20260308T070000
END:DAYLIGHT
BEGIN:STANDARD
TZOFFSETFROM:-0400
TZOFFSETTO:-0500
TZNAME:EST
DTSTART:20261101T060000
END:STANDARD
BEGIN:DAYLIGHT
TZOFFSETFROM:-0500
TZOFFSETTO:-0400
TZNAME:EDT
DTSTART:20270314T070000
END:DAYLIGHT
BEGIN:STANDARD
TZOFFSETFROM:-0400
TZOFFSETTO:-0500
TZNAME:EST
DTSTART:20271107T060000
END:STANDARD
END:VTIMEZONE
BEGIN:VEVENT
DTSTART;TZID=America/Toronto:20260108T133000
DTEND;TZID=America/Toronto:20260108T143000
DTSTAMP:20260422T190229
CREATED:20241105T152548Z
LAST-MODIFIED:20241105T152548Z
UID:10001110-1767879000-1767882600@www.clrcs.com
SUMMARY:Billiards
DESCRIPTION:Free drop in Billiards every Thursday at the Royal Canadian Legion Renfrew.
URL:https://www.clrcs.com/event/billiards/2026-01-08/
LOCATION:Royal Canadian Legion Branch #148\, 30 Raglan St. S.\, Renfrew\, ON\, K7V1P7\, Canada
END:VEVENT
END:VCALENDAR